{"text_format":"1","workbook":"xlsx","n_sheets":4,"sheets":["constant L","TIME EVOLUTION","angular velocity ","WORK"],"not_rendered":{"charts":8,"images":0,"macros":1,"external_links":0,"defined_names":47,"comments":0,"pivot_tables":0},"unopened":[{"sheet":"angular velocity ","index":2,"reason":"not_a_worksheet"},{"sheet":"WORK","index":3,"reason":"not_a_worksheet"}],"bounds":{"document_bytes":16777216,"sheet_cells":100000,"rows_first":2000,"rows_last":500,"rows_between":2000,"halvings":0,"cell_chars":16384,"cell_head_chars":4096},"cells_cut":0,"cells_raw":0,"read":"whole","date_system":"1900"}

{"sheet":"constant L","index":0,"n_rows":290,"n_cols":73,"rows_kept":290,"cut":false,"hidden":false,"merged":[]}
[null,"FRICTION",{"$f":"TRUE","v":true}]
[{"$f":"1/2*(INERTIA+mazalazo*($C2^2+$D2^2))*$I2^2","v":0},null,null,null,null,null,null,null,null,null,null,null,null,null,null,null,null,null,"vxrelative = vx-omega*y",null,null,"L-I*omega+mass*x*vy-mass*y*vx"]
[null,"MASS",null,null,3,null,null,null,null,null,null,null,null,null,null,null,null,null,"vyrelative=vy-omega*x",null,null,"domega/dt=mass*(x*dvy/dt-ydvx/et)/inertia"]
[]
[null,"OMEGA",null,null,4,{"$f":"-omega0","v":-4}]
[]
[null,"INERTIA",null,null,19,null,null,null,null,null,null,null,null,null,null,null,null,null,null,null,null,null,null,null,";+Yom∙dω/dt²-Xom∙dω/dt"]
[]
[null,"V0",{"$f":"-exactome*1","v":4}]
[null,null,null,null,null,null,null,null,null,null,null,null,null,null,null,null,null,null,null,null,null,null,null,null,null,null,null,null,null,null,null,null,null,null,null,null,null,null,"TEL_AKTINA",6.3129781853900804,-0.38803361677321757,"TEL_OMEGA"]
[null,"L0",{"$f":"(INERTIA+mazalazo*1)*exactome-mazalazo*1*v0","v":-100}]
[]
[null,"friction",null,null,3]
[null,null,null,null,null,null,null,null,null,null,37]
[null,null,null,null,null,null,null,null,null,null,"MOVE OBJECT"]
[null,null,null,null,null,null,null,null,null,null,null,null,null,null,null,null,null,null,null,null,null,null,null,null,null,null,{"$f":"ISERR(xtomi11)","v":false}]
[]
[null,null,null,null,null,null,null,null,null,null,null,null,null,null,null,null,null,null,null,null,{"$f":"AX","v":-1.8634779208275232},{"$f":"AY","v":-2.3510529637990571},null,"vom^2",{"$f":"VXOM^2+VYOM^2","v":19.167052236906443},null,{"$f":"AXOM^2+AYOM^2","v":21.693260638282151}]
[null,null,null,null,null,null,null,null,null,null,"Deltax = 6 * Pi / Abs(omega0) / ARFOR",null,null,null,null,null,null,null,null,null,"ACCELERATION",null,null,"vom^2/R",{"$f":"Y18/aktistomon","v":4.7745190644685422},"R =Vom^2/Aom",{"$f":"IF(AA18<>0,(VXOM^2+VYOM^2)/SQRT(AXOM^2+AYOM^2),10000000)","v":4.1152185953850804}]
[null,null,null,null,null,null,null,null,null,"DT",{"$f":"6*PI()/ABS(exactome)/250","v":1.8849555921538759E-2},null,null,null,null,null,null,null,null,null,{"$f":"X","v":2.6280496594085938},{"$f":"Y","v":0.29610899190842949},null,null,null,null,{"$f":"IF(AA19<aktistomon/10,Y19*1/SQRT(1+klisia11^2),AXOM/10)","v":4.8390693498787926E-2},{"$f":"IF(AA19<aktistomon/10,Y19*klisia11/SQRT(1+klisia11^2),AYOM/10)","v":-0.46323962175695621}]
[null,null,null,null,null,null,null,null,null,null,null,null,"OMEGA=(Ltotal+mass*(y*vx-x*vy))/Inertia",null,null,null,null,null,null,null,{"$f":"X+AX","v":0.76457173858107064},{"$f":"Y+AY","v":-2.0549439718906277},null,null,null,null,{"$f":"AXOM","v":0.48390693498787929},{"$f":"AYOM","v":-4.6323962175695623}]
[null,null,null,null,null,null,null,null,null,null,null,null,null,null,null,null,null,null,null,null,{"$f":"-1/20*V18+18/20*U18+U20","v":1.0684721788537759},{"$f":"1/20*U18+18/20*V18+V20","v":-1.9130125715520983},null,null,null,null,{"$f":"IF(ISERR(xtomi11),0, SIGN(xtomi11-XOM)*ABS(AA20))","v":-4.8390693498787926E-2},{"$f":"IF(ISERR(ytomi11),0,SIGN(ytomi11-YOM)*ABS(AB20))","v":-0.46323962175695621}]
[null,null,null,null,null,null,null,null,null,null,null,null,null,null,null,null,null,null,null,null,{"$f":"1/20*V18+18/20*U18+U20","v":0.83336688247387003},{"$f":"-1/20*U18+18/20*V18+V20","v":-1.7266647794693455},null,null,{"$f":"VXOM","v":-4.3733822934273912},{"$f":"VYOM","v":0.20144367064321944},{"$f":"AA22","v":-4.8390693498787926E-2},{"$f":"AB22","v":-0.46323962175695621},null,null,null,null,null,"xmes11"]
[null,null,null,null,null,null,null,null,null,null,null,null,"Ltotal =( Inertai+m*r^2) * omEGa - mass * y * vx + mass * x * Vy",null,null,null,null,null,null,null,{"$f":"U21","v":0.76457173858107064},{"$f":"V21","v":-2.0549439718906277},null,null,"VELOCITY ROTATED",null,"ACCELERATION ROTATED",null,null,null,{"$f":"AE25-1","v":35},{"$f":"VLOOKUP(AE24,B40:F290,4,FALSE)","v":-1.6132189423002616},{"$f":"VLOOKUP(AE24,B40:G290,5,FALSE)","v":1.946713668382424},{"$f":"(xa_1+xa_2)/2","v":-1.7354766371588775},{"$f":"(ya_1+ya_2)/2","v":1.9566720692810198}]
[null,null,null,null,null,null,null,null,null,null,null,null,"0=(inertia+mass*(x^2+y^2)*domega/dt-mass*(dy/dt*x-dx/dt*y)+2*omega*m*(x*dx/dt+y*dy/dt)",null,null,null,null,null,null,null,null,null,null,null,{"$f":"XOM","v":-1.7762162532927737},{"$f":"YOM","v":1.9594339409495878},{"$f":"XOM","v":-1.7762162532927737},{"$f":"YOM","v":1.9594339409495878},null,null,{"$f":"AE26-1","v":36},{"$f":"VLOOKUP(AE25,B41:F291,4,FALSE)","v":-1.6947370210249812},{"$f":"VLOOKUP(AE25,B41:G291,5,FALSE)","v":1.953910197612452},{"$f":"(xa_2+xa_3)/2","v":-1.6539779816626214},{"$f":"(ya_2+ya_3)/2","v":1.9503119329974381}]
[null,null,null,null,null,null,null,null,null,null,null,null,null,{"$f":"FIXED(AKT_KAMP,1,)","v":"5,0"},null,null,null,null,null,null,{"$f":"X","v":2.6280496594085938},{"$f":"Y","v":0.29610899190842949},"CURRENT XY",null,{"$f":"XOM+VXOM","v":-6.1495985467201653},{"$f":"YOM+VYOM","v":2.1608776115928072},{"$f":"XOM+AA23","v":-1.8246069467915615},{"$f":"YOM+AB23","v":1.4961943191926315},null,null,{"$f":"E33","v":37},{"$f":"VLOOKUP(AE26,B42:F292,4,FALSE)","v":-1.7762162532927737},{"$f":"VLOOKUP(AE26,B42:G292,5,FALSE)","v":1.9594339409495878},"klisia11",{"$f":"-(xa_2-xa_1)/(ya_2-ya_1)","v":14.75072741342135}]
[null,null,null,null,{"$f":"CELL(\"row\",E33)","v":33},null,null,null,null,null,null,null,null,null,{"$f":"ABS(FIXED(O28,1))","v":0.5},{"$f":"ABS(FIXED(P28,1))","v":4.8},6.4,1,null,null,{"$f":"X","v":2.6280496594085938},{"$f":"V26","v":0.29610899190842949},null,null,{"$f":"-1/20*Z23+18/20*Y23+Y25","v":-5.7223325009095873},{"$f":"1/20*Y23+18/20*Z23+Z25","v":1.9220641298571157},{"$f":"-1/20*AB23+18/20*AA23+AA25","v":-1.7966058963538349},{"$f":"1/20*AA23+18/20*AB23+AB25","v":1.5400987466933878},null,null,null,null,null,"klisia22",{"$f":"-(xa_3-xa_2)/(ya_3-ya_2)","v":11.327415774896034}]
[null,null,null,null,null,null,null,null,null,null,null,null,{"$f":"MAX(N28:R28)","v":6.3745470512461795},{"$f":"AKT_KAMP","v":5.0086967210741093},{"$f":"ABS(O30)","v":0.51575229719590088},{"$f":"ABS(P30)","v":4.7984735363753366},6.3745470512461795,1,{"$f":"FIXED(M28,2,FALSE)","v":"6,37"},null,{"$f":"VX","v":3.3247924164920577},{"$f":"VY","v":-1.9416205403437019},"VELOCITY",null,{"$f":"1/20*Z23+18/20*Y23+Y25","v":-5.7021881338452651},{"$f":"-1/20*Y23+18/20*Z23+Z25","v":2.359402359199855},{"$f":"1/20*AB23+18/20*AA23+AA25","v":-1.8429298585295306},{"$f":"-1/20*AA23+18/20*AB23+AB25","v":1.5449378160432665},null,null,null,"xtomi11",{"$f":"((ymess11-ymess22)+klisia22*xmess22-klisia11*xmess11)/(klisia22-klisia11)","v":-2.0070059018988853},"ytomi11",{"$f":"ymess11+klisia11*(xtomi11-xmess11)","v":-2.0485820996655568}]
[null,null,null,null,null,null,null,null,null,null,null,null,null,null,"minxlab","maxlab","minylab","maxylab",{"$f":"-S28","v":-6.37},null,"VX","VY",null,null,{"$f":"Y26","v":-6.1495985467201653},{"$f":"Z26","v":2.1608776115928072},{"$f":"AA26","v":-1.8246069467915615},{"$f":"AB26","v":1.4961943191926315},null,null,null,"aktistomon",{"$f":"IF(AH29,SQRT((xtomi11-xmess22)^2+(ytomi11-ymess22)^2),1000000)","v":4.01444668627372},{"$f":"NOT(AI29)","v":true},{"$f":"AND(ABS(AF25-AF24)<0.0000000001,ABS(AF25-AF26)<0.0000000001)","v":false}]
[null,null,null,null,null,null,null,null,null,null,null,null,null,null,{"$f":"MIN(C40:C290)","v":-0.51575229719590088},{"$f":"MAX(C40:C290)","v":4.7984735363753366},{"$f":"MIN(D40:D290)","v":-6.3745470512461795},{"$f":"MAX(D40:D290)","v":1},null,null,{"$f":"X","v":2.6280496594085938},{"$f":"Y","v":0.29610899190842949}]
[null,null,null,null,null,null,null,null,"exacome(kkk) = (Ltotal - mass * (ThesiY(kkk) * taxYx(kkk) - thesiX(kkk) * taxYy(kkk)) * epilogi - mass * Radius * omega0 * (1 - epilogi)) / Inertia 'ç ôéìÞ ôçò ù ìå áñ÷Þ äéáôÞñçóçò",null,null,null,null,null,"minxrot","maxxrot","miniyro","maxyrto",{"$f":"MAX(N33:R33)","v":6.1},null,{"$f":"X+VX","v":5.9528420759006515},{"$f":"Y+VY","v":-1.6455115484352725}]
[null,null,null,null,null,"X","Y","VX","VY","AX","AY",null,null,null,{"$f":"MIN(E40:E290)","v":-6.0863578362584239},{"$f":"MAX(E40:E290)","v":0},{"$f":"MIN(F40:F290)","v":1},{"$f":"MAX(F40:F290)","v":1.9668660957075415},{"$f":"-S31","v":-6.1},null,{"$f":"-1/20*V28+18/20*U28+U30","v":5.7174438612686309},{"$f":"1/20*U28+18/20*V28+V30","v":-1.2851098735762994},null,null,null,null,null,null,null,null,null,null,null,null,null,null,null,null,null,null,null,null,null,null,null,null,null,null,null,null,null,null,null,null,null,null,null,null,null,null,null,null,null,null,null,null,"L=I*omega+m*(xdy/dt-y*dx/dt)"]
[null,null,null,null,{"$f":"VLOOKUP(1,A40:R288,2,FALSE)","v":37},{"$f":"VLOOKUP(1,A40:AJ288,34,FALSE)","v":2.6280496594085938},{"$f":"VLOOKUP(1,A40:AQ288,35,FALSE)","v":0.29610899190842949},{"$f":"VLOOKUP(1,A40:U288,7,FALSE)","v":3.3247924164920577},{"$f":"VLOOKUP(1,A40:U288,8,FALSE)","v":-1.9416205403437019},{"$f":"VLOOKUP(1,A40:U288,10,FALSE)","v":-1.8634779208275232},{"$f":"VLOOKUP(1,A40:U288,11,FALSE)","v":-2.3510529637990571},null,"L-I*omega+mass*x*vy-mass*y*vx",{"$f":"N27","v":0},{"$f":"ABS(FIXED(O32,1))","v":6.1},{"$f":"ABS(FIXED(P32,1))","v":0},1,2,null,null,{"$f":"1/20*V28+18/20*U28+U30","v":5.5232818072342607},{"$f":"-1/20*U28+18/20*V28+V30","v":-1.6175891152255051},null,null,null,null,null,null,null,null,null,null,null,null,null,null,null,null,null,null,null,null,null,"Axom = ax*cosf+ay*sinf+2Vyom*omega+Xom*omega^2+Yom*domega/dt",null,null,null,null,null,null,null,null,null,null,null,null,null,null,null,null,null,null,null,null,null,null,"0=I*domega/dt+m*(xdvy/dt-y*dvx/dt)"]
[null,null,null,null,{"$f":"VLOOKUP(1,A40:R289,5,FALSE)","v":-1.7762162532927737},{"$f":"VLOOKUP(1,A40:S289,6,FALSE)","v":1.9594339409495878},{"$f":"VX*COS(F)+VY*SIN(F)+YOM*OMEGA","v":-4.3733822934273912},{"$f":"-VX*SIN(F)+VY*COS(F)-XOM*OMEGA","v":0.20144367064321944},{"$f":"AX*COS(F)+AY*SIN(F)+2*VYOM*OMEGA+XOM*OMEGA^2+YOM*DOMEGADT","v":0.48390693498787929},{"$f":"-AX*SIN(F)+AY*COS(F)-2*VXOM*OMEGA+YOM*OMEGA^2-XOM*DOMEGADT","v":-4.6323962175695623},{"$f":"VLOOKUP(1,A40:X289,15,FALSE)","v":-2.194988702314761},{"$f":"VLOOKUP(1,A40:Y289,12,FALSE)","v":-2.0443318250142148},{"$f":"VLOOKUP(1,A40:Z289,14,FALSE)","v":2.9263794513206109},"domega/dt=(mass*(dy/dt*x-dx/dt)-2*omega*mass*(x*dx/dt+y*dy/dt))/(Inertia+mass*(x^2+y^2))",null,null,null,null,null,null,{"$f":"U31","v":5.9528420759006515},{"$f":"V31","v":-1.6455115484352725},null,null,null,null,null,null,null,null,null,null,null,null,null,null,null,null,"xmes1 = 0.5 * (xA1 + xa2): xmes2 = 0.5 * (xa2 + xa3)",null,null,null,null,"Ayom = =ax*sinf+ay*cosf-2*vxom*omega+Yom*omega^2=Xom*domega/dt",null,null,null,null,null,null,null,null,null,null,null,null,null,null,null,null,null,null,null,null,null,null,"domega/dt=m(ydvx/dt-x*dvy/dt)/*"]
[null,null,{"$f":"G40-D35","v":0},{"$f":"-D40*L40","v":4},"XOM","YOM","VXOM","VYOM","AXOM","AYOM","F","OMEGA","DOMEGADT ",null,null,null,"Vxom=vx∙cosφ+vy∙sinφ+Yom∙ω",null,null,null,null,null,null,null,null,null,null,null,null,null,null,null,null,null,null,null,null,null,"ymes1 = 0.5 * (Ya1 + ya2): ymes2 = 0.5 * (ya2 + ya3)",null,null,null,null,null,null,null,null,null,null,null,null,null,null,null,null,null,null,null,null,null,null,null,"domegadt = mit * mass * (y11 * vXrElaTive - x11 * vYreLative) * epilogi / (Inertia * Sqr(vXrElaTive ^ 2 + vYreLative ^ 2)) 'ìåôáâïëÞ ôçò ù ëüãù ñïðÞò ôçò ôñéâÞò"]
[{"$f":"SUM(A40:A289)","v":1},{"$f":"E33+40","v":77},{"$f":"G41+L41*D41","v":-7.0182346580898169E-3},{"$f":"-D41*L41","v":3.9955371680734122},null,null,null,null,null,"vxr=vx+y*omega",null,"domega/dt=mass*(x*dvy/dt-ydvx/et)/inertia",null,null,null,null,"Vyom=-vx∙sinφ+vy∙cosφ-Xom∙ω",null,null,null,"Axom=ax∙cosφ+ay∙sinφ+2Vyom∙ω+Xom∙ω²+Yom∙dω/dt",null,null,null,null,null,null,null,null,null,null,null,null,"X=XOM*COSF-YOM*SINF",null,null,null,null,null,null,null,null,null,null,{"$f":"DT","v":1.8849555921538759E-2},null,null,null,null,null,null,null,null,null,null,null,null,null,null,null,null,null,"domegadt = mit * (thesiY(kkk) * vXrelative - thesiX(kkk) * vYrelative) * epilogi / (Inertia * Sqr(vXrelative ^ 2 + vYrelative ^ 2)) 'ìåôáâïëÞ ôçò ù ëüãù ñïðÞò ôçò ôñéâÞò"]
[null,null,{"$f":"G42+L42*D42","v":7.9063425077445793E-3},null,null,null,null,"taxyy",null,"vyr=vy-x*omega",null,null,"DOMEGADT=MASS*(Y*AX-X*AY)/INERTIA",null,null,null,null,null,null,null,"Ayom=-ax∙sinφ+ay∙cosφ-2Vxom∙ω+Yom∙ω²-Xom∙dω/dt",null,null,null,null,{"$f":"VLOOKUP(1,A40:AG289,17,FALSE)","v":-19.869595096998701},null,null,null,null,null,null,null,"Y=XOM*SINF+YOM*COSF",null,null,null,null,"XA1",null,null,null,null,null,null,null,null,null,null,null,null,null,null,null,null,null,null,null,null,null,"ergocomplem(kkk) = ergocomplem(kkk - 1) + mass * (omega * r12 + thesiX(kkk) * taxYy(kkk) - thesiY(kkk) * taxYx(kkk)) * domegadt * deltax"]
[{"$f":"SUM(A40:A289)","v":1},"kkk","THESIX(K)","THESIY(K)","THESIXOM","THESIYOM","taxyx(kkk)","taxyy","omeg","-mit*vxr/v","-mit*vyr/v","Φ EXCELL","domega/dt","domega/dt=mass*(x*dvy/dt-ydvx/et)/inertia","φ","TAXXOM","ergo trivis","ergofygoke","AXOM","AYOM","TAXYOM",null,null,null,"RX",{"$f":"VLOOKUP(1,A40:AG290,31,FALSE)","v":0.10222393056373587},"RY",{"$f":"VLOOKUP(1,A40:AG290,32,FALSE)","v":-4.0292316884408717},"AKT_KAMP",{"$f":"VLOOKUP(1,A40:AI290,33,FALSE)","v":5.0086967210741093},null,null,null,null,null,null,null,null,null,null,"ergocomplem(KKK) = ergocomplem(KKK - 1) +mass* (thesiYom(KKK) * taxXom(KKK) - thesiXom(KKK) * taxYom(KKK)) * DOMEGADT * Deltax"]
[1,{"$f":"A39+1","v":2},{"$f":"B39+1","v":3},{"$f":"C39+1","v":4},5,6,7,8,9,{"$f":"I39+1","v":10},11,12,13,14,15,16,17,18,19,20,21,"CIRCLE",null,null,"XMESI1","XMESI2","YMESI1","YMESI2","KLISIA1","KLISIA2","XTOMII11","YTOMI11","AKTINATOMON","X TLEIKO","Y_TELIKO","TEL_F",null,"If exacome(foreSxtypo) > omeag0 / 10 And exacome(foreSxtypo + 1) < omega0 / 10 Then","X",null,"circle",null,null,"ergo trivis sto lab","ergo complementary",null,"XRONOS",null,"KINETIC ENERGY","ROTATIONAL ENERGY","COMPLEMENTARY","FRICTION IN LAB","friction rotational","ROT+KIN","FRI+COM+FUGAL","TOTAL",null,"t","vxre","vyreo","vrel","dvx/dt","dvy/dt","ergoomplementary","x","y","xom","yom","vx","vy","domegadt","do/dt from difference"]
[{"$f":"IF(B40=XRON,1,0)","v":0},0,0,1,0,1,4,0,-4,{"$f":"-IF((G40+L40*D40)^2+(H40-L40*C40)^2<>0,mew*(G40+L40*D40)/SQRT((G40+L40*D40)^2+(H40-L40*C40)^2),0)","v":0},{"$f":"-mew*(H40-C40*L40)/SQRT((G40+D40*L40)^2+(I40-L40*C40)^2)","v":0},-4,null,{"$f":"IF(Q40<>0,mazalazo*(D40*J40-C40*K40)/INERTIA,0)","v":0},0,0,0,0,{"$f":"J40*COS(O40)+K40*SIN(O40)+2*U40*L40^2-F40*M40","v":0},{"$f":"-J40*SIN(O40)+K40*COS(O40)-2*P40*L40^2-C40*N40","v":0},{"$f":"-G40*SIN(O40)+H40*COS(O40)-E40*L40","v":0},{"$f":"0","v":0},{"$f":"IF(ERGOTRIVIS<>0,RX+AKT_KAMP*COS(V40),TEL_AKTINA*COS(V40))","v":5.1109206516378451},{"$f":"IF(ERGOTRIVIS<>0,RY+AKT_KAMP*SIN(V40),TEL_AKTINA*SIN(V40))","v":-4.0292316884408717},null,null,null,null,null,null,null,null,null,{"$f":"C40","v":0},{"$f":"D40","v":1},null,null,null,null,{"$f":"B40*DT","v":0},{"$f":"V40","v":0},{"$f":"xtomi11+aktistomon*COS(AO40)","v":2.0074407843748348},{"$f":"ytomi11+aktistomon*SIN(AO40)","v":-2.0485820996655568},0,0,{"$f":"0","v":0},0,0,{"$f":"1/2*mazalazo*(P40^2+U40^2)","v":0},{"$f":"1/2*(INERTIA+mazalazo*($C40^2+$D40^2))*$I40^2","v":176},0,{"$f":"AR40","v":0},{"$f":"IF((P40^2+U40^2)<>0,mazalazo*mew*(P40^2+U40^2)/SQRT(P40^2+U40^2)*DT,0)","v":0},{"$f":"AW40+AX40","v":176},null,null,null,0,{"$f":"G40-(-D40*L40)","v":0},{"$f":"H40-(C40*I40)","v":0},{"$f":"SQRT(BG40^2+BH40^2)","v":0},null,null,0,{"$f":"C40","v":0},1,0,1,4,0,0]
[0,1,7.5432495965562063E-2,0.99900875849341886,-2.1532938293707139E-5,1.0018525642680609,3.9885189334153224,-5.6433179099339266E-2,{"$f":"IF(AND(Q41<>0,B41>=0),(L0+mazalazo*(D41*G41-C41*H41))/(INERTIA+mazalazo*($C41^2+$D41^2)),I40)","v":-3.9995016401047234},{"$f":"IF(($G41+$I41*$D41)^2+($H41-$I41*$D41)^2<>0,-mew*($G41+$I41*$D41)/SQRT(($G41+$I41*$D41)^2+($H41-$I41*$C41)^2),0)","v":8.581161431600054E-2},{"$f":"-mew*($H41-$C41*$I41)/SQRT(($G41+$D41*$I41)^2+($H41-$I41*$C41)^2)","v":-2.9987724766724937},-3.9995016401047234,{"$f":"($I41-$I40)/DT","v":2.6438813590675611E-2},{"$f":"IF(Q41<>0,mazalazo*(($D41*$J41-$C41*$K41)-2*$I41*($C41*$G41+$D41*$H41))/(INERTIA+mazalazo*($C41^2+$D41^2)),0)","v":0.30905934302506138},-7.5385825841448664E-2,{"$f":"IF(Q41<>0,G41*COS(O41)+H41*SIN(O41)+F41*$I41,0)","v":-2.5469862642741425E-2},-4.1624276716396832E-2,{"$f":"R40+mazalazo*($I41^2*($E41*$P41+$F41*$U41))*DT","v":0.2211512363233335},{"$f":"IF(Q41<>0,$J41*COS($O41)+$K41*SIN($Z41)+2*$U41*$I41+$E41*$I41^2+$F41*$N41,0)","v":-1.5571739047057418},{"$f":"IF(Q41<>0,-$J41*SIN($O41)+$K41*COS($O41)-2*$P41*$I41+$F41*$I41^2-$E41*$N41,0)","v":12.838127540791737},{"$f":"IF(Q41<>0,-$G41*SIN(O41)+$H41*COS(O41)-$E41*$I41,0)","v":0.24403406094108165},{"$f":"2*PI()/50*B41","v":0.12566370614359174},5.0714255819669809,-3.4014755324457253,null,null,null,null,null,null,null,null,null,{"$f":"IF(Q41<>0,C41,SIGN(C41)*TEL_AKTINA*COS(AJ41))","v":7.5432495965562063E-2},{"$f":"IF(Q41<>0,D41,TEL_AKTINA*SIN(AJ41))","v":0.99900875849341886},{"$f":"IF(Q41<>0,O41,AJ40+TEL_OMEGA*DT)","v":-7.5385825841448664E-2},null,null,null,1.8849555921538759E-2,{"$f":"V41","v":0.12566370614359174},1.9757856731964618,-1.5454385155033654,{"$f":"mazalazo*($J41*G41+K41*H41)*DT+AR40","v":2.8924163613861301E-2},{"$f":"AS40+mazalazo*($F41*$P41-$E41*$U41)*$N41*DT","v":-4.4586689480807502E-4},{"$f":"AT40+1","v":1},{"$f":"IF(AND(AT41>0,Q41<>0),AN41,AU40)","v":1.8849555921538759E-2},{"$f":"IF(AU41<>AU40,Q41,AV40)","v":-4.1624276716396832E-2},9.0302005203653515E-2,{"$f":"1/2*(INERTIA+mazalazo*($C41^2+$D41^2))*$I41^2","v":176.04513034806865},{"$f":"IF(AU41<>AU40,AS41,AY40)","v":-4.4586689480807502E-4},{"$f":"IF(AU41<>AU40,AR41,AR40)","v":2.8924163613861301E-2},{"$f":"IF(($P41^2+$U41^2)<>0,-mazalazo*mew*($P41^2+$U41^2)/SQRT($P41^2+$U41^2)*DT+BA40,BA40)","v":-4.1624276716396839E-2},{"$f":"AW41+AX41","v":176.13543235327231},{"$f":"BA41+AY41+$R41","v":0.17908109271212858},{"$f":"BB41+BC41","v":176.31451344598443},null,{"$f":"B41*DT","v":1.8849555921538759E-2},{"$f":"G41-(-D41*L41)","v":-7.0182346580898169E-3},{"$f":"$H41-($I41*$C41)","v":0.24525921223211916},{"$f":"SQRT(BG41^2+BH41^2)","v":0.24535960711257199},{"$f":"-mew*BG41/BH41","v":8.5846740608229541E-2},{"$f":"-mew*BH41/BI41","v":-2.9987724766724937},{"$f":"BL40+mazalazo*($I41*(BM41^2+BN41^2)+BM41*BR41-BN41*BQ41)*$BS41*DT","v":-1.9242907427217553E-2},7.5432495965562063E-2,0.99900875849341886,-2.1532938293707139E-5,1.0018525642680609,3.9885189334153224,-5.6433179099339266E-2,{"$f":"($BN41*$BJ41-$BM41*$BK41)/(INERTIA+mazalazo*($BM41^2+$BN41^2))*mazalazo","v":4.2519389012234211E-2},{"$f":"$M41","v":2.6438813590675611E-2},{"$f":"$N41","v":0.30905934302506138}]
[0,2,0.15061964297500846,0.99741212237845078,-7.4467873257191288E-4,1.0087203101806714,3.9886756500248652,-0.11297707881185998,{"$f":"IF(AND(Q42<>0,B42>=0),(L0+mazalazo*(D42*G42-C42*H42))/(INERTIA+mazalazo*($C42^2+$D42^2)),I41)","v":-3.9910977801477796},{"$f":"IF(($G42+$I42*$D42)^2+($H42-$I42*$D42)^2<>0,-mew*($G42+$I42*$D42)/SQRT(($G42+$I42*$D42)^2+($H42-$I42*$C42)^2),0)","v":-4.8582198265959102E-2},{"$f":"-mew*($H42-$C42*$I42)/SQRT(($G42+$D42*$I42)^2+($H42-$I42*$C42)^2)","v":-2.999606602541681},-3.99109778014778,{"$f":"($I42-$I41)/DT","v":0.44583861773321698},{"$f":"IF(Q42<>0,mazalazo*(($D42*$J42-$C42*$K42)-2*$I42*($C42*$G42+$D42*$H42))/(INERTIA+mazalazo*($C42^2+$D42^2)),0)","v":0.58487906806473056},-0.15061624663667345,{"$f":"IF(Q42<>0,G42*COS(O42)+H42*SIN(O42)+F42*$I42,0)","v":-6.5430417272302588E-2},-0.12444964001728058,{"$f":"R41+mazalazo*($I42^2*($E42*$P42+$F42*$U42))*DT","v":0.66079955533938173},{"$f":"IF(Q42<>0,$J42*COS($O42)+$K42*SIN($Z42)+2*$U42*$I42+$E42*$I42^2+$F42*$N42,0)","v":-3.4449708595065918},{"$f":"IF(Q42<>0,-$J42*SIN($O42)+$K42*COS($O42)-2*$P42*$I42+$F42*$I42^2-$E42*$N42,0)","v":12.572986175814618},{"$f":"IF(Q42<>0,-$G42*SIN(O42)+$H42*COS(O42)-$E42*$I42,0)","v":0.48382040574198582},{"$f":"2*PI()/50*B42","v":0.25132741228718347},4.9535632337963058,-2.783619466033973,{"$f":"(C42+C41)/2","v":0.11302606947028526},{"$f":"(C41+C40)/2","v":3.7716247982781032E-2},{"$f":"(D42+D41)/2","v":0.99821044043593488},{"$f":"(D41+D40)/2","v":0.99950437924670943},{"$f":"-(C41-C42)/(D41-D42)","v":47.090972266370017},{"$f":"-(C40-C41)/(D40-D41)","v":76.099008631845706},{"$f":"((AA42-AB42)+AD42*Z42-AC42*Y42)/(AD42-AC42)","v":-8.4584572698982327E-2},{"$f":"AA42+AC42*(AE42-Y42)","v":-8.3074668294966152},{"$f":"SQRT((AE42-Z42)^2+(AF42-AB42)^2)","v":9.3077747378799724},{"$f":"IF(Q42<>0,C42,E42*COS(AJ42)-F42*SIN(AJ42))","v":0.15061964297500846},{"$f":"IF(Q42<>0,D42,E42*SIN(AJ42)+F42*COS(AJ42))","v":0.99741212237845078},-0.15061624663667345,null,{"$f":"AND(ABS(L42)>ABS(exactome)/10,ABS(L43)<ABS(exactome)/10)","v":false},null,3.7699111843077518E-2,{"$f":"V42","v":0.25132741228718347},1.8813195596744725,-1.0502298062268203,{"$f":"mazalazo*(J42*G42+K42*H42)*DT+AR41","v":3.7129836760137869E-2},-2.6168760792173759E-3,{"$f":"AT41+1","v":2},{"$f":"IF(AND(AT42>0,Q42<>0),AN42,AU41)","v":3.7699111843077518E-2},{"$f":"IF(AU42<>AU41,Q42,AV41)","v":-0.12444964001728058},0.35754498677515112,{"$f":"1/2*(INERTIA+mazalazo*($C42^2+$D42^2))*$I42^2","v":175.63602042368365},{"$f":"IF(AU42<>AU41,AS42,AY41)","v":-2.6168760792173759E-3},{"$f":"IF(AU42<>AU41,AR42,AR41)","v":3.7129836760137869E-2},-0.12444964001728059,{"$f":"AW42+AX42","v":175.99356541045879},{"$f":"BA42+AY42+$R42","v":0.53373303924288373},{"$f":"BB42+BC42","v":176.52729844970168},null,3.7699111843077518E-2,{"$f":"G42-(-D42*L42)","v":7.9063425077445793E-3},{"$f":"$H42-($I42*$C42)","v":0.48816064391234743},{"$f":"SQRT(BG42^2+BH42^2)","v":0.48822466602658193},-4.858856980591137E-2,-2.999606602541681,{"$f":"BL41+mazalazo*($I42*(BM42^2+BN42^2)+BM42*BR42-BN42*BQ42)*$BS42*DT","v":-4.4240182267428964E-2},{"$f":"C42","v":0.15061964297500846},{"$f":"D42","v":0.99741212237845078},{"$f":"E42","v":-7.4467873257191288E-4},{"$f":"F42","v":1.0087203101806714},{"$f":"G42","v":3.9886756500248652},{"$f":"H42","v":-0.11297707881185998},5.4869411934151714E-2,{"$f":"$M42","v":0.44583861773321698},{"$f":"$N42","v":0.58487906806473056}]
[0,3,0.22579090880018676,0.99474977715434931,-2.4363346573828687E-3,1.0200503506782785,3.9870038323065105,-0.16949950160797078,-3.9774368321039093,{"$f":"IF(($G43+$I43*$D43)^2+($H43-$I43*$D43)^2<>0,-mew*($G43+$I43*$D43)/SQRT(($G43+$I43*$D43)^2+($H43-$I43*$C43)^2),0)","v":-0.12527096733801404},{"$f":"-mew*($H43-$C43*$I43)/SQRT(($G43+$D43*$I43)^2+($H43-$I43*$C43)^2)","v":-2.9973833896821076},-3.9774368321039089,{"$f":"($I43-$I42)/DT","v":0.72473580283450567},{"$f":"IF(Q43<>0,mazalazo*(($D43*$J43-$C43*$K43)-2*$I43*($C43*$G43+$D43*$H43))/(INERTIA+mazalazo*($C43^2+$D43^2)),0)","v":0.86415065157202908},-0.22558916462780404,{"$f":"IF(Q43<>0,G43*COS(O43)+H43*SIN(O43)+F43*$I43,0)","v":-0.13328898991500404},-0.24815645411548329,{"$f":"R42+mazalazo*($I43^2*($E43*$P43+$F43*$U43))*DT","v":1.3153065735714802},{"$f":"IF(Q43<>0,$J43*COS($O43)+$K43*SIN($Z43)+2*$U43*$I43+$E43*$I43^2+$F43*$N43,0)","v":-5.3202352609992936},{"$f":"IF(Q43<>0,-$J43*SIN($O43)+$K43*COS($O43)-2*$P43*$I43+$F43*$I43^2-$E43*$N43,0)","v":12.129550808477584},{"$f":"IF(Q43<>0,-$G43*SIN(O43)+$H43*COS(O43)-$E43*$I43,0)","v":0.71692038551054171},0.37699111843077521,4.7591923667640286,-2.1854074484622519,{"$f":"(C43+C42)/2","v":0.18820527588759761},{"$f":"(C42+C41)/2","v":0.11302606947028526},{"$f":"(D43+D42)/2","v":0.99608094976640005},{"$f":"(D42+D41)/2","v":0.99821044043593488},{"$f":"-(C42-C43)/(D42-D43)","v":28.23498062710792},{"$f":"-(C41-C42)/(D41-D42)","v":47.090972266370017},{"$f":"((AA43-AB43)+AD43*Z43-AC43*Y43)/(AD43-AC43)","v":3.3971660834437943E-4},{"$f":"AA43+AC43*(AE43-Y43)","v":-4.308299476984109},{"$f":"SQRT((AE43-Z43)^2+(AF43-AB43)^2)","v":5.3077062576784151},{"$f":"IF(Q43<>0,C43,E43*COS(AJ43)-F43*SIN(AJ43))","v":0.22579090880018676},{"$f":"IF(Q43<>0,D43,E43*SIN(AJ43)+F43*COS(AJ43))","v":0.99474977715434931},-0.22558916462780404,null,false,{"$f":"ABS(exactome)/10","v":0.4},5.6548667764616277E-2,0.37699111843077521,1.7255322308504297,-0.57076570900455592,3.7616108018372105E-2,-9.1754938628297051E-3,3,5.6548667764616277E-2,-0.24815645411548329,0.79761119098971867,{"$f":"1/2*(INERTIA+mazalazo*($C43^2+$D43^2))*$I43^2","v":174.98131186621728},{"$f":"IF(AU43<>AU42,AS43,AY42)","v":-9.1754938628297051E-3},3.7616108018372105E-2,-0.24815645411548332,175.77892305720701,1.0579746255931672,176.83689768280018,null,5.6548667764616277E-2,3.0449429925646143E-2,{"$f":"$H43-($I43*$C43)","v":0.72856957540810674},0.72920559103256044,-0.12538032448825479,-2.9973833896821072,{"$f":"BL42+mazalazo*($I43*(BM43^2+BN43^2)+BM43*BR43-BN43*BQ43)*$BS43*DT","v":-7.8714353486799227E-2},0.22579090880018676,0.99474977715434931,-2.4363346573828687E-3,1.0200503506782785,3.9870038323065105,-0.16949950160797078,7.4867331129354314E-2,0.72473580283450567,0.86415065157202908]
[0,4,0.30091801087493292,0.99102247697689094,-5.6026669589961031E-3,1.0356861538445348,3.9840285631294581,-0.22596877100605389,-3.9585514058758737,{"$f":"IF(($G44+$I44*$D44)^2+($H44-$I44*$D44)^2<>0,-mew*($G44+$I44*$D44)/SQRT(($G44+$I44*$D44)^2+($H44-$I44*$C44)^2),0)","v":-0.18926130257493526},{"$f":"-mew*($H44-$C44*$I44)/SQRT(($G44+$D44*$I44)^2+($H44-$I44*$C44)^2)","v":-2.9940240746105631},-3.9585514058758737,{"$f":"($I44-$I43)/DT","v":1.0019029788630631},{"$f":"IF(Q44<>0,mazalazo*(($D44*$J44-$C44*$K44)-2*$I44*($C44*$G44+$D44*$H44))/(INERTIA+mazalazo*($C44^2+$D44^2)),0)","v":1.1385322060527092},-0.30020610072114717,{"$f":"IF(Q44<>0,G44*COS(O44)+H44*SIN(O44)+F44*$I44,0)","v":-0.22714892731459191},-0.41223080715689914,{"$f":"R43+mazalazo*($I44^2*($E44*$P44+$F44*$U44))*DT","v":2.1792126487527859},{"$f":"IF(Q44<>0,$J44*COS($O44)+$K44*SIN($Z44)+2*$U44*$I44+$E44*$I44^2+$F44*$N44,0)","v":-7.092503311694605},{"$f":"IF(Q44<>0,-$J44*SIN($O44)+$K44*COS($O44)-2*$P44*$I44+$F44*$I44^2-$E44*$N44,0)","v":11.521267448168695},{"$f":"IF(Q44<>0,-$G44*SIN(O44)+$H44*COS(O44)-$E44*$I44,0)","v":0.94010446689847993},0.50265482457436694,4.4913783255547743,-1.6162736406022051,0.26335445983755984,0.18820527588759761,0.99288612706562018,0.99608094976640005,20.155903334293562,28.23498062710792,3.2558925589520069E-4,-4.3086983625068243,5.3081053426407063,0.30091801087493292,{"$f":"IF(Q44<>0,D44,E44*SIN(AJ44)+F44*COS(AJ44))","v":0.99102247697689094},-0.30020610072114717,null,false,null,7.5398223686155036E-2,0.50265482457436694,1.5108805459627277,-0.11460765906773607,3.32354809381342E-2,-2.3982685538352387E-2,4,7.5398223686155036E-2,-0.41223080715689914,1.4030895657939673,{"$f":"1/2*(INERTIA+mazalazo*($C44^2+$D44^2))*$I44^2","v":174.07971321685565},-2.3982685538352387E-2,3.32354809381342E-2,-0.41223080715689919,175.48280278264963,1.7429991560575342,177.22580193870715,null,7.5398223686155036E-2,6.1015143637995539E-2,{"$f":"$H44-($I44*$C44)","v":0.96523064399628322},0.96715719707948455,-0.18963905886383303,-2.9940240746105631,{"$f":"BL43+mazalazo*($I44*(BM44^2+BN44^2)+BM44*BR44-BN44*BQ44)*$BS44*DT","v":-0.1236976374022178},0.30091801087493292,0.99102247697689094,-5.6026669589961031E-3,1.0356861538445348,3.9840285631294581,-0.22596877100605389,9.6275747390589111E-2,1.0019029788630631,1.1385322060527092]
[0,5,0.37597800067103154,0.98623141163543959,-1.0715140885516842E-2,1.0554132081989602,3.9798975827925127,-0.28236542284906729,-3.9345658616262869,{"$f":"IF(($G45+$I45*$D45)^2+($H45-$I45*$D45)^2<>0,-mew*($G45+$I45*$D45)/SQRT(($G45+$I45*$D45)^2+($H45-$I45*$C45)^2),0)","v":-0.24854046102504612},{"$f":"-mew*($H45-$C45*$I45)/SQRT(($G45+$D45*$I45)^2+($H45-$I45*$C45)^2)","v":-2.9896868797975245},-3.9345658616262864,{"$f":"($I45-$I44)/DT","v":1.2724726433570457},{"$f":"IF(Q45<>0,mazalazo*(($D45*$J45-$C45*$K45)-2*$I45*($C45*$G45+$D45*$H45))/(INERTIA+mazalazo*($C45^2+$D45^2)),0)","v":1.4048720373949422},-0.37437091995684918,{"$f":"IF(Q45<>0,G45*COS(O45)+H45*SIN(O45)+F45*$I45,0)","v":-0.34509405884029132},-0.61598816384671351,{"$f":"R44+mazalazo*($I45^2*($E45*$P45+$F45*$U45))*DT","v":3.2453648085680582},{"$f":"IF(Q45<>0,$J45*COS($O45)+$K45*SIN($Z45)+2*$U45*$I45+$E45*$I45^2+$F45*$N45,0)","v":-8.7456440457658786},{"$f":"IF(Q45<>0,-$J45*SIN($O45)+$K45*COS($O45)-2*$P45*$I45+$F45*$I45^2-$E45*$N45,0)","v":10.76460979608393},{"$f":"IF(Q45<>0,-$G45*SIN(O45)+$H45*COS(O45)-$E45*$I45,0)","v":1.1504295621741059},0.62831853071795862,4.1543446975827667,-1.0851936225878434,0.33844800577298223,0.26335445983755984,0.98862694430616527,0.99288612706562018,15.666659593784795,20.155903334293562,3.4263137173729192E-4,-4.308354863267299,5.3077614169722143,0.37597800067103154,0.98623141163543959,-0.37437091995684918,null,false,null,9.4247779607693788E-2,0.62831853071795862,1.2407496903087472,0.3110504586405245,2.5036977045100689E-2,-5.193809389372088E-2,5,9.4247779607693788E-2,-0.61598816384671351,2.163867130456457,{"$f":"1/2*(INERTIA+mazalazo*($C45^2+$D45^2))*$I45^2","v":172.93638724193002},-5.193809389372088E-2,2.5036977045100689E-2,-0.61598816384671362,175.10025437238647,2.5774385508276239,177.6776929232141,null,9.4247779607693788E-2,9.9505138908210444E-2,{"$f":"$H45-($I45*$C45)","v":1.1969447833136786},1.2010737225378678,-0.24939781758203342,-2.9896868797975245,{"$f":"BL44+mazalazo*($I45*(BM45^2+BN45^2)+BM45*BR45-BN45*BQ45)*$BS45*DT","v":-0.17980051900613339},0.37597800067103154,0.98623141163543959,-1.0715140885516842E-2,1.0554132081989602,3.9798975827925127,-0.28236542284906729,0.11790678582561763,1.2724726433570457,1.4048720373949422]
[0,6,0.45094974748525996,0.98037812149751802,-1.8206432993323553E-2,1.0789649955701444,3.9746727057695015,-0.33867133208553335,-3.9056535516798694,{"$f":"IF(($G46+$I46*$D46)^2+($H46-$I46*$D46)^2<>0,-mew*($G46+$I46*$D46)/SQRT(($G46+$I46*$D46)^2+($H46-$I46*$C46)^2),0)","v":-0.30556665289315244},{"$f":"-mew*($H46-$C46*$I46)/SQRT(($G46+$D46*$I46)^2+($H46-$I46*$C46)^2)","v":-2.9843975976132397},-3.9056535516798694,{"$f":"($I46-$I45)/DT","v":1.5338456813924373},{"$f":"IF(Q46<>0,mazalazo*(($D46*$J46-$C46*$K46)-2*$I46*($C46*$G46+$D46*$H46))/(INERTIA+mazalazo*($C46^2+$D46^2)),0)","v":1.6609469077980983},-0.44799075498939533,{"$f":"IF(Q46<>0,G46*COS(O46)+H46*SIN(O46)+F46*$I46,0)","v":-0.48491716918247674},-0.85858523915094698,{"$f":"R45+mazalazo*($I46^2*($E46*$P46+$F46*$U46))*DT","v":4.5050652127859037},{"$f":"IF(Q46<>0,$J46*COS($O46)+$K46*SIN($Z46)+2*$U46*$I46+$E46*$I46^2+$F46*$N46,0)","v":-10.260412756688241},{"$f":"IF(Q46<>0,-$J46*SIN($O46)+$K46*COS($O46)-2*$P46*$I46+$F46*$I46^2-$E46*$N46,0)","v":9.8788221159860363},{"$f":"IF(Q46<>0,-$G46*SIN(O46)+$H46*COS(O46)-$E46*$I46,0)","v":1.3452920925698715},0.75398223686155041,3.7534067044952537,-0.60054284355507725,0.41346387407814578,0.33844800577298223,0.98330476656647881,0.98862694430616527,12.808479512831717,15.666659593784795,4.1423508716757036E-4,-4.3072330722320018,5.3066373670048073,0.45094974748525996,0.98037812149751802,-0.44799075498939533,null,false,null,0.11309733552923255,0.75398223686155041,0.91939978885050255,0.69949576132813274,1.351249850181167E-2,-9.8779632513916249E-2,6,0.11309733552923255,-0.85858523915094698,3.0674332129484556,{"$f":"1/2*(INERTIA+mazalazo*($C46^2+$D46^2))*$I46^2","v":171.5593127072693},-9.8779632513916249E-2,1.351249850181167E-2,-0.85858523915094709,174.62674592021776,3.5477003411210406,178.1744462613388,null,0.11309733552923255,0.14565541355348177,{"$f":"$H46-($I46*$C46)","v":1.4225821508094123},1.4300193968261301,-0.30716415246165074,-2.9843975976132397,{"$f":"BL45+mazalazo*($I46*(BM46^2+BN46^2)+BM46*BR46-BN46*BQ46)*$BS46*DT","v":-0.24754003679707814},0.45094974748525996,0.98037812149751802,-1.8206432993323553E-2,1.0789649955701444,3.9746727057695015,-0.33867133208553335,0.13933048505362503,1.5338456813924373,1.6609469077980983]
[0,7,0.52581296150137136,0.97346448575240985,-2.8464888717620918E-2,1.106029893635041,3.9683858486412222,-0.39486861014654012,-3.8720256470244996,{"$f":"IF(($G47+$I47*$D47)^2+($H47-$I47*$D47)^2<>0,-mew*($G47+$I47*$D47)/SQRT(($G47+$I47*$D47)^2+($H47-$I47*$C47)^2),0)","v":-0.36132688129226775},{"$f":"-mew*($H47-$C47*$I47)/SQRT(($G47+$D47*$I47)^2+($H47-$I47*$C47)^2)","v":-2.9781609904193567},-3.8720256470244996,{"$f":"($I47-$I46)/DT","v":1.7840157505750209},{"$f":"IF(Q47<>0,mazalazo*(($D47*$J47-$C47*$K47)-2*$I47*($C47*$G47+$D47*$H47))/(INERTIA+mazalazo*($C47^2+$D47^2)),0)","v":1.904934132871841},-0.52097671895261588,{"$f":"IF(Q47<>0,G47*COS(O47)+H47*SIN(O47)+F47*$I47,0)","v":-0.64412533881537959},-1.1390316073229787,{"$f":"R46+mazalazo*($I47^2*($E47*$P47+$F47*$U47))*DT","v":5.9482407115498095},{"$f":"IF(Q47<>0,$J47*COS($O47)+$K47*SIN($Z47)+2*$U47*$I47+$E47*$I47^2+$F47*$N47,0)","v":-11.619942390754721},{"$f":"IF(Q47<>0,-$J47*SIN($O47)+$K47*COS($O47)-2*$P47*$I47+$F47*$I47^2-$E47*$N47,0)","v":8.885427637083799},{"$f":"IF(Q47<>0,-$G47*SIN(O47)+$H47*COS(O47)-$E47*$I47,0)","v":1.5224752970412616},0.87964594300514221,3.2948873779519743,-0.16996453580559701,0.48838135449331566,0.41346387407814578,0.97692130362496399,0.98330476656647881,10.828342246564233,12.808479512831717,5.553373541056151E-4,-4.3054257667367111,5.3048246072413212,{"$f":"IF(Q47<>0,C47,(E47*COS(AJ47)-F47*SIN(AJ47)+C47)/2)","v":0.52581296150137136},{"$f":"IF(Q47<>0,D47,(E47*SIN(AJ47)+F47*COS(AJ47)+D47)/2)","v":0.97346448575240985},-0.52097671895261588,null,false,null,0.13194689145077132,0.87964594300514221,0.55189872149911556,1.0446022345257289,-1.0715268339839129E-3,-0.17085444129267091,7,0.13194689145077132,-1.1390316073229787,4.0992427233073583,{"$f":"1/2*(INERTIA+mazalazo*($C47^2+$D47^2))*$I47^2","v":169.95844367928069},-0.17085444129267091,-1.0715268339839129E-3,-1.1390316073229787,174.05768640258805,4.6383546629341597,178.69604106552219,null,0.13194689145077132,0.19910639334037583,{"$f":"$H47-($I47*$C47)","v":1.6410926623246755},1.6531268802499415,-0.363976510122835,-2.9781609904193567,{"$f":"BL46+mazalazo*($I47*(BM47^2+BN47^2)+BM47*BR47-BN47*BQ47)*$BS47*DT","v":-0.32741686149429383},0.52581296150137136,0.97346448575240985,-2.8464888717620918E-2,1.106029893635041,3.9683858486412222,-0.39486861014654012,0.16032367159855818,1.7840157505750209,1.904934132871841]
[0,8,0.60054781742761221,0.96549272029783084,-4.1829711410065265E-2,1.1362588390012747,3.9610559977330446,-0.45093940611721511,-3.8339248448043848,{"$f":"IF(($G48+$I48*$D48)^2+($H48-$I48*$D48)^2<>0,-mew*($G48+$I48*$D48)/SQRT(($G48+$I48*$D48)^2+($H48-$I48*$C48)^2),0)","v":-0.41628544732547723},{"$f":"-mew*($H48-$C48*$I48)/SQRT(($G48+$D48*$I48)^2+($H48-$I48*$C48)^2)","v":-2.9709773520417531},-3.8339248448043852,{"$f":"($I48-$I47)/DT","v":2.021310336365977},{"$f":"IF(Q48<>0,mazalazo*(($D48*$J48-$C48*$K48)-2*$I48*($C48*$G48+$D48*$H48))/(INERTIA+mazalazo*($C48^2+$D48^2)),0)","v":2.1353036666374212},-0.59324449971373294,{"$f":"IF(Q48<>0,G48*COS(O48)+H48*SIN(O48)+F48*$I48,0)","v":-0.81999638471909586},-1.4562022385967097,{"$f":"R47+mazalazo*($I48^2*($E48*$P48+$F48*$U48))*DT","v":7.5636304261874692},{"$f":"IF(Q48<>0,$J48*COS($O48)+$K48*SIN($Z48)+2*$U48*$I48+$E48*$I48^2+$F48*$N48,0)","v":-12.811128586296581},{"$f":"IF(Q48<>0,-$J48*SIN($O48)+$K48*COS($O48)-2*$P48*$I48+$F48*$I48^2-$E48*$N48,0)","v":7.807499658105705},{"$f":"IF(Q48<>0,-$G48*SIN(O48)+$H48*COS(O48)-$E48*$I48,0)","v":1.6801846045866458},1.0053096491487339,2.7860178416386847,0.19975082353237639,0.56318038946449178,0.48838135449331566,0.96947860302512034,0.97692130362496399,9.3749441515885206,10.828342246564233,7.7958970692441106E-4,-4.3029974855107929,5.3023860573228356,{"$f":"IF(Q48<>0,C48,(E48*COS(AJ48)-F48*SIN(AJ48)+C48)/2)","v":0.60054781742761221},{"$f":"IF(Q48<>0,D48,(E48*SIN(AJ48)+F48*COS(AJ48)+D48)/2)","v":0.96549272029783084},-0.59324449971373294,null,false,null,0.15079644737231007,1.0053096491487339,0.14404219962121534,1.3409273429943718,-1.8556329960800238E-2,-0.27487288122196851,8,0.15079644737231007,-1.4562022385967097,5.2431215646635563,{"$f":"1/2*(INERTIA+mazalazo*($C48^2+$D48^2))*$I48^2","v":168.14531563187725},-0.27487288122196851,-1.8556329960800238E-2,-1.4562022385967097,173.38843719654082,5.8325553063687909,179.22099250290961,null,0.15079644737231007,0.25942946990541982,{"$f":"$H48-($I48*$C48)","v":1.8515157916115548},1.8696027322515256,-0.42035202359189122,-2.9709773520417531,{"$f":"BL47+mazalazo*($I48*(BM48^2+BN48^2)+BM48*BR48-BN48*BQ48)*$BS48*DT","v":-0.41993275852950085},0.60054781742761221,0.96549272029783084,-4.1829711410065265E-2,1.1362588390012747,3.9610559977330446,-0.45093940611721511,0.18074179442800087,2.021310336365977,2.1353036666374212]
[0,9,0.67513478115925818,0.95646537754363603,-5.8587395546185118E-2,1.1692734959169153,3.9526957529713194,-0.50686586282788559,-3.7916201465426056,{"$f":"IF(($G49+$I49*$D49)^2+($H49-$I49*$D49)^2<>0,-mew*($G49+$I49*$D49)/SQRT(($G49+$I49*$D49)^2+($H49-$I49*$C49)^2),0)","v":-0.47068429487114682},{"$f":"-mew*($H49-$C49*$I49)/SQRT(($G49+$D49*$I49)^2+($H49-$I49*$C49)^2)","v":-2.9628459788793697},-3.7916201465426056,{"$f":"($I49-$I48)/DT","v":2.2443339481244231},{"$f":"IF(Q49<>0,mazalazo*(($D49*$J49-$C49*$K49)-2*$I49*($C49*$G49+$D49*$H49))/(INERTIA+mazalazo*($C49^2+$D49^2)),0)","v":2.3507927288833854},-0.66471485569922073,{"$f":"IF(Q49<>0,G49*COS(O49)+H49*SIN(O49)+F49*$I49,0)","v":-1.0096504915241913},-1.8088510191711424,{"$f":"R48+mazalazo*($I49^2*($E49*$P49+$F49*$U49))*DT","v":9.3389863248085412},{"$f":"IF(Q49<>0,$J49*COS($O49)+$K49*SIN($Z49)+2*$U49*$I49+$E49*$I49^2+$F49*$N49,0)","v":-13.825092442426648},{"$f":"IF(Q49<>0,-$J49*SIN($O49)+$K49*COS($O49)-2*$P49*$I49+$F49*$I49^2-$E49*$N49,0)","v":6.6688596660347619},{"$f":"IF(Q49<>0,-$G49*SIN(O49)+$H49*COS(O49)-$E49*$I49,0)","v":1.8170684172921756},1.1309733552923256,2.2348232721269725,0.50277260238483201,0.63784129929343525,0.56318038946449178,0.96097904892073349,0.96947860302512034,8.2623387371646011,9.3749441515885206,1.1003623240318017E-3,-4.2999902601400528,5.299361853730832,0.67513478115925818,0.95646537754363603,-0.66471485569922073,null,false,null,0.16964600329384882,1.1309733552923256,-0.29773763579150736,1.5837978627574727,-3.8840695030667373E-2,-0.41765753596553168,9,0.16964600329384882,-1.8088510191711424,6.4816976222336002,{"$f":"1/2*(INERTIA+mazalazo*($C49^2+$D49^2))*$I49^2","v":166.13275962921711},-0.41765753596553168,-3.8840695030667373E-2,-1.8088510191711424,172.61445725145072,7.1124777696718668,179.72693502112259,null,0.16964600329384882,0.32614235800638935,{"$f":"$H49-($I49*$C49)","v":2.0529887750471909},2.0787332075463012,-0.47658666521285659,-2.9628459788793697,{"$f":"BL48+mazalazo*($I49*(BM49^2+BN49^2)+BM49*BR49-BN49*BQ49)*$BS49*DT","v":-0.52558884734760358},0.67513478115925818,0.95646537754363603,-5.8587395546185118E-2,1.1692734959169153,3.9526957529713194,-0.50686586282788559,0.20047877441671902,2.2443339481244231,2.3507927288833854]
[0,10,0.74955452055124028,0.94638534663855767,-7.8969556642647376E-2,1.204674650158559,3.9433142767093998,-0.56263010794446477,-3.7454018943838534,{"$f":"IF(($G50+$I50*$D50)^2+($H50-$I50*$D50)^2<>0,-mew*($G50+$I50*$D50)/SQRT(($G50+$I50*$D50)^2+($H50-$I50*$C50)^2),0)","v":-0.52465820190031442},{"$f":"-mew*($H50-$C50*$I50)/SQRT(($G50+$D50*$I50)^2+($H50-$I50*$C50)^2)","v":-2.9537660318953378},-3.7454018943838534,{"$f":"($I50-$I49)/DT","v":2.4519544307110248},{"$f":"IF(Q50<>0,mazalazo*(($D50*$J50-$C50*$K50)-2*$I50*($C50*$G50+$D50*$H50))/(INERTIA+mazalazo*($C50^2+$D50^2)),0)","v":2.5503990947780668},-0.73531401815604636,{"$f":"IF(Q50<>0,G50*COS(O50)+H50*SIN(O50)+F50*$I50,0)","v":-1.2101258608243386},-2.1956250619106257,{"$f":"R49+mazalazo*($I50^2*($E50*$P50+$F50*$U50))*DT","v":11.261281107410044},{"$f":"IF(Q50<>0,$J50*COS($O50)+$K50*SIN($Z50)+2*$U50*$I50+$E50*$I50^2+$F50*$N50,0)","v":-14.657250268541636},{"$f":"IF(Q50<>0,-$J50*SIN($O50)+$K50*COS($O50)-2*$P50*$I50+$F50*$I50^2-$E50*$N50,0)","v":5.4932834496982972},{"$f":"IF(Q50<>0,-$G50*SIN(O50)+$H50*COS(O50)-$E50*$I50,0)","v":1.9322238160386229},1.2566370614359172,1.6499963370457116,0.73432196628282931,0.71234465085524923,0.63784129929343525,0.95142536209109685,0.96097904892073349,7.3828880181794991,8.2623387371646011,1.5309565884365902E-3,-4.2964325444692593,5.2957782727890761,0.74955452055124028,0.94638534663855767,-0.73531401815604636,null,false,null,0.18849555921538758,1.2566370614359172,-0.76647365282811264,1.7693835806345506,-6.1856821442078644E-2,-0.60589870268400681,10,0.18849555921538758,-2.1956250619106257,7.7968402114540565,{"$f":"1/2*(INERTIA+mazalazo*($C50^2+$D50^2))*$I50^2","v":163.9346484314184},-0.60589870268400681,-6.1856821442078644E-2,-2.1956250619106257,171.73148864287245,8.4597573428154114,180.19124598568786,null,0.18849555921538758,0.39872080659222631,{"$f":"$H50-($I50*$C50)","v":2.2447528132721315},2.2798889170972134,-0.53287044021254915,-2.9537660318953378,{"$f":"BL49+mazalazo*($I50*(BM50^2+BN50^2)+BM50*BR50-BN50*BQ50)*$BS50*DT","v":-0.64487662822127934},0.74955452055124028,0.94638534663855767,-7.8969556642647376E-2,1.204674650158559,3.9433142767093998,-0.56263010794446477,0.21945186543509898,2.4519544307110248,2.5503990947780668]
[0,11,0.82378785608458927,0.93525585376224651,-0.10315216882350001,1.24205055206944,3.932918777476639,-0.61821425399700458,-3.6955769005409551,{"$f":"IF(($G51+$I51*$D51)^2+($H51-$I51*$D51)^2<>0,-mew*($G51+$I51*$D51)/SQRT(($G51+$I51*$D51)^2+($H51-$I51*$C51)^2),0)","v":-0.57828529596744527},{"$f":"-mew*($H51-$C51*$I51)/SQRT(($G51+$D51*$I51)^2+($H51-$I51*$C51)^2)","v":-2.9437367607290983},-3.6955769005409556,{"$f":"($I51-$I50)/DT","v":2.6432980198735043},{"$f":"IF(Q51<>0,mazalazo*(($D51*$J51-$C51*$K51)-2*$I51*($C51*$G51+$D51*$H51))/(INERTIA+mazalazo*($C51^2+$D51^2)),0)","v":2.7333765457542261},-0.80497400160513999,{"$f":"IF(Q51<>0,G51*COS(O51)+H51*SIN(O51)+F51*$I51,0)","v":-1.4184527967439804},-2.6150795429341902,{"$f":"R50+mazalazo*($I51^2*($E51*$P51+$F51*$U51))*DT","v":13.316917669846722},{"$f":"IF(Q51<>0,$J51*COS($O51)+$K51*SIN($Z51)+2*$U51*$I51+$E51*$I51^2+$F51*$N51,0)","v":-15.307145185254123},{"$f":"IF(Q51<>0,-$J51*SIN($O51)+$K51*COS($O51)-2*$P51*$I51+$F51*$I51^2-$E51*$N51,0)","v":4.3037662894872417},{"$f":"IF(Q51<>0,-$G51*SIN(O51)+$H51*COS(O51)-$E51*$I51,0)","v":2.0251878970412593},1.3823007675795091,1.0407601065198104,0.89074724343681311,0.78667118831791472,0.71234465085524923,0.94082060020040204,0.95142536209109685,6.6699656811275547,7.3828880181794991,2.0846552748031021E-3,-4.2923446490720032,5.2916531624148799,0.82378785608458927,0.93525585376224651,-0.80497400160513999,null,false,null,0.20734511513692636,1.3823007675795091,-1.2547736044906102,1.8947576989911505,-8.7557573076289252E-2,-0.84592667201753247,11,0.20734511513692636,-2.6150795429341902,9.1700915323698275,{"$f":"1/2*(INERTIA+mazalazo*($C51^2+$D51^2))*$I51^2","v":161.56565502985606},-0.84592667201753247,-8.7557573076289252E-2,-2.6150795429341902,170.7357465622259,9.8559114548950006,180.59165801712089,null,0.20734511513692636,0.47660884821717087,{"$f":"$H51-($I51*$C51)","v":2.42615711789536},2.4725279280350341,-0.58933798396859671,-2.9437367607290983,{"$f":"BL50+mazalazo*($I51*(BM51^2+BN51^2)+BM51*BR51-BN51*BQ51)*$BS51*DT","v":-0.77826631418276948},0.82378785608458927,0.93525585376224651,-0.10315216882350001,1.24205055206944,3.932918777476639,-0.61821425399700458,0.23759513114671271,2.6432980198735043,2.7333765457542261]
[0,12,0.89781573240158596,0.92308046239052244,-0.13125613926470758,1.2809849551420269,3.9215153211890423,-0.67360040066259519,-3.6424636846013598,{"$f":"IF(($G52+$I52*$D52)^2+($H52-$I52*$D52)^2<>0,-mew*($G52+$I52*$D52)/SQRT(($G52+$I52*$D52)^2+($H52-$I52*$C52)^2),0)","v":-0.63161153018761917},{"$f":"-mew*($H52-$C52*$I52)/SQRT(($G52+$D52*$I52)^2+($H52-$I52*$C52)^2)","v":-2.932757554748441},-3.6424636846013598,{"$f":"($I52-$I51)/DT","v":2.8177436200979451},{"$f":"IF(Q52<>0,mazalazo*(($D52*$J52-$C52*$K52)-2*$I52*($C52*$G52+$D52*$H52))/(INERTIA+mazalazo*($C52^2+$D52^2)),0)","v":2.8992275650105475},-0.87363282452020741,{"$f":"IF(Q52<>0,G52*COS(O52)+H52*SIN(O52)+F52*$I52,0)","v":-1.6317226081976273},-3.0656927815864452,{"$f":"R51+mazalazo*($I52^2*($E52*$P52+$F52*$U52))*DT","v":15.491934737674235},{"$f":"IF(Q52<>0,$J52*COS($O52)+$K52*SIN($Z52)+2*$U52*$I52+$E52*$I52^2+$F52*$N52,0)","v":-15.778111447896045},{"$f":"IF(Q52<>0,-$J52*SIN($O52)+$K52*COS($O52)-2*$P52*$I52+$F52*$I52^2-$E52*$N52,0)","v":3.1218825154477137},{"$f":"IF(Q52<>0,-$G52*SIN(O52)+$H52*COS(O52)-$E52*$I52,0)","v":2.0959162402548865},1.5079644737231008,0.41672259984474724,0.96958151378213309,0.86080179424308767,0.78667118831791472,0.92916815807638442,0.94082060020040204,6.0801229346037937,6.6699656811275547,2.7747310151004494E-3,-4.2877418675668402,5.2869990670621618,0.89781573240158596,0.92308046239052244,-0.87363282452020741,null,false,null,0.22619467105846511,1.5079644737231008,-1.7549367088450283,1.9579429930859198,-0.11590924454215773,-1.1435093785527792,12,0.22619467105846511,-3.0656927815864452,10.583075334401171,{"$f":"1/2*(INERTIA+mazalazo*($C52^2+$D52^2))*$I52^2","v":159.04102000432485},-1.1435093785527792,-0.11590924454215773,-3.0656927815864448,169.62409533872602,11.282732577535011,180.90682791626102,null,0.22619467105846511,0.55922825896653316,{"$f":"$H52-($I52*$C52)","v":2.5966608000739542},2.6561971983020101,-0.64609315812516532,-2.932757554748441,{"$f":"BL51+mazalazo*($I52*(BM52^2+BN52^2)+BM52*BR52-BN52*BQ52)*$BS52*DT","v":-0.92619457453303833},0.89781573240158596,0.92308046239052244,-0.13125613926470758,1.2809849551420269,3.9215153211890423,-0.67360040066259519,0.25485628330384824,2.8177436200979451,2.8992275650105475]
[0,13,0.97161920160707071,0.90986307351225937,-0.1633490932719828,1.3210646309700209,3.9091093046189882,-0.7287706374699936,-3.5863878862332061,{"$f":"IF(($G53+$I53*$D53)^2+($H53-$I53*$D53)^2<>0,-mew*($G53+$I53*$D53)/SQRT(($G53+$I53*$D53)^2+($H53-$I53*$C53)^2),0)","v":-0.6846634965399937},{"$f":"-mew*($H53-$C53*$I53)/SQRT(($G53+$D53*$I53)^2+($H53-$I53*$C53)^2)","v":-2.9208279470906242},-3.5863878862332061,{"$f":"($I53-$I52)/DT","v":2.9749134993720325},{"$f":"IF(Q53<>0,mazalazo*(($D53*$J53-$C53*$K53)-2*$I53*($C53*$G53+$D53*$H53))/(INERTIA+mazalazo*($C53^2+$D53^2)),0)","v":3.0476919591519311},-0.94123464353808939,{"$f":"IF(Q53<>0,G53*COS(O53)+H53*SIN(O53)+F53*$I53,0)","v":-1.847148794933783},-3.5458812876842281,{"$f":"R52+mazalazo*($I53^2*($E53*$P53+$F53*$U53))*DT","v":17.772203830371016},{"$f":"IF(Q53<>0,$J53*COS($O53)+$K53*SIN($Z53)+2*$U53*$I53+$E53*$I53^2+$F53*$N53,0)","v":-16.076820180196798},{"$f":"IF(Q53<>0,-$J53*SIN($O53)+$K53*COS($O53)-2*$P53*$I53+$F53*$I53^2-$E53*$N53,0)","v":1.9672625986583971},{"$f":"IF(Q53<>0,-$G53*SIN(O53)+$H53*COS(O53)-$E53*$I53,0)","v":2.1447505460678435},1.6336281798666925,-0.21227473871727603,0.96958151378213309,0.93471746700432834,0.86080179424308767,0.91647176795139096,0.92916815807638442,5.5838161292855482,6.0801229346037937,3.614442916309097E-3,-4.2826363159778413,5.2818250663048527,0.97161920160707071,0.90986307351225937,-0.94123464353808939,null,false,null,0.24504422698000386,1.6336281798666925,-2.2590750949527427,1.9579429930859198,-0.14688721546447928,-1.5036819334729736,13,0.24504422698000386,-3.5458812876842281,12.017870363225459,{"$f":"1/2*(INERTIA+mazalazo*($C53^2+$D53^2))*$I53^2","v":156.37632912008101},-1.5036819334729736,-0.14688721546447928,-3.5458812876842276,168.39419948330647,12.722640609213816,181.11684009252028,null,0.24504422698000386,0.64598739964370822,{"$f":"$H53-($I53*$C53)","v":2.7558326972051841},2.8305323837546248,-0.70322200650877709,-2.9208279470906242,{"$f":"BL52+mazalazo*($I53*(BM53^2+BN53^2)+BM53*BR53-BN53*BQ53)*$BS53*DT","v":-1.089052836158888},0.97161920160707071,0.90986307351225937,-0.1633490932719828,1.3210646309700209,3.9091093046189882,-0.7287706374699936,0.27119493451389237,2.9749134993720325,3.0476919591519311]
[0,14,1.0451794136126189,0.89560792579545556,-0.19944820570132937,1.3618861834344955,3.895705746878805,-0.78370704645586819,-3.5276779311695323,{"$f":"IF(($G54+$I54*$D54)^2+($H54-$I54*$D54)^2<>0,-mew*($G54+$I54*$D54)/SQRT(($G54+$I54*$D54)^2+($H54-$I54*$C54)^2),0)","v":-0.73745556191719763},{"$f":"-mew*($H54-$C54*$I54)/SQRT(($G54+$D54*$I54)^2+($H54-$I54*$C54)^2)","v":-2.9079476085716176},-3.5276779311695328,{"$f":"($I54-$I53)/DT","v":3.1146598523622466},{"$f":"IF(Q54<>0,mazalazo*(($D54*$J54-$C54*$K54)-2*$I54*($C54*$G54+$D54*$H54))/(INERTIA+mazalazo*($C54^2+$D54^2)),0)","v":3.1787314271371692},-1.0077298059748476,{"$f":"IF(Q54<>0,G54*COS(O54)+H54*SIN(O54)+F54*$I54,0)","v":-2.0621188180838148},-4.0540145198482831,{"$f":"R53+mazalazo*($I54^2*($E54*$P54+$F54*$U54))*DT","v":20.143613451804857},{"$f":"IF(Q54<>0,$J54*COS($O54)+$K54*SIN($Z54)+2*$U54*$I54+$E54*$I54^2+$F54*$N54,0)","v":-16.212747893025032},{"$f":"IF(Q54<>0,-$J54*SIN($O54)+$K54*COS($O54)-2*$P54*$I54+$F54*$I54^2-$E54*$N54,0)","v":0.85720018253355346},{"$f":"IF(Q54<>0,-$G54*SIN(O54)+$H54*COS(O54)-$E54*$I54,0)","v":2.1723777974982399},1.7592918860102844,-0.83631224539234017,0.89074724343681222,1.0083993076098448,0.93471746700432834,0.90273549965385746,0.91647176795139096,5.1602560329021525,5.5838161292855482,4.6170298732345983E-3,-4.2770380547567486,5.2761378963894963,1.0451794136126189,0.89560792579545556,-1.0077298059748476,null,false,null,0.26389378290154264,1.7592918860102844,-2.7592381993071617,1.8947576989911501,-0.1804732131580104,-1.9306123193959313,14,0.26389378290154264,-4.0540145198482831,13.457338972438039,{"$f":"1/2*(INERTIA+mazalazo*($C54^2+$D54^2))*$I54^2","v":153.58730405185761},-1.9306123193959313,-0.1804732131580104,-4.0540145198482822,167.04464302429565,14.158986612560643,181.20362963685631,null,0.26389378290154264,0.7362894320696558,{"$f":"$H54-($I54*$C54)","v":2.9033493050580801},2.9952561351174447,-0.76080004991503425,-2.9079476085716176,{"$f":"BL53+mazalazo*($I54*(BM54^2+BN54^2)+BM54*BR54-BN54*BQ54)*$BS54*DT","v":-1.2671768312740195},1.0451794136126189,0.89560792579545556,-0.19944820570132937,1.3618861834344955,3.895705746878805,-0.78370704645586819,0.2865814655148039,3.1146598523622466,3.1787314271371692]
[0,15,1.1184776109099743,0.8803195957043547,-0.23952389083900119,1.4030620308472854,3.881309477114411,-0.83839170470492685,-3.4666610219289091,{"$f":"IF(($G55+$I55*$D55)^2+($H55-$I55*$D55)^2<>0,-mew*($G55+$I55*$D55)/SQRT(($G55+$I55*$D55)^2+($H55-$I55*$C55)^2),0)","v":-0.78999404876218016},{"$f":"-mew*($H55-$C55*$I55)/SQRT(($G55+$D55*$I55)^2+($H55-$I55*$C55)^2)","v":-2.8941163423263303},-3.4666610219289096,{"$f":"($I55-$I54)/DT","v":3.2370475726115759},{"$f":"IF(Q55<>0,mazalazo*(($D55*$J55-$C55*$K55)-2*$I55*($C55*$G55+$D55*$H55))/(INERTIA+mazalazo*($C55^2+$D55^2)),0)","v":3.2925106591098228},-1.0730748267687154,{"$f":"IF(Q55<>0,G55*COS(O55)+H55*SIN(O55)+F55*$I55,0)","v":-2.274235483516128},-4.5884291270743081,{"$f":"R54+mazalazo*($I55^2*($E55*$P55+$F55*$U55))*DT","v":22.592237235773638},{"$f":"IF(Q55<>0,$J55*COS($O55)+$K55*SIN($Z55)+2*$U55*$I55+$E55*$I55^2+$F55*$N55,0)","v":-16.19760490628159},{"$f":"IF(Q55<>0,-$J55*SIN($O55)+$K55*COS($O55)-2*$P55*$I55+$F55*$I55^2-$E55*$N55,0)","v":-0.19360812676601491},{"$f":"IF(Q55<>0,-$G55*SIN(O55)+$H55*COS(O55)-$E55*$I55,0)","v":2.1797834348739689},1.8849555921538761,-1.4455484759182406,0.73432196628282931,1.0818285122612967,1.0083993076098448,0.88796376074990513,0.90273549965385746,4.794388717445428,5.1602560329021525,5.795703191257072E-3,-4.2709557986566038,5.2699426598215027,1.1184776109099743,0.8803195957043547,-1.0730748267687154,null,false,null,0.28274333882308139,1.8849555921538761,-3.2475381509696586,1.7693835806345506,-0.21665351757293938,-2.4275053095902668,15,0.28274333882308139,-4.5884291270743081,14.885404286152191,{"$f":"1/2*(INERTIA+mazalazo*($C55^2+$D55^2))*$I55^2","v":150.68960923556335},-2.4275053095902668,-0.21665351757293938,-4.5884291270743072,165.57501352171553,15.576302799109063,181.15131632082461,null,0.28274333882308139,0.82953984784590817,{"$f":"$H55-($I55*$C55)","v":3.0389910329368495},3.1501750518716882,-0.81889663923514389,-2.8941163423263303,{"$f":"BL54+mazalazo*($I55*(BM55^2+BN55^2)+BM55*BR55-BN55*BQ55)*$BS55*DT","v":-1.4608378167378318},1.1184776109099743,0.8803195957043547,-0.23952389083900119,1.4030620308472854,3.881309477114411,-0.83839170470492685,0.30099615503012539,3.2370475726115759,3.2925106591098228]
[0,16,1.1914951262499818,0.8640029975694451,-0.28350415199087226,1.4442254711402867,3.8659252601721246,-0.89280668682087039,-3.4036595111735615,{"$f":"IF(($G56+$I56*$D56)^2+($H56-$I56*$D56)^2<>0,-mew*($G56+$I56*$D56)/SQRT(($G56+$I56*$D56)^2+($H56-$I56*$C56)^2),0)","v":-0.8422797897400699},{"$f":"-mew*($H56-$C56*$I56)/SQRT(($G56+$D56*$I56)^2+($H56-$I56*$C56)^2)","v":-2.8793340820049735},-3.4036595111735615,{"$f":"($I56-$I55)/DT","v":3.3423339529902627},{"$f":"IF(Q56<>0,mazalazo*(($D56*$J56-$C56*$K56)-2*$I56*($C56*$G56+$D56*$H56))/(INERTIA+mazalazo*($C56^2+$D56^2)),0)","v":3.3893757850038786},-1.1372322970624587,{"$f":"IF(Q56<>0,G56*COS(O56)+H56*SIN(O56)+F56*$I56,0)","v":-2.4813476103882062},-5.147442479218137,{"$f":"R55+mazalazo*($I56^2*($E56*$P56+$F56*$U56))*DT","v":25.104483646377844},{"$f":"IF(Q56<>0,$J56*COS($O56)+$K56*SIN($Z56)+2*$U56*$I56+$E56*$I56^2+$F56*$N56,0)","v":-16.0447564047589},{"$f":"IF(Q56<>0,-$J56*SIN($O56)+$K56*COS($O56)-2*$P56*$I56+$F56*$I56^2-$E56*$N56,0)","v":-1.173195525153746},{"$f":"IF(Q56<>0,-$G56*SIN(O56)+$H56*COS(O56)-$E56*$I56,0)","v":2.1682009940791627},2.0106192982974678,-2.0303754109995009,0.50277260238483112,1.1549863685799782,1.0818285122612967,0.8721612966368999,0.88796376074990513,4.4750452720769909,4.794388717445428,7.1636393021472554E-3,-4.2643973812003653,5.2632432896695356,1.1914951262499818,0.8640029975694451,-1.1372322970624587,null,false,null,0.30159289474462014,2.0106192982974678,-3.7162741680062634,1.5837978627574723,-0.25541774204310064,-2.9965446189267642,16,0.30159289474462014,-5.147442479218137,16.287272271457695,{"$f":"1/2*(INERTIA+mazalazo*($C56^2+$D56^2))*$I56^2","v":147.69867739631059},-2.9965446189267642,-0.25541774204310064,-5.1474424792181361,163.9859496677683,16.960496548232943,180.94644621600125,null,0.30159289474462014,0.92515323981241515,{"$f":"$H56-($I56*$C56)","v":3.1626370321568231},3.2951754906689152,-0.87757769583329814,-2.8793340820049735,{"$f":"BL55+mazalazo*($I56*(BM56^2+BN56^2)+BM56*BR56-BN56*BQ56)*$BS56*DT","v":-1.6702357119780775},1.1914951262499818,0.8640029975694451,-0.28350415199087226,1.4442254711402867,3.8659252601721246,-0.89280668682087039,0.31442841238194535,3.3423339529902627,3.3893757850038786]
[0,17,1.2642133822993744,0.8466633836109706,-0.33127939220502234,1.4850347893004638,3.8495578837175741,-0.94693406740028674,-3.3389876992518461,{"$f":"IF(($G57+$I57*$D57)^2+($H57-$I57*$D57)^2<>0,-mew*($G57+$I57*$D57)/SQRT(($G57+$I57*$D57)^2+($H57-$I57*$C57)^2),0)","v":-0.89430974539230557},{"$f":"-mew*($H57-$C57*$I57)/SQRT(($G57+$D57*$I57)^2+($H57-$I57*$C57)^2)","v":-2.8636008938566055},-3.3389876992518457,{"$f":"($I57-$I56)/DT","v":3.4309461820167879},{"$f":"IF(Q57<>0,mazalazo*(($D57*$J57-$C57*$K57)-2*$I57*($C57*$G57+$D57*$H57))/(INERTIA+mazalazo*($C57^2+$D57^2)),0)","v":3.4698310686409792},-1.2001707324208364,{"$f":"IF(Q57<>0,G57*COS(O57)+H57*SIN(O57)+F57*$I57,0)","v":-2.681570208686388},-5.7293653282895498,{"$f":"R56+mazalazo*($I57^2*($E57*$P57+$F57*$U57))*DT","v":27.667225690880866},{"$f":"IF(Q57<>0,$J57*COS($O57)+$K57*SIN($Z57)+2*$U57*$I57+$E57*$I57^2+$F57*$N57,0)","v":-15.768663681082259},{"$f":"IF(Q57<>0,-$J57*SIN($O57)+$K57*COS($O57)-2*$P57*$I57+$F57*$I57^2-$E57*$N57,0)","v":-2.0723420391905898},{"$f":"IF(Q57<>0,-$G57*SIN(O57)+$H57*COS(O57)-$E57*$I57,0)","v":2.1390604886622349},2.1362830044410597,-2.5815699805112149,0.1997508235323755,1.227854254274678,1.1549863685799782,0.85533319059020785,0.8721612966368999,4.1937644184894092,4.4750452720769909,8.7339727577846436E-3,-4.2573700678941311,5.2560428627091405,1.2642133822993744,0.8466633836109706,-1.2001707324208364,null,false,null,0.3204424506661589,2.1362830044410597,-4.1580540034189877,1.3409273429943713,-0.29675797862920589,-3.6388715153005298,17,0.3204424506661589,-5.7293653282895498,17.649597837405416,{"$f":"1/2*(INERTIA+mazalazo*($C57^2+$D57^2))*$I57^2","v":144.62955561670694},-3.6388715153005298,-0.29675797862920589,-5.7293653282895498,162.27915345411236,18.298988847290786,180.57814230140315,null,0.3204424506661589,1.0225592604335967,{"$f":"$H57-($I57*$C57)","v":3.274258865326896},3.4302184417716428,-0.93690752853608561,-2.8636008938566051,{"$f":"BL56+mazalazo*($I57*(BM57^2+BN57^2)+BM57*BR57-BN57*BQ57)*$BS57*DT","v":-1.8954942688608423},1.2642133822993744,0.8466633836109706,-0.33127939220502234,1.4850347893004638,3.8495578837175741,-0.94693406740028674,0.32687604160313061,3.4309461820167879,3.4698310686409792]
[0,18,1.3366138926897542,0.82830634391522451,-0.38270749686705896,1.5251764059751298,3.8322122205898292,-1.0007559235796959,-3.2729490806330839,{"$f":"IF(($G58+$I58*$D58)^2+($H58-$I58*$D58)^2<>0,-mew*($G58+$I58*$D58)/SQRT(($G58+$I58*$D58)^2+($H58-$I58*$C58)^2),0)","v":-0.94607806007188766},{"$f":"-mew*($H58-$C58*$I58)/SQRT(($G58+$D58*$I58)^2+($H58-$I58*$C58)^2)","v":-2.8469169823250229},-3.2729490806330834,{"$f":"($I58-$I57)/DT","v":3.5034575293788288},{"$f":"IF(Q58<>0,mazalazo*(($D58*$J58-$C58*$K58)-2*$I58*($C58*$G58+$D58*$H58))/(INERTIA+mazalazo*($C58^2+$D58^2)),0)","v":3.534514726421782},-1.2618643691445786,{"$f":"IF(Q58<>0,G58*COS(O58)+H58*SIN(O58)+F58*$I58,0)","v":-2.8732948356377177},-6.332513479358072,{"$f":"R57+mazalazo*($I58^2*($E58*$P58+$F58*$U58))*DT","v":30.267909906277701},{"$f":"IF(Q58<>0,$J58*COS($O58)+$K58*SIN($Z58)+2*$U58*$I58+$E58*$I58^2+$F58*$N58,0)","v":-15.384367308928653},{"$f":"IF(Q58<>0,-$J58*SIN($O58)+$K58*COS($O58)-2*$P58*$I58+$F58*$I58^2-$E58*$N58,0)","v":-2.8844920389406923},{"$f":"IF(Q58<>0,-$G58*SIN(O58)+$H58*COS(O58)-$E58*$I58,0)","v":2.0939375450239783},2.2619467105846511,-3.0904395168245031,-0.16996453580559701,1.3004136374945643,1.227854254274678,0.83748486376309761,0.85533319059020785,3.9440188391136535,4.1937644184894092,1.0519789493667532E-2,-4.2498807732092434,5.2483438164164298,1.3366138926897542,0.82830634391522451,-1.2618643691445786,null,false,null,0.33929200658769765,2.2619467105846511,-4.5659105252968866,1.0446022345257289,-0.34066818141132699,-4.3545966913366403,18,0.33929200658769765,-6.332513479358072,18.960596482445141,{"$f":"1/2*(INERTIA+mazalazo*($C58^2+$D58^2))*$I58^2","v":141.49677305479591},-4.3545966913366403,-0.34066818141132699,-6.332513479358072,160.45736953724105,19.580799735582989,180.03816927282404,null,0.33929200658769765,1.1212077337899444,{"$f":"$H58-($I58*$C58)","v":3.3739132876606419},3.5553336910849067,-0.99695010351082747,-2.8469169823250224,{"$f":"BL57+mazalazo*($I58*(BM58^2+BN58^2)+BM58*BR58-BN58*BQ58)*$BS58*DT","v":-2.1366582817257265},1.3366138926897542,0.82830634391522451,-0.38270749686705896,1.5251764059751298,3.8322122205898292,-1.0007559235796959,0.3383445087747346,3.5034575293788288,3.534514726421782]
[0,19,1.4086782640773687,0.80893780636165324,-0.4376190152984375,1.564367100042205,3.813893274786492,-1.0542543377172198,-3.205834047993751,{"$f":"IF(($G59+$I59*$D59)^2+($H59-$I59*$D59)^2<>0,-mew*($G59+$I59*$D59)/SQRT(($G59+$I59*$D59)^2+($H59-$I59*$C59)^2),0)","v":-0.9975767695234532},{"$f":"-mew*($H59-$C59*$I59)/SQRT(($G59+$D59*$I59)^2+($H59-$I59*$C59)^2)","v":-2.8292826986547586},-3.205834047993751,{"$f":"($I59-$I58)/DT","v":3.5605630667745714},{"$f":"IF(Q59<>0,mazalazo*(($D59*$J59-$C59*$K59)-2*$I59*($C59*$G59+$D59*$H59))/(INERTIA+mazalazo*($C59^2+$D59^2)),0)","v":3.5841746764337539},-1.3222929173074098,{"$f":"IF(Q59<>0,G59*COS(O59)+H59*SIN(O59)+F59*$I59,0)","v":-3.05519113470667},-6.9552183858393795,{"$f":"R58+mazalazo*($I59^2*($E59*$P59+$F59*$U59))*DT","v":32.894644599132079},{"$f":"IF(Q59<>0,$J59*COS($O59)+$K59*SIN($Z59)+2*$U59*$I59+$E59*$I59^2+$F59*$N59,0)","v":-14.90702795196836},{"$f":"IF(Q59<>0,-$J59*SIN($O59)+$K59*COS($O59)-2*$P59*$I59+$F59*$I59^2-$E59*$N59,0)","v":-3.6055911111553343},{"$f":"IF(Q59<>0,-$G59*SIN(O59)+$H59*COS(O59)-$E59*$I59,0)","v":2.0345049639548449},2.387610416728243,-3.548958843367783,-0.60054284355507859,1.3726460783835615,1.3004136374945643,0.81862207513843888,0.83748486376309761,3.7206924471345539,3.9440188391136535,1.2534120301806945E-2,-4.2419362145537338,5.2401481030266668,1.4086782640773687,0.80893780636165324,-1.3222929173074098,null,false,null,0.3581415625092364,2.387610416728243,-4.9334115926482731,0.69949576132813185,-0.38714370914835844,-5.1428411515239283,19,0.3581415625092364,-6.9552183858393795,20.210104976920704,{"$f":"1/2*(INERTIA+mazalazo*($C59^2+$D59^2))*$I59^2","v":138.31423068577735},-5.1428411515239283,-0.38714370914835844,-6.9552183858393795,158.52433566269804,20.79658506176877,179.32092072446682,null,0.3581415625092364,1.2205729124429281,{"$f":"$H59-($I59*$C59)","v":3.4617344039307412},3.670613479780612,-1.0577699817672217,-2.8292826986547586,{"$f":"BL58+mazalazo*($I59*(BM59^2+BN59^2)+BM59*BR59-BN59*BQ59)*$BS59*DT","v":-2.3936927628663884},1.4086782640773687,0.80893780636165324,-0.4376190152984375,1.564367100042205,3.813893274786492,-1.0542543377172198,0.3488462057183076,3.5605630667745714,3.5841746764337539]
[0,20,1.4803881989586061,0.78856403649772566,-0.49582228985051457,1.6023553651299964,3.7946062163593504,-1.1074114002611992,-3.13791804849801,{"$f":"IF(($G60+$I60*$D60)^2+($H60-$I60*$D60)^2<>0,-mew*($G60+$I60*$D60)/SQRT(($G60+$I60*$D60)^2+($H60-$I60*$C60)^2),0)","v":-1.0487962859842928},{"$f":"-mew*($H60-$C60*$I60)/SQRT(($G60+$D60*$I60)^2+($H60-$I60*$C60)^2)","v":-2.8106985520517052},-3.13791804849801,{"$f":"($I60-$I59)/DT","v":3.603055678257951},{"$f":"IF(Q60<>0,mazalazo*(($D60*$J60-$C60*$K60)-2*$I60*($C60*$G60+$D60*$H60))/(INERTIA+mazalazo*($C60^2+$D60^2)),0)","v":3.6196449162987978},-1.3814412790397788,{"$f":"IF(Q60<>0,G60*COS(O60)+H60*SIN(O60)+F60*$I60,0)","v":-3.2262007832867123},-7.5958366176727381,{"$f":"R59+mazalazo*($I60^2*($E60*$P60+$F60*$U60))*DT","v":35.536267930890524},{"$f":"IF(Q60<>0,$J60*COS($O60)+$K60*SIN($Z60)+2*$U60*$I60+$E60*$I60^2+$F60*$N60,0)","v":-14.351534675149109},{"$f":"IF(Q60<>0,-$J60*SIN($O60)+$K60*COS($O60)-2*$P60*$I60+$F60*$I60^2-$E60*$N60,0)","v":-4.233862139007968},{"$f":"IF(Q60<>0,-$G60*SIN(O60)+$H60*COS(O60)-$E60*$I60,0)","v":1.9624880142601335},2.5132741228718345,-3.9498968364552942,-1.0851936225878429,1.4445332315179873,1.3726460783835615,0.79875092142968951,0.81862207513843888,3.5197185086596119,3.7206924471345539,1.4789934439501926E-2,-4.2335430239294727,5.2314573013536592,1.4803881989586061,0.78856403649772566,-1.3814412790397788,null,false,null,0.37699111843077515,2.5132741228718345,-5.2547614941065177,0.31105045864052494,-0.43618097706878828,-6.0018012096073212,20,0.37699111843077515,-7.5958366176727381,21.389596050291715,{"$f":"1/2*(INERTIA+mazalazo*($C60^2+$D60^2))*$I60^2","v":135.09511277715043},-6.0018012096073212,-0.43618097706878828,-7.5958366176727381,156.48470882744215,21.938630103610464,178.42333893105263,null,0.37699111843077515,1.3201568938366934,{"$f":"$H60-($I60*$C60)","v":3.537925448034474},3.776205860409954,-1.1194330518497373,-2.8106985520517052,{"$f":"BL59+mazalazo*($I60*(BM60^2+BN60^2)+BM60*BR60-BN60*BQ60)*$BS60*DT","v":-2.666483945125345},1.4803881989586061,0.78856403649772566,-0.49582228985051457,1.6023553651299964,3.7946062163593504,-1.1074114002611992,0.35839971369630841,3.603055678257951,3.6196449162987978]
[0,21,1.5517254990666063,0.7671916373576132,-0.55710840532051831,1.6389219803292019,3.7743564086336834,-1.1602092128502852,-3.0694601748187309,{"$f":"IF(($G61+$I61*$D61)^2+($H61-$I61*$D61)^2<>0,-mew*($G61+$I61*$D61)/SQRT(($G61+$I61*$D61)^2+($H61-$I61*$C61)^2),0)","v":-1.099725737517383},{"$f":"-mew*($H61-$C61*$I61)/SQRT(($G61+$D61*$I61)^2+($H61-$I61*$C61)^2)","v":-2.7911652230281616},-3.0694601748187305,{"$f":"($I61-$I60)/DT","v":3.6318029965392769},{"$f":"IF(Q61<>0,mazalazo*(($D61*$J61-$C61*$K61)-2*$I61*($C61*$G61+$D61*$H61))/(INERTIA+mazalazo*($C61^2+$D61^2)),0)","v":3.641823102423706},-1.4392992402539606,{"$f":"IF(Q61<>0,G61*COS(O61)+H61*SIN(O61)+F61*$I61,0)","v":-3.3855251941587112},-8.2527581814767963,{"$f":"R60+mazalazo*($I61^2*($E61*$P61+$F61*$U61))*DT","v":38.182396937096499},{"$f":"IF(Q61<>0,$J61*COS($O61)+$K61*SIN($Z61)+2*$U61*$I61+$E61*$I61^2+$F61*$N61,0)","v":-13.732185339250195},{"$f":"IF(Q61<>0,-$J61*SIN($O61)+$K61*COS($O61)-2*$P61*$I61+$F61*$I61^2-$E61*$N61,0)","v":-4.7695399932424882},{"$f":"IF(Q61<>0,-$G61*SIN(O61)+$H61*COS(O61)-$E61*$I61,0)","v":1.8796243939869395},2.6389378290154264,-4.2869304644273027,-1.6162736406022056,1.5160568490126063,1.4445332315179873,0.77787783692766943,0.79875092142968951,3.3378236874732456,3.5197185086596119,1.7300133312580832E-2,-4.2247078304954799,5.2222726995922555,1.5517254990666063,0.7671916373576132,-1.4392992402539606,null,false,null,0.39584067435231396,2.6389378290154264,-5.5248923497604983,-0.11460765906773651,-0.48777718482465071,-6.9288323876089599,21,0.39584067435231396,-8.2527581814767963,22.492153054131222,{"$f":"1/2*(INERTIA+mazalazo*($C61^2+$D61^2))*$I61^2","v":131.85181924204076},-6.9288323876089599,-0.48777718482465071,-8.2527581814767963,154.34397229617198,23.000806368010743,177.34477866418274,null,0.39584067435231396,1.4194922313105161,{"$f":"$H61-($I61*$C61)","v":3.6027504087853828},3.872307929743469,-1.1820071364219857,-2.7911652230281616,{"$f":"BL60+mazalazo*($I61*(BM61^2+BN61^2)+BM61*BR61-BN61*BQ61)*$BS61*DT","v":-2.9548419272118585},1.5517254990666063,0.7671916373576132,-0.55710840532051831,1.6389219803292019,3.7743564086336834,-1.1602092128502852,0.36702907552556507,3.6318029965392769,3.641823102423706]
[0,22,1.6226720692270129,0.7448275492199482,-0.62125585703475017,1.6738798888888318,3.7531494300113493,-1.2126298916833385,-3.0007021638903169,{"$f":"IF(($G62+$I62*$D62)^2+($H62-$I62*$D62)^2<>0,-mew*($G62+$I62*$D62)/SQRT(($G62+$I62*$D62)^2+($H62-$I62*$C62)^2),0)","v":-1.150353209687657},{"$f":"-mew*($H62-$C62*$I62)/SQRT(($G62+$D62*$I62)^2+($H62-$I62*$C62)^2)","v":-2.7706835786428785},-3.0007021638903169,{"$f":"($I62-$I61)/DT","v":3.6477257721412184},{"$f":"IF(Q62<>0,mazalazo*(($D62*$J62-$C62*$K62)-2*$I62*($C62*$G62+$D62*$H62))/(INERTIA+mazalazo*($C62^2+$D62^2)),0)","v":3.6516497716349559},-1.4958611434960936,{"$f":"IF(Q62<>0,G62*COS(O62)+H62*SIN(O62)+F62*$I62,0)","v":-3.5326083446977532},-8.9244136985586966,{"$f":"R61+mazalazo*($I62^2*($E62*$P62+$F62*$U62))*DT","v":40.823458946431423},{"$f":"IF(Q62<>0,$J62*COS($O62)+$K62*SIN($Z62)+2*$U62*$I62+$E62*$I62^2+$F62*$N62,0)","v":-13.062439172428695},{"$f":"IF(Q62<>0,-$J62*SIN($O62)+$K62*COS($O62)-2*$P62*$I62+$F62*$I62^2-$E62*$N62,0)","v":-5.214582715812357},{"$f":"IF(Q62<>0,-$G62*SIN(O62)+$H62*COS(O62)-$E62*$I62,0)","v":1.787629444914588},2.7646015351590183,-4.554744505636557,-2.1854074484622528,1.5871987841468096,1.5160568490126063,0.7560095932887807,0.77787783692766943,3.1723435234061843,3.3378236874732456,2.0077544181006636E-2,-4.2154373227090032,5.2125953577792554,1.6226720692270129,0.7448275492199482,-1.4958611434960936,null,false,null,0.41469023027385271,2.7646015351590183,-5.7395440346482012,-0.57076570900455681,-0.54193009846400619,-7.9205470141129206,22,0.41469023027385271,-8.9244136985586966,23.512411124030756,{"$f":"1/2*(INERTIA+mazalazo*($C62^2+$D62^2))*$I62^2","v":128.59591756377901},-7.9205470141129206,-0.54193009846400619,-8.9244136985586966,152.10832868780977,23.978498233759804,176.08682692156958,null,0.41469023027385271,1.5181437913419291,{"$f":"$H62-($I62*$C62)","v":3.6565256977305376},3.9591590962417564,-1.2455625231493777,-2.7706835786428785,{"$f":"BL61+mazalazo*($I62*(BM62^2+BN62^2)+BM62*BR62-BN62*BQ62)*$BS62*DT","v":-3.2585047472027915},1.6226720692270129,0.7448275492199482,-0.62125585703475017,1.6738798888888318,3.7531494300113493,-1.2126298916833385,0.37476308609186515,3.6477257721412184,3.6516497716349559]
[0,23,1.6932099215860907,0.72147904929925144,-0.68803486115518353,1.7070734861072896,3.7309910918859055,-1.2646555711926522,-2.9318677692946911,{"$f":"IF(($G63+$I63*$D63)^2+($H63-$I63*$D63)^2<>0,-mew*($G63+$I63*$D63)/SQRT(($G63+$I63*$D63)^2+($H63-$I63*$C63)^2),0)","v":-1.2006659205402186},{"$f":"-mew*($H63-$C63*$I63)/SQRT(($G63+$D63*$I63)^2+($H63-$I63*$C63)^2)","v":-2.7492546894118974},-2.9318677692946911,{"$f":"($I63-$I62)/DT","v":3.6517780515439635},{"$f":"IF(Q63<>0,mazalazo*(($D63*$J63-$C63*$K63)-2*$I63*($C63*$G63+$D63*$H63))/(INERTIA+mazalazo*($C63^2+$D63^2)),0)","v":3.6500895176268209},-1.5511255489679709,{"$f":"IF(Q63<>0,G63*COS(O63)+H63*SIN(O63)+F63*$I63,0)","v":-3.6671160633281019},-9.6092804693102778,{"$f":"R62+mazalazo*($I63^2*($E63*$P63+$F63*$U63))*DT","v":43.45070712888257},{"$f":"IF(Q63<>0,$J63*COS($O63)+$K63*SIN($Z63)+2*$U63*$I63+$E63*$I63^2+$F63*$N63,0)","v":-12.354738055175908},{"$f":"IF(Q63<>0,-$J63*SIN($O63)+$K63*COS($O63)-2*$P63*$I63+$F63*$I63^2-$E63*$N63,0)","v":-5.5723748122991399},{"$f":"IF(Q63<>0,-$G63*SIN(O63)+$H63*COS(O63)-$E63*$I63,0)","v":1.6881668931752389},2.8902652413026098,-4.7491153726688342,-2.783619466033973,1.6579409954065518,1.5871987841468096,0.73315329925959982,0.7560095932887807,3.0210871190294801,3.1723435234061843,2.3134913843103989E-2,-4.2057382958627896,5.2024261557363278,1.6932099215860907,0.72147904929925144,-1.5511255489679709,null,false,null,0.43353978619539146,2.8902652413026098,-5.8953313634722431,-1.0502298062268201,-0.59863787123646239,-8.9729205766580478,23,0.43353978619539146,-9.6092804693102778,24.446471521697902,{"$f":"1/2*(INERTIA+mazalazo*($C63^2+$D63^2))*$I63^2","v":125.33811264897395},-8.9729205766580478,-0.59863787123646239,-9.6092804693102778,149.78458417067185,24.868506082914244,174.6530902535861,null,0.43353978619539146,1.6157099210240546,{"$f":"$H63-($I63*$C63)","v":3.6996120245555981},4.0370345157221443,-1.3101724534627135,-2.7492546894118974,{"$f":"BL62+mazalazo*($I63*(BM63^2+BN63^2)+BM63*BR63-BN63*BQ63)*$BS63*DT","v":-3.5771436536294257},1.6932099215860907,0.72147904929925144,-0.68803486115518353,1.7070734861072896,3.7309910918859055,-1.2646555711926522,0.38163461107956698,3.6517780515439635,3.6500895176268209]
[0,24,1.7633211801484387,0.69715375136502655,-0.7572112545025721,1.7383774197386057,3.7078874537218525,-1.3162684080502776,-2.8631624684318946,{"$f":"IF(($G64+$I64*$D64)^2+($H64-$I64*$D64)^2<>0,-mew*($G64+$I64*$D64)/SQRT(($G64+$I64*$D64)^2+($H64-$I64*$C64)^2),0)","v":-1.2506503492684575},{"$f":"-mew*($H64-$C64*$I64)/SQRT(($G64+$D64*$I64)^2+($H64-$I64*$C64)^2)","v":-2.7268798477150922},-2.863162468431895,{"$f":"($I64-$I63)/DT","v":3.6449294163099735},{"$f":"IF(Q64<>0,mazalazo*(($D64*$J64-$C64*$K64)-2*$I64*($C64*$G64+$D64*$H64))/(INERTIA+mazalazo*($C64^2+$D64^2)),0)","v":3.6381143158199705},-1.6050948900291289,{"$f":"IF(Q64<>0,G64*COS(O64)+H64*SIN(O64)+F64*$I64,0)","v":-3.7889130027875213},-10.30588747095983,{"$f":"R63+mazalazo*($I64^2*($E64*$P64+$F64*$U64))*DT","v":46.056222061272777},{"$f":"IF(Q64<>0,$J64*COS($O64)+$K64*SIN($Z64)+2*$U64*$I64+$E64*$I64^2+$F64*$N64,0)","v":-11.620390457618875},{"$f":"IF(Q64<>0,-$J64*SIN($O64)+$K64*COS($O64)-2*$P64*$I64+$F64*$I64^2-$E64*$N64,0)","v":-5.8474355833945246},{"$f":"IF(Q64<>0,-$G64*SIN(O64)+$H64*COS(O64)-$E64*$I64,0)","v":1.5828251235860957},3.0159289474462017,-4.8669777208395093,-3.4014755324457262,1.7282655508672646,1.6579409954065518,0.70931640033213905,0.73315329925959982,2.8822363759707046,3.0210871190294801,2.6484902266259845E-2,-4.1956176889886958,5.1917658304706569,1.7633211801484387,0.69715375136502655,-1.6050948900291289,null,false,null,0.45238934211693022,3.0159289474462017,-5.9897974769942319,-1.5454385155033661,-0.65789889262425261,-10.081402327973066,24,0.45238934211693022,-10.30588747095983,25.291795671821532,{"$f":"1/2*(INERTIA+mazalazo*($C64^2+$D64^2))*$I64^2","v":122.08823274127131},-10.081402327973066,-0.65789889262425261,-10.30588747095983,147.38002841309284,25.668932262339879,173.04896067543274,null,0.45238934211693022,1.7118229980870074,{"$f":"$H64-($I64*$C64)","v":3.7324066147417674},4.1062388038870425,-1.3759135925806218,-2.7268798477150922,{"$f":"BL63+mazalazo*($I64*(BM64^2+BN64^2)+BM64*BR64-BN64*BQ64)*$BS64*DT","v":-3.9103693395559094},1.7633211801484387,0.69715375136502655,-0.7572112545025721,1.7383774197386057,3.7078874537218525,-1.3162684080502776,0.3876799426080989,3.6449294163099735,3.6381143158199705]
[0,25,1.8329880855781802,0.67185960528198418,-0.82854995261886055,1.7676950039801858,3.6838448360333942,-1.3674505855342831,-2.7947734629894159,{"$f":"IF(($G65+$I65*$D65)^2+($H65-$I65*$D65)^2<>0,-mew*($G65+$I65*$D65)/SQRT(($G65+$I65*$D65)^2+($H65-$I65*$C65)^2),0)","v":-1.3002923322847204},{"$f":"-mew*($H65-$C65*$I65)/SQRT(($G65+$D65*$I65)^2+($H65-$I65*$C65)^2)","v":-2.7035605875588522},-2.7947734629894159,{"$f":"($I65-$I64)/DT","v":3.6281494231030074},{"$f":"IF(Q65<>0,mazalazo*(($D65*$J65-$C65*$K65)-2*$I65*($C65*$G65+$D65*$H65))/(INERTIA+mazalazo*($C65^2+$D65^2)),0)","v":3.616689085466648},-1.6577751287077804,{"$f":"IF(Q65<>0,G65*COS(O65)+H65*SIN(O65)+F65*$I65,0)","v":-3.8980383919107529},-11.012819349961623,{"$f":"R64+mazalazo*($I65^2*($E65*$P65+$F65*$U65))*DT","v":48.632901265975235},{"$f":"IF(Q65<>0,$J65*COS($O65)+$K65*SIN($Z65)+2*$U65*$I65+$E65*$I65^2+$F65*$N65,0)","v":-10.869510280253987},{"$f":"IF(Q65<>0,-$J65*SIN($O65)+$K65*COS($O65)-2*$P65*$I65+$F65*$I65^2-$E65*$N65,0)","v":-6.0451425936367507},{"$f":"IF(Q65<>0,-$G65*SIN(O65)+$H65*COS(O65)-$E65*$I65,0)","v":1.4730987823922526},3.1415926535897936,-4.9064727905103735,-4.0292316884408734,1.7981546328633096,1.7282655508672646,0.68450667832350542,0.70931640033213905,2.7542699089749982,2.8822363759707046,3.0140076140223099E-2,-4.1850826138886621,5.1806150058002274,1.8329880855781802,0.67185960528198418,-1.6577751287077804,null,false,null,0.47123889803846897,3.1415926535897936,-6.0214525881726058,-2.0485820996655582,-0.71971165806594417,-11.241026216442579,25,0.47123889803846897,-11.012819349961623,26.047084991243558,{"$f":"1/2*(INERTIA+mazalazo*($C65^2+$D65^2))*$I65^2","v":118.85522940333226},-11.241026216442579,-0.71971165806594417,-11.012819349961623,144.90231439457582,26.379055699571033,171.28137009414687,null,0.47123889803846897,1.8061494403367613,{"$f":"$H65-($I65*$C65)","v":3.7553358740153868},4.1671001100880334,-1.4428664979083794,-2.7035605875588522,{"$f":"BL64+mazalazo*($I65*(BM65^2+BN65^2)+BM65*BR65-BN65*BQ65)*$BS65*DT","v":-4.257738910952404},1.8329880855781802,0.67185960528198418,-0.82854995261886055,1.7676950039801858,3.6838448360333942,-1.3674505855342831,0.39293819888335502,3.6281494231030074,3.616689085466648]
[0,26,1.9021930002292193,0.6456048964643788,-0.90181795339059556,1.7949563424780608,3.6588698317831154,-1.4181843182793969,-2.7268699304086685,{"$f":"IF(($G66+$I66*$D66)^2+($H66-$I66*$D66)^2<>0,-mew*($G66+$I66*$D66)/SQRT(($G66+$I66*$D66)^2+($H66-$I66*$C66)^2),0)","v":-1.3495771360971238},{"$f":"-mew*($H66-$C66*$I66)/SQRT(($G66+$D66*$I66)^2+($H66-$I66*$C66)^2)","v":-2.6792987055802278},-2.7268699304086685,{"$f":"($I66-$I65)/DT","v":3.6023942878758342},{"$f":"IF(Q66<>0,mazalazo*(($D66*$J66-$C66*$K66)-2*$I66*($C66*$G66+$D66*$H66))/(INERTIA+mazalazo*($C66^2+$D66^2)),0)","v":3.5867594895749626},-1.7091754159517811,{"$f":"IF(Q66<>0,G66*COS(O66)+H66*SIN(O66)+F66*$I66,0)","v":-3.9946814978040308},-11.728719480752615,{"$f":"R65+mazalazo*($I66^2*($E66*$P66+$F66*$U66))*DT","v":51.174438669821853},{"$f":"IF(Q66<>0,$J66*COS($O66)+$K66*SIN($Z66)+2*$U66*$I66+$E66*$I66^2+$F66*$N66,0)","v":-10.111001965138025},{"$f":"IF(Q66<>0,-$J66*SIN($O66)+$K66*COS($O66)-2*$P66*$I66+$F66*$I66^2-$E66*$N66,0)","v":-6.171477615423326},{"$f":"IF(Q66<>0,-$G66*SIN(O66)+$H66*COS(O66)-$E66*$I66,0)","v":1.3603753429621164},3.267256359733385,-4.8669777208395093,-4.656987844436018,1.8675905429036996,1.7981546328633096,0.65873225087318144,0.68450667832350542,2.6359048630786202,2.7542699089749982,3.4112902326817227E-2,-4.1741403782693371,5.1689742161876255,1.9021930002292193,0.6456048964643788,-1.7091754159517811,null,false,null,0.49008845396000772,3.267256359733385,-5.9897974769942319,-2.5517256838277484,-0.7840746539440806,-12.446518851322795,26,0.49008845396000772,-11.728719480752615,26.712152013955727,{"$f":"1/2*(INERTIA+mazalazo*($C66^2+$D66^2))*$I66^2","v":115.64718953666319},-12.446518851322795,-0.7840746539440806,-11.728719480752615,142.35934155061892,26.999200337746444,169.35854188836538,null,0.49008845396000772,1.8983892526897992,{"$f":"$H66-($I66*$C66)","v":3.7688485758795114},4.2199646139081732,-1.5111160990967523,-2.6792987055802278,{"$f":"BL65+mazalazo*($I66*(BM66^2+BN66^2)+BM66*BR66-BN66*BQ66)*$BS66*DT","v":-4.6187633742771039},1.9021930002292193,0.6456048964643788,-0.90181795339059556,1.7949563424780608,3.6588698317831154,-1.4181843182793969,0.39745077322669853,3.6023942878758342,3.5867594895749626]
[0,27,1.9709184133784774,0.61839824523699694,-0.97678688906986777,1.8201162477291777,3.6329693165722827,-1.4684518574344891,-2.659603484731885,{"$f":"IF(($G67+$I67*$D67)^2+($H67-$I67*$D67)^2<>0,-mew*($G67+$I67*$D67)/SQRT(($G67+$I67*$D67)^2+($H67-$I67*$C67)^2),0)","v":-1.3984895135584559},{"$f":"-mew*($H67-$C67*$I67)/SQRT(($G67+$D67*$I67)^2+($H67-$I67*$C67)^2)","v":-2.6540962831945332},-2.659603484731885,{"$f":"($I67-$I66)/DT","v":3.5685957778941839},{"$f":"IF(Q67<>0,mazalazo*(($D67*$J67-$C67*$K67)-2*$I67*($C67*$G67+$D67*$H67))/(INERTIA+mazalazo*($C67^2+$D67^2)),0)","v":3.5492419023108792},-1.7593077605663541,{"$f":"IF(Q67<>0,G67*COS(O67)+H67*SIN(O67)+F67*$I67,0)","v":-4.079157561995018},-12.452292169547379,{"$f":"R66+mazalazo*($I67^2*($E67*$P67+$F67*$U67))*DT","v":53.675295860492454},{"$f":"IF(Q67<>0,$J67*COS($O67)+$K67*SIN($Z67)+2*$U67*$I67+$E67*$I67^2+$F67*$N67,0)","v":-9.3525830262507466},{"$f":"IF(Q67<>0,-$J67*SIN($O67)+$K67*COS($O67)-2*$P67*$I67+$F67*$I67^2-$E67*$N67,0)","v":-6.2327998555404571},{"$f":"IF(Q67<>0,-$G67*SIN(O67)+$H67*COS(O67)-$E67*$I67,0)","v":1.2459261584204713},3.3929200658769769,-4.7491153726688342,-5.2748439108477712,1.9365557068038484,1.8675905429036996,0.63200157085068787,0.65873225087318144,2.5260519045464167,2.6359048630786202,3.841574119897663E-2,-4.1627985043611684,5.1568439261686247,1.9709184133784774,0.61839824523699694,-1.7593077605663541,null,false,null,0.50893800988154647,3.3929200658769769,-5.8953313634722431,-3.0469343931042943,-0.85098625387347748,-13.692401874892671,{"$f":"AT66+1","v":27},0.50893800988154647,-12.452292169547379,27.287787611726294,{"$f":"1/2*(INERTIA+mazalazo*($C67^2+$D67^2))*$I67^2","v":112.47135744258598},-13.692401874892671,-0.85098625387347748,-12.452292169547379,139.75914505431228,27.530601816052403,167.2897468703647,null,0.50893800988154647,1.9882751885878829,{"$f":"$H67-($I67*$C67)","v":3.7734096229091469},4.2651914854807549,-1.5807522007549788,-2.6540962831945332,{"$f":"BL66+mazalazo*($I67*(BM67^2+BN67^2)+BM67*BR67-BN67*BQ67)*$BS67*DT","v":-4.9929154474207618},1.9709184133784774,0.61839824523699694,-0.97678688906986777,1.8201162477291777,3.6329693165722827,-1.4684518574344891,0.4012608361245209,3.5685957778941839,3.5492419023108792]
[0,28,2.0391469466419863,0.59024860609493124,-1.0532351419276154,1.8431520346420316,3.6061504578898109,-1.5182354962476097,-2.5931088070727761,{"$f":"IF(($G68+$I68*$D68)^2+($H68-$I68*$D68)^2<>0,-mew*($G68+$I68*$D68)/SQRT(($G68+$I68*$D68)^2+($H68-$I68*$C68)^2),0)","v":-1.4470137481501852},{"$f":"-mew*($H68-$C68*$I68)/SQRT(($G68+$D68*$I68)^2+($H68-$I68*$C68)^2)","v":-2.6279557097988455},-2.5931088070727761,{"$f":"($I68-$I67)/DT","v":3.527652212916466},{"$f":"IF(Q68<>0,mazalazo*(($D68*$J68-$C68*$K68)-2*$I68*($C68*$G68+$D68*$H68))/(INERTIA+mazalazo*($C68^2+$D68^2)),0)","v":3.5050154196044314},-1.808186710035907,{"$f":"IF(Q68<>0,G68*COS(O68)+H68*SIN(O68)+F68*$I68,0)","v":-4.1518848081819719},-13.182304085705033,{"$f":"R67+mazalazo*($I68^2*($E68*$P68+$F68*$U68))*DT","v":56.130666902075212},{"$f":"IF(Q68<>0,$J68*COS($O68)+$K68*SIN($Z68)+2*$U68*$I68+$E68*$I68^2+$F68*$N68,0)","v":-8.6008354450308868},{"$f":"IF(Q68<>0,-$J68*SIN($O68)+$K68*COS($O68)-2*$P68*$I68+$F68*$I68^2-$E68*$N68,0)","v":-6.2356490702638734},{"$f":"IF(Q68<>0,-$G68*SIN(O68)+$H68*COS(O68)-$E68*$I68,0)","v":1.1309014587859481},3.5185837720205688,-4.5547445056365561,-5.8730559284194932,2.005032680010232,1.9365557068038484,0.60432342566596409,0.63200157085068787,2.4237800321053093,2.5260519045464167,4.3060839846371796E-2,-4.1510647440761099,5.1442245464386289,2.0391469466419863,0.59024860609493124,-1.808186710035907,null,false,null,0.52778756580308528,3.5185837720205688,-5.7395440346481994,-3.5263984903265593,-0.92044462336408239,-14.973086758676727,28,0.52778756580308528,-13.182304085705033,27.775628354844656,{"$f":"1/2*(INERTIA+mazalazo*($C68^2+$D68^2))*$I68^2","v":109.33416501737977},-14.973086758676727,-0.92044462336408239,-13.182304085705033,137.10979337222443,27.975276057693453,165.08506942991789,null,0.52778756580308528,2.0755715990626147,{"$f":"$H68-($I68*$C68)","v":3.7694944100052847},4.3031483323139614,-1.6518700175441072,-2.6279557097988455,{"$f":"BL67+mazalazo*($I68*(BM68^2+BN68^2)+BM68*BR68-BN68*BQ68)*$BS68*DT","v":-5.3796375211352299},2.0391469466419863,0.59024860609493124,-1.0532351419276154,1.8431520346420316,3.6061504578898109,-1.5182354962476097,0.40441289236090572,3.527652212916466,3.5050154196044314]
[0,29,2.1068613595580055,0.56116526685389789,-1.1309495481920271,1.8640612555831053,3.5784207236120302,-1.5675175760977098,-2.5275044086801968,{"$f":"IF(($G69+$I69*$D69)^2+($H69-$I69*$D69)^2<>0,-mew*($G69+$I69*$D69)/SQRT(($G69+$I69*$D69)^2+($H69-$I69*$C69)^2),0)","v":-1.4951336896671064},{"$f":"-mew*($H69-$C69*$I69)/SQRT(($G69+$D69*$I69)^2+($H69-$I69*$C69)^2)","v":-2.6008797069496365},-2.5275044086801968,{"$f":"($I69-$I68)/DT","v":3.480421430916333},{"$f":"IF(Q69<>0,mazalazo*(($D69*$J69-$C69*$K69)-2*$I69*($C69*$G69+$D69*$H69))/(INERTIA+mazalazo*($C69^2+$D69^2)),0)","v":3.4549157504949171},-1.8558290457292601,{"$f":"IF(Q69<>0,G69*COS(O69)+H69*SIN(O69)+F69*$I69,0)","v":-4.2133629635463983},-13.917585004443723,{"$f":"R68+mazalazo*($I69^2*($E69*$P69+$F69*$U69))*DT","v":58.536438323854419},{"$f":"IF(Q69<>0,$J69*COS($O69)+$K69*SIN($Z69)+2*$U69*$I69+$E69*$I69^2+$F69*$N69,0)","v":-7.8612780431787375},{"$f":"IF(Q69<>0,-$J69*SIN($O69)+$K69*COS($O69)-2*$P69*$I69+$F69*$I69^2-$E69*$N69,0)","v":-6.1865793541327072},{"$f":"IF(Q69<>0,-$G69*SIN(O69)+$H69*COS(O69)-$E69*$I69,0)","v":1.0163287211000429},3.6442474781641603,-4.2869304644273019,-6.4421897362795386,2.0730041530999959,2.005032680010232,0.57570693647441451,0.60432342566596409,2.3282887963732075,2.4237800321053093,4.8060325147217066E-2,-4.1389470914331161,5.1311164473318538,2.1068613595580055,0.56116526685389789,-1.8558290457292601,null,false,null,0.54663712172462398,3.6442474781641603,-5.5248923497604974,-3.9825565402633778,-0.99244763067769204,-16.282960640758514,29,0.54663712172462398,-13.917585004443723,28.178027297876007,{"$f":"1/2*(INERTIA+mazalazo*($C69^2+$D69^2))*$I69^2","v":106.24126830569939},-16.282960640758514,-0.99244763067769204,-13.917585004443723,134.41929560357539,28.335892678652183,162.75518828222758,null,0.54663712172462398,2.1600730376406041,{"$f":"$H69-($I69*$C69)","v":3.7575837986631022},4.3342071399412063,-1.7245707508179557,-2.6008797069496365,{"$f":"BL68+mazalazo*($I69*(BM69^2+BN69^2)+BM69*BR69-BN69*BQ69)*$BS69*DT","v":-5.7783496231101168},2.1068613595580055,0.56116526685389789,-1.1309495481920271,1.8640612555831053,3.5784207236120302,-1.5675175760977098,0.40695239391962457,3.480421430916333,3.4549157504949171]
[0,30,2.1740445553244103,0.5311578476825094,-1.2097267216167513,1.8828594336000803,3.549787889890927,-1.6162804929906551,-2.462893492875359,{"$f":"IF(($G70+$I70*$D70)^2+($H70-$I70*$D70)^2<>0,-mew*($G70+$I70*$D70)/SQRT(($G70+$I70*$D70)^2+($H70-$I70*$C70)^2),0)","v":-1.5428327837696487},{"$f":"-mew*($H70-$C70*$I70)/SQRT(($G70+$D70*$I70)^2+($H70-$I70*$C70)^2)","v":-2.5728713534348344},-2.462893492875359,{"$f":"($I70-$I69)/DT","v":3.427715542678067},{"$f":"IF(Q70<>0,mazalazo*(($D70*$J70-$C70*$K70)-2*$I70*($C70*$G70+$D70*$H70))/(INERTIA+mazalazo*($C70^2+$D70^2)),0)","v":3.3997308024925039},-1.9022534943520082,{"$f":"IF(Q70<>0,G70*COS(O70)+H70*SIN(O70)+F70*$I70,0)","v":-4.2641535955976302},-14.657027943760191,{"$f":"R69+mazalazo*($I70^2*($E70*$P70+$F70*$U70))*DT","v":60.889145728886369},{"$f":"IF(Q70<>0,$J70*COS($O70)+$K70*SIN($Z70)+2*$U70*$I70+$E70*$I70^2+$F70*$N70,0)","v":-7.1384528469327035},{"$f":"IF(Q70<>0,-$J70*SIN($O70)+$K70*COS($O70)-2*$P70*$I70+$F70*$I70^2-$E70*$N70,0)","v":-6.0920229577667255},{"$f":"IF(Q70<>0,-$G70*SIN(O70)+$H70*COS(O70)-$E70*$I70,0)","v":0.90311384198334377},3.7699111843077522,-3.9498968364552933,-6.9732697542939013,2.1404529574412079,2.0730041530999959,0.5461615572682037,0.57570693647441451,2.2388861695397906,2.3282887963732075,5.3426196691919399E-2,-4.1264537928328071,5.1175199702833059,2.1740445553244103,0.5311578476825094,-1.9022534943520082,null,false,null,0.56548667764616278,3.7699111843077522,-5.2547614941065168,-4.408214657971639,-1.0669927622413331,-17.616462356957687,30,0.56548667764616278,-14.657027943760191,28.497930747645171,{"$f":"1/2*(INERTIA+mazalazo*($C70^2+$D70^2))*$I70^2","v":103.19758879539249},-17.616462356957687,-1.0669927622413331,-14.657027943760191,131.69551954303768,28.615655428168488,160.31117497120616,null,0.56548667764616278,2.2416026831439932,{"$f":"$H70-($I70*$C70)","v":3.738159695538938},4.3587407009857921,-1.7989622159420482,-2.5728713534348344,{"$f":"BL69+mazalazo*($I70*(BM70^2+BN70^2)+BM70*BR70-BN70*BQ70)*$BS70*DT","v":-6.1884572626043104},2.1740445553244103,0.5311578476825094,-1.2097267216167513,1.8828594336000803,3.549787889890927,-1.6162804929906551,0.4089254082006209,3.427715542678067,3.3997308024925039]
[0,31,2.2406795866797986,0.50023630000759689,-1.2893740323176932,1.8995778401512415,3.5202600485283146,-1.6645067045356361,-2.3993648857967669,{"$f":"IF(($G71+$I71*$D71)^2+($H71-$I71*$D71)^2<>0,-mew*($G71+$I71*$D71)/SQRT(($G71+$I71*$D71)^2+($H71-$I71*$C71)^2),0)","v":-1.5900940972398163},{"$f":"-mew*($H71-$C71*$I71)/SQRT(($G71+$D71*$I71)^2+($H71-$I71*$C71)^2)","v":-2.5439341111599356},-2.3993648857967664,{"$f":"($I71-$I70)/DT","v":3.3702972814335679},{"$f":"IF(Q71<>0,mazalazo*(($D71*$J71-$C71*$K71)-2*$I71*($C71*$G71+$D71*$H71))/(INERTIA+mazalazo*($C71^2+$D71^2)),0)","v":3.3401977618046357},-1.9474804569430109,{"$f":"IF(Q71<>0,G71*COS(O71)+H71*SIN(O71)+F71*$I71,0)","v":-4.3048624452790589},-15.399588775777165,{"$f":"R70+mazalazo*($I71^2*($E71*$P71+$F71*$U71))*DT","v":63.185928291844185},{"$f":"IF(Q71<>0,$J71*COS($O71)+$K71*SIN($Z71)+2*$U71*$I71+$E71*$I71^2+$F71*$N71,0)","v":-6.4360194826346895},{"$f":"IF(Q71<>0,-$J71*SIN($O71)+$K71*COS($O71)-2*$P71*$I71+$F71*$I71^2-$E71*$N71,0)","v":-5.9581824334006663},{"$f":"IF(Q71<>0,-$G71*SIN(O71)+$H71*COS(O71)-$E71*$I71,0)","v":0.79204456584144634},3.8955748904513436,-3.5489588433677821,-7.457920533326666,2.2073620710021045,2.1404529574412079,0.51569707384505314,0.5461615572682037,2.1549707684732446,2.2388861695397906,5.9170319551668064E-2,-4.1135933556059792,5.1034354377062048,2.2406795866797986,0.50023630000759689,-1.9474804569430109,null,false,null,0.58433623356770148,3.8955748904513436,-4.9334115926482731,-4.7966599606592464,-1.1440770413820629,-18.968148279353851,31,0.58433623356770148,-15.399588775777165,28.738762900579449,{"$f":"1/2*(INERTIA+mazalazo*($C71^2+$D71^2))*$I71^2","v":100.20735801218039},-18.968148279353851,-1.1440770413820629,-15.399588775777165,128.94612091275985,28.818191236713169,157.76431214947303,null,0.58433623356770148,2.3200106356891901,{"$f":"$H71-($I71*$C71)","v":3.7117012160654852},4.3771195171085928,-1.8751595297978789,-2.5439341111599356,{"$f":"BL70+mazalazo*($I71*(BM71^2+BN71^2)+BM71*BR71-BN71*BQ71)*$BS71*DT","v":-6.6093590588944258},2.2406795866797986,0.50023630000759689,-1.2893740323176932,1.8995778401512415,3.5202600485283146,-1.6645067045356361,0.4103783401986148,3.3702972814335679,3.3401977618046357]
[0,32,2.3067496619193015,0.46841090528338664,-1.3697102787774253,1.9142613539338564,3.4898456139032614,-1.712178737416542,-2.3369940096807498,{"$f":"IF(($G72+$I72*$D72)^2+($H72-$I72*$D72)^2<>0,-mew*($G72+$I72*$D72)/SQRT(($G72+$I72*$D72)^2+($H72-$I72*$C72)^2),0)","v":-1.6369003403273739},{"$f":"-mew*($H72-$C72*$I72)/SQRT(($G72+$D72*$I72)^2+($H72-$I72*$C72)^2)","v":-2.5140718517648075},-2.3369940096807498,{"$f":"($I72-$I71)/DT","v":3.3088777462787853},{"$f":"IF(Q72<>0,mazalazo*(($D72*$J72-$C72*$K72)-2*$I72*($C72*$G72+$D72*$H72))/(INERTIA+mazalazo*($C72^2+$D72^2)),0)","v":3.2770014664780875},-1.9915317562167894,{"$f":"IF(Q72<>0,G72*COS(O72)+H72*SIN(O72)+F72*$I72,0)","v":-4.3361238358238294},-16.144285388799432,{"$f":"R71+mazalazo*($I72^2*($E72*$P72+$F72*$U72))*DT","v":65.424482237261486},{"$f":"IF(Q72<>0,$J72*COS($O72)+$K72*SIN($Z72)+2*$U72*$I72+$E72*$I72^2+$F72*$N72,0)","v":-5.7568527028381187},{"$f":"IF(Q72<>0,-$J72*SIN($O72)+$K72*COS($O72)-2*$P72*$I72+$F72*$I72^2-$E72*$N72,0)","v":-5.7909486856038521},{"$f":"IF(Q72<>0,-$G72*SIN(O72)+$H72*COS(O72)-$E72*$I72,0)","v":0.68379566194135721},4.0212385965949355,{"$f":"IF(ERGOTRIVIS<>0,RX+AKT_KAMP*COS(V72),TEL_AKTINA*COS(V72))","v":-3.0904395168245022},{"$f":"IF(ERGOTRIVIS<>0,RY+AKT_KAMP*SIN(V72),TEL_AKTINA*SIN(V72))","v":-7.8884988410761476},2.2737146242995498,2.2073620710021045,0.48432360264549179,0.51569707384505314,2.0760174637910151,2.1549707684732446,6.5304416887885269E-2,-4.1003745551554616,5.0888631616121076,2.3067496619193015,0.46841090528338664,-1.9915317562167894,null,false,null,0.60318578948924029,4.0212385965949355,{"$f":"xtomi11+aktistomon*COS(AO72)","v":-4.5659105252968857},{"$f":"ytomi11+aktistomon*SIN(AO72)","v":-5.1417664338568425},-1.2236969494493559,-20.332747957110406,32,0.60318578948924029,-16.144285388799432,28.904319640334073,{"$f":"1/2*(INERTIA+mazalazo*($C72^2+$D72^2))*$I72^2","v":97.274164154664192},-20.332747957110406,-1.2236969494493559,-16.144285388799432,126.17848379499827,28.947448891351648,155.12593268634993,null,0.60318578948924029,2.3951721341868497,{"$f":"$H72-($I72*$C72)","v":3.6786814043219609},4.3897091506031902,-1.9532858687133177,-2.5140718517648075,{"$f":"BL71+mazalazo*($I72*(BM72^2+BN72^2)+BM72*BR72-BN72*BQ72)*$BS72*DT","v":-7.0404540809595577},2.3067496619193015,0.46841090528338664,-1.3697102787774253,1.9142613539338564,3.4898456139032614,-1.712178737416542,0.41135770663062166,3.3088777462787853,3.2770014664780875]
[0,33,2.3722381510371244,0.43569227361507723,-1.450566091513271,1.9269664285284844,3.4585533294971715,-1.7592791953712483,-2.2758438761779938,{"$f":"IF(($G73+$I73*$D73)^2+($H73-$I73*$D73)^2<>0,-mew*($G73+$I73*$D73)/SQRT(($G73+$I73*$D73)^2+($H73-$I73*$C73)^2),0)","v":-1.6832338872487744},{"$f":"-mew*($H73-$C73*$I73)/SQRT(($G73+$D73*$I73)^2+($H73-$I73*$C73)^2)","v":-2.4832888838831013},-2.2758438761779938,{"$f":"($I73-$I72)/DT","v":3.2441153392309778},{"$f":"IF(Q73<>0,mazalazo*(($D73*$J73-$C73*$K73)-2*$I73*($C73*$G73+$D73*$H73))/(INERTIA+mazalazo*($C73^2+$D73^2)),0)","v":3.2107738752096986},-2.0344304026294981,{"$f":"IF(Q73<>0,G73*COS(O73)+H73*SIN(O73)+F73*$I73,0)","v":-4.3585871554213043},-16.890196471477594,{"$f":"R72+mazalazo*($I73^2*($E73*$P73+$F73*$U73))*DT","v":67.603014216106402},{"$f":"IF(Q73<>0,$J73*COS($O73)+$K73*SIN($Z73)+2*$U73*$I73+$E73*$I73^2+$F73*$N73,0)","v":-5.1031391685699763},{"$f":"IF(Q73<>0,-$J73*SIN($O73)+$K73*COS($O73)-2*$P73*$I73+$F73*$I73^2-$E73*$N73,0)","v":-5.5958420704700069},{"$f":"IF(Q73<>0,-$G73*SIN(O73)+$H73*COS(O73)-$E73*$I73,0)","v":0.57893539399497662},4.1469023027385274,-2.5815699805112122,-8.2582142004141197,2.339493906478213,2.2737146242995498,0.45205158944923196,0.48432360264549179,2.0015656455845527,2.0760174637910151,7.1840062395903473E-2,-4.0868064409436693,5.0738034512347658,2.3722381510371244,0.43569227361507723,-2.0344304026294981,null,false,null,0.62203534541077909,4.1469023027385274,-4.158054003418985,-5.4380915423254859,-1.3058483486204207,-21.705209857794305,33,0.62203534541077909,-16.890196471477594,28.99867227273554,{"$f":"1/2*(INERTIA+mazalazo*($C73^2+$D73^2))*$I73^2","v":94.400999691057379},-21.705209857794305,-1.3058483486204207,-16.890196471477594,123.39967196379291,29.007607886834506,152.40727985062742,null,0.62203534541077909,2.466985736692231,{"$f":"$H73-($I73*$C73)","v":3.6395644735023982},4.396867996861368,-2.0334733081276233,-2.4832888838831013,{"$f":"BL72+mazalazo*($I73*(BM73^2+BN73^2)+BM73*BR73-BN73*BQ73)*$BS73*DT","v":-7.4811488482229809},2.3722381510371244,0.43569227361507723,-1.450566091513271,1.9269664285284844,3.4585533294971715,-1.7592791953712483,0.41190995955872711,3.2441153392309778,3.2107738752096986]
[0,34,2.4371285919885151,0.40209134222713333,-1.5317841061943862,1.9377591887002379,3.426392274043244,-1.8057907676900531,-2.2159660808352157,{"$f":"IF(($G74+$I74*$D74)^2+($H74-$I74*$D74)^2<>0,-mew*($G74+$I74*$D74)/SQRT(($G74+$I74*$D74)^2+($H74-$I74*$C74)^2),0)","v":-1.7290767956645374},{"$f":"-mew*($H74-$C74*$I74)/SQRT(($G74+$D74*$I74)^2+($H74-$I74*$C74)^2)","v":-2.4515899809500072},-2.2159660808352157,{"$f":"($I74-$I73)/DT","v":3.1766157034159983},{"$f":"IF(Q74<>0,mazalazo*(($D74*$J74-$C74*$K74)-2*$I74*($C74*$G74+$D74*$H74))/(INERTIA+mazalazo*($C74^2+$D74^2)),0)","v":3.142094444820569},-2.0762003791904347,{"$f":"IF(Q74<>0,G74*COS(O74)+H74*SIN(O74)+F74*$I74,0)","v":-4.3729053489497911},-17.636459984975396,{"$f":"R73+mazalazo*($I74^2*($E74*$P74+$F74*$U74))*DT","v":69.720195335267874},{"$f":"IF(Q74<>0,$J74*COS($O74)+$K74*SIN($Z74)+2*$U74*$I74+$E74*$I74^2+$F74*$N74,0)","v":-4.4764705605332775},{"$f":"IF(Q74<>0,-$J74*SIN($O74)+$K74*COS($O74)-2*$P74*$I74+$F74*$I74^2-$E74*$N74,0)","v":-5.377973486716213},{"$f":"IF(Q74<>0,-$G74*SIN(O74)+$H74*COS(O74)-$E74*$I74,0)","v":0.47793288188971061},4.2725660088821193,-2.0303754109994983,-8.5612359792665771,2.40468337151282,2.339493906478213,0.41889180792110525,0.45205158944923196,1.9312095906565698,2.0015656455845527,7.8788672571332277E-2,-4.0728983415319711,5.0582566198741592,2.4371285919885151,0.40209134222713333,-2.0762003791904347,null,false,null,0.64088490133231779,4.2725660088821193,-3.7162741680062612,-5.6809620620885877,-1.3905264058605382,-23.080737737179721,34,0.64088490133231779,-17.636459984975396,29.02608154569765,{"$f":"1/2*(INERTIA+mazalazo*($C74^2+$D74^2))*$I74^2","v":91.590309013062736},-23.080737737179721,-1.3905264058605382,-17.636459984975396,120.61639055876039,29.002997613112754,149.61938817187314,null,0.64088490133231779,2.5353714982704121,{"$f":"$H74-($I74*$C74)","v":3.5948035267901846},4.3989454452703889,-2.1158637567051595,-2.4515899809500072,{"$f":"BL73+mazalazo*($I74*(BM74^2+BN74^2)+BM74*BR74-BN74*BQ74)*$BS74*DT","v":-7.9308639624796884},2.4371285919885151,0.40209134222713333,-1.5317841061943862,1.9377591887002379,3.426392274043244,-1.8057907676900531,0.41208135681296992,3.1766157034159983,3.142094444820569]
[0,35,2.5014046970642143,0.36761937376642012,-1.6132189423002616,1.946713668382424,3.3933718673131983,-1.8516962382426545,-2.1574017832684023,{"$f":"IF(($G75+$I75*$D75)^2+($H75-$I75*$D75)^2<>0,-mew*($G75+$I75*$D75)/SQRT(($G75+$I75*$D75)^2+($H75-$I75*$C75)^2),0)","v":-1.7744108257854712},{"$f":"-mew*($H75-$C75*$I75)/SQRT(($G75+$D75*$I75)^2+($H75-$I75*$C75)^2)","v":-2.4189804094567036},-2.1574017832684023,{"$f":"($I75-$I74)/DT","v":3.1069324821543409},{"$f":"IF(Q75<>0,mazalazo*(($D75*$J75-$C75*$K75)-2*$I75*($C75*$G75+$D75*$H75))/(INERTIA+mazalazo*($C75^2+$D75^2)),0)","v":3.0714912434459376},-2.1168664447493799,{"$f":"IF(Q75<>0,G75*COS(O75)+H75*SIN(O75)+F75*$I75,0)","v":-4.3797253079967184},-18.382271383181816,{"$f":"R74+mazalazo*($I75^2*($E75*$P75+$F75*$U75))*DT","v":71.775116444220288},{"$f":"IF(Q75<>0,$J75*COS($O75)+$K75*SIN($Z75)+2*$U75*$I75+$E75*$I75^2+$F75*$N75,0)","v":-3.8779309317428012},{"$f":"IF(Q75<>0,-$J75*SIN($O75)+$K75*COS($O75)-2*$P75*$I75+$F75*$I75^2-$E75*$N75,0)","v":-5.1420223846663928},{"$f":"IF(Q75<>0,-$G75*SIN(O75)+$H75*COS(O75)-$E75*$I75,0)","v":0.38116601295495522},4.3982297150257104,-1.4455484759182406,-8.7927853431645726,2.4692666445263649,2.40468337151282,0.38485535799677673,0.41889180792110525,1.8645905048605806,1.9312095906565698,8.616149879894458E-2,-4.0586598688109614,5.0422229911080692,2.5014046970642143,0.36761937376642012,-2.1168664447493799,null,false,null,0.6597344572538566,4.3982297150257104,-3.2475381509696586,-5.8665477799656642,-1.4777255176488004,-24.454818329116343,35,0.6597344572538566,-18.382271383181816,28.990921954408392,{"$f":"1/2*(INERTIA+mazalazo*($C75^2+$D75^2))*$I75^2","v":88.844035405209553},-24.454818329116343,-1.4777255176488004,-18.382271383181816,117.83495735961795,28.938026731922129,146.77298409154008,null,0.6597344572538566,2.6002691747855105,{"$f":"$H75-($I75*$C75)","v":3.5448387158796386},4.3962803940307227,-2.2006099993806885,-2.4189804094567036,{"$f":"BL74+mazalazo*($I75*(BM75^2+BN75^2)+BM75*BR75-BN75*BQ75)*$BS75*DT","v":-8.3890403592021894},2.5014046970642143,0.36761937376642012,-1.6132189423002616,1.946713668382424,3.3933718673131983,-1.8516962382426545,0.41191787645328204,3.1069324821543409,3.0714912434459376]
[0,36,2.5650503593705896,0.33228795443014181,-1.6947370210249812,1.953910197612452,3.3595018755431907,-1.8969784950410649,-2.1001826606619836,{"$f":"IF(($G76+$I76*$D76)^2+($H76-$I76*$D76)^2<>0,-mew*($G76+$I76*$D76)/SQRT(($G76+$I76*$D76)^2+($H76-$I76*$C76)^2),0)","v":-1.819217459626614},{"$f":"-mew*($H76-$C76*$I76)/SQRT(($G76+$D76*$I76)^2+($H76-$I76*$C76)^2)","v":-2.3854659575415633},-2.1001826606619831,{"$f":"($I76-$I75)/DT","v":3.0355687340642503},{"$f":"IF(Q76<>0,mazalazo*(($D76*$J76-$C76*$K76)-2*$I76*($C76*$G76+$D76*$H76))/(INERTIA+mazalazo*($C76^2+$D76^2)),0)","v":2.9994426429075864},-2.1564539552569739,{"$f":"IF(Q76<>0,G76*COS(O76)+H76*SIN(O76)+F76*$I76,0)","v":-4.3796800169160193},-19.12688163502408,{"$f":"R75+mazalazo*($I76^2*($E76*$P76+$F76*$U76))*DT","v":73.76724514776339},{"$f":"IF(Q76<>0,$J76*COS($O76)+$K76*SIN($Z76)+2*$U76*$I76+$E76*$I76^2+$F76*$N76,0)","v":-3.3081769324196291},{"$f":"IF(Q76<>0,-$J76*SIN($O76)+$K76*COS($O76)-2*$P76*$I76+$F76*$I76^2-$E76*$N76,0)","v":-4.8922287361051628},{"$f":"IF(Q76<>0,-$G76*SIN(O76)+$H76*COS(O76)-$E76*$I76,0)","v":0.28892961674083351},4.5238934211693023,-0.83631224539233917,-8.9492106203185564,2.5332275282174019,2.4692666445263649,0.34995366409828099,0.38485535799677673,1.8013899102271236,1.8645905048605806,9.3969619246957556E-2,-4.044100921562789,5.025702904525029,2.5650503593705896,0.33228795443014181,-2.1564539552569739,null,false,null,0.6785840131753953,4.5238934211693023,-2.7592381993071609,-5.9919218983222642,-1.5674392351894773,-25.823241153080883,36,0.6785840131753953,-19.12688163502408,28.897616061005266,{"$f":"1/2*(INERTIA+mazalazo*($C76^2+$D76^2))*$I76^2","v":86.16366673698127},-25.823241153080883,-1.5674392351894773,-19.12688163502408,115.06128279798654,28.817122359658427,143.87840515764498,null,0.6785840131753953,2.6616364753021675,{"$f":"$H76-($I76*$C76)","v":3.490095793433837},4.3892000836147256,-2.2878768659957918,-2.3854659575415633,{"$f":"BL75+mazalazo*($I76*(BM76^2+BN76^2)+BM76*BR76-BN76*BQ76)*$BS76*DT","v":-8.8551451822343772},2.5650503593705896,0.33228795443014181,-1.6947370210249812,1.953910197612452,3.3595018755431907,-1.8969784950410649,0.41146517259618454,3.0355687340642503,2.9994426429075864]
[1,37,2.6280496594085938,0.29610899190842949,-1.7762162532927737,1.9594339409495878,3.3247924164920577,-1.9416205403437019,-2.0443318250142148,{"$f":"IF(($G77+$I77*$D77)^2+($H77-$I77*$D77)^2<>0,-mew*($G77+$I77*$D77)/SQRT(($G77+$I77*$D77)^2+($H77-$I77*$C77)^2),0)","v":-1.8634779208275232},{"$f":"-mew*($H77-$C77*$I77)/SQRT(($G77+$D77*$I77)^2+($H77-$I77*$C77)^2)","v":-2.3510529637990571},-2.0443318250142148,{"$f":"($I77-$I76)/DT","v":2.9629788563851434},{"$f":"IF(Q77<>0,mazalazo*(($D77*$J77-$C77*$K77)-2*$I77*($C77*$G77+$D77*$H77))/(INERTIA+mazalazo*($C77^2+$D77^2)),0)","v":2.9263794513206109},-2.194988702314761,{"$f":"IF(Q77<>0,G77*COS(O77)+H77*SIN(O77)+F77*$I77,0)","v":-4.3733822934273912},-19.869595096998701,{"$f":"R76+mazalazo*($I77^2*($E77*$P77+$F77*$U77))*DT","v":75.696384894196768},{"$f":"IF(Q77<>0,$J77*COS($O77)+$K77*SIN($Z77)+2*$U77*$I77+$E77*$I77^2+$F77*$N77,0)","v":-2.767510131975377},{"$f":"IF(Q77<>0,-$J77*SIN($O77)+$K77*COS($O77)-2*$P77*$I77+$F77*$I77^2-$E77*$N77,0)","v":-4.6323962175695623},{"$f":"IF(Q77<>0,-$G77*SIN(O77)+$H77*COS(O77)-$E77*$I77,0)","v":0.20144367064321944},4.6495571273128942,-0.21227473871727504,-9.0280448906638764,2.5965500093895919,2.5332275282174019,0.31419847316928562,0.34995366409828099,1.7413241189599082,1.8013899102271236,0.10222393056373587,-4.0292316884408717,5.0086967210741093,2.6280496594085938,0.29610899190842949,-2.194988702314761,null,false,null,0.6974335690969341,4.6495571273128942,-2.2590750949527418,-6.055107192417033,-1.6596601899178596,-27.182111294692774,37,0.6974335690969341,-19.869595096998701,28.750578355359664,{"$f":"1/2*(INERTIA+mazalazo*($C77^2+$D77^2))*$I77^2","v":83.550279418628719},-27.182111294692774,-1.6596601899178596,-19.869595096998701,112.30085777398838,28.644678502505293,140.94553627649367,null,0.6974335690969341,2.7194473806607786,{"$f":"$H77-($I77*$C77)","v":3.4309850161030546},4.3780192138576153,-2.3778425448353193,-2.3510529637990571,{"$f":"BL76+mazalazo*($I77*(BM77^2+BN77^2)+BM77*BR77-BN77*BQ77)*$BS77*DT","v":-9.3286772995699163},2.6280496594085938,0.29610899190842949,-1.7762162532927737,1.9594339409495878,3.3247924164920577,-1.9416205403437019,0.41076857015052548,2.9629788563851434,2.9263794513206109]
[0,38,2.6903868717445034,0.25909471313134624,-1.8575456256622676,1.9633735861039703,3.289253964117886,-1.9856055013035654,-1.9898646969999063,{"$f":"IF(($G78+$I78*$D78)^2+($H78-$I78*$D78)^2<>0,-mew*($G78+$I78*$D78)/SQRT(($G78+$I78*$D78)^2+($H78-$I78*$C78)^2),0)","v":-1.9071731953798705},{"$f":"-mew*($H78-$C78*$I78)/SQRT(($G78+$D78*$I78)^2+($H78-$I78*$C78)^2)","v":-2.3157483461776533},-1.9898646969999063,{"$f":"($I78-$I77)/DT","v":2.8895708864987508},{"$f":"IF(Q78<>0,mazalazo*(($D78*$J78-$C78*$K78)-2*$I78*($C78*$G78+$D78*$H78))/(INERTIA+mazalazo*($C78^2+$D78^2)),0)","v":2.8526873648117248},-2.2324967681971564,{"$f":"IF(Q78<>0,G78*COS(O78)+H78*SIN(O78)+F78*$I78,0)","v":-4.3614199529470774},-20.609767278280003,{"$f":"R77+mazalazo*($I78^2*($E78*$P78+$F78*$U78))*DT","v":77.562636384666519},{"$f":"IF(Q78<>0,$J78*COS($O78)+$K78*SIN($Z78)+2*$U78*$I78+$E78*$I78^2+$F78*$N78,0)","v":-2.2559411374509066},{"$f":"IF(Q78<>0,-$J78*SIN($O78)+$K78*COS($O78)-2*$P78*$I78+$F78*$I78^2-$E78*$N78,0)","v":-4.3659041267817793},{"$f":"IF(Q78<>0,-$G78*SIN(O78)+$H78*COS(O78)-$E78*$I78,0)","v":0.11886135248165752},4.7752208334564861,0.4167225998447493,-9.0280448906638764,2.6592182655765484,2.5965500093895919,0.27760185251988789,0.31419847316928562,1.6841395914082926,1.7413241189599082,0.11093513935202319,-4.0140626504725301,4.9912048281533172,2.6903868717445034,0.25909471313134624,-2.2324967681971564,null,false,null,0.7162831250184728,4.7752208334564861,-1.7549367088450265,-6.055107192417033,-1.7543800191820653,-28.527856032833942,38,0.7162831250184728,-20.609767278280003,28.554168040617981,{"$f":"1/2*(INERTIA+mazalazo*($C78^2+$D78^2))*$I78^2","v":81.004580279060775},-28.527856032833942,-1.7543800191820653,-20.609767278280003,109.55874831967876,28.425013073552577,137.98376139323133,null,0.7162831250184728,2.7736905412785022,{"$f":"$H78-($I78*$C78)","v":3.3679003560528367},4.3630393107418426,-2.4707000635813836,-2.3157483461776533,{"$f":"BL77+mazalazo*($I78*(BM78^2+BN78^2)+BM78*BR78-BN78*BQ78)*$BS78*DT","v":-9.8091724896709493},2.6903868717445034,0.25909471313134624,-1.8575456256622676,1.9633735861039703,3.289253964117886,-1.9856055013035654,0.40987309633951174,2.8895708864987508,2.8526873648117248]
[0,39,2.7520464717650546,0.22125766181004575,-1.9386247087200057,1.9658201785525571,3.252897352853088,-2.0289166411608806,-1.9367898314399017,{"$f":"IF(($G79+$I79*$D79)^2+($H79-$I79*$D79)^2<>0,-mew*($G79+$I79*$D79)/SQRT(($G79+$I79*$D79)^2+($H79-$I79*$C79)^2),0)","v":-1.9502840535419144},{"$f":"-mew*($H79-$C79*$I79)/SQRT(($G79+$D79*$I79)^2+($H79-$I79*$C79)^2)","v":-2.2795596308278752},-1.9367898314399012,{"$f":"($I79-$I78)/DT","v":2.8157090692708442},{"$f":"IF(Q79<>0,mazalazo*(($D79*$J79-$C79*$K79)-2*$I79*($C79*$G79+$D79*$H79))/(INERTIA+mazalazo*($C79^2+$D79^2)),0)","v":2.7787096345953257},-2.2690043964331505,{"$f":"IF(Q79<>0,G79*COS(O79)+H79*SIN(O79)+F79*$I79,0)","v":-4.3443522243140853},-21.346802535289296,{"$f":"R78+mazalazo*($I79^2*($E79*$P79+$F79*$U79))*DT","v":79.366361461204775},{"$f":"IF(Q79<>0,$J79*COS($O79)+$K79*SIN($Z79)+2*$U79*$I79+$E79*$I79^2+$F79*$N79,0)","v":-1.7732455728121153},{"$f":"IF(Q79<>0,-$J79*SIN($O79)+$K79*COS($O79)-2*$P79*$I79+$F79*$I79^2-$E79*$N79,0)","v":-4.095725848585297},{"$f":"IF(Q79<>0,-$G79*SIN(O79)+$H79*COS(O79)-$E79*$I79,0)","v":4.1276799551534626E-2},4.900884539600078,1.0407601065198135,-8.9492106203185564,2.721216671754779,2.6592182655765484,0.240176187470696,0.27760185251988789,1.6296090172819484,1.6841395914082926,0.12011375342629167,-3.9986045831157986,4.9732276444773627,2.7520464717650546,0.22125766181004575,-2.2690043964331505,null,false,null,0.73513268094001161,4.900884539600078,-1.2547736044906075,-5.9919218983222642,-1.8515892920428059,-29.857226174585712,39,0.73513268094001161,-21.346802535289296,28.312650034625932,{"$f":"1/2*(INERTIA+mazalazo*($C79^2+$D79^2))*$I79^2","v":78.526946125751465},-29.857226174585712,-1.8515892920428059,-21.346802535289296,106.8395961603774,28.162332751329771,135.00192891170718,null,0.73513268094001161,2.8243677633312227,{"$f":"$H79-($I79*$C79)","v":3.3012189810037356},4.3445483105938596,-2.5666589640828437,-2.2795596308278752,{"$f":"BL78+mazalazo*($I79*(BM79^2+BN79^2)+BM79*BR79-BN79*BQ79)*$BS79*DT","v":-10.29620833788251},2.7520464717650546,0.22125766181004575,-1.9386247087200057,1.9658201785525571,3.252897352853088,-2.0289166411608806,0.40882354732036974,2.8157090692708442,2.7787096345953257]
[0,40,2.8130131425091922,0.18261069576183914,-2.0193631094214424,1.9668660957075415,3.215733781453376,-2.0715373709778842,-1.8851096911658849,{"$f":"IF(($G80+$I80*$D80)^2+($H80-$I80*$D80)^2<>0,-mew*($G80+$I80*$D80)/SQRT(($G80+$I80*$D80)^2+($H80-$I80*$C80)^2),0)","v":-1.9927910731697782},{"$f":"-mew*($H80-$C80*$I80)/SQRT(($G80+$D80*$I80)^2+($H80-$I80*$C80)^2)","v":-2.2424949807513155},-1.8851096911658847,{"$f":"($I80-$I79)/DT","v":2.741716594764104},{"$f":"IF(Q80<>0,mazalazo*(($D80*$J80-$C80*$K80)-2*$I80*($C80*$G80+$D80*$H80))/(INERTIA+mazalazo*($C80^2+$D80^2)),0)","v":2.7047498620715564},-2.3045378769750164,{"$f":"IF(Q80<>0,G80*COS(O80)+H80*SIN(O80)+F80*$I80,0)","v":-4.322707248923666},-22.080151727481962,{"$f":"R79+mazalazo*($I80^2*($E80*$P80+$F80*$U80))*DT","v":81.108149557244943},{"$f":"IF(Q80<>0,$J80*COS($O80)+$K80*SIN($Z80)+2*$U80*$I80+$E80*$I80^2+$F80*$N80,0)","v":-1.3190122519633576},{"$f":"IF(Q80<>0,-$J80*SIN($O80)+$K80*COS($O80)-2*$P80*$I80+$F80*$I80^2-$E80*$N80,0)","v":-3.824451991461526},{"$f":"IF(Q80<>0,-$G80*SIN(O80)+$H80*COS(O80)-$E80*$I80,0)","v":-3.1267528588301285E-2},5.026548245743669,1.6499963370457105,-8.7927853431645726,2.7825298071371236,2.721216671754779,0.20193417878594244,0.240176187470696,1.5775279919280174,1.6296090172819484,0.12977007280474104,-3.9828685579829215,4.9547656248619001,2.8130131425091922,0.18261069576183914,-2.3045378769750164,null,false,null,0.7539822368615503,5.026548245743669,-0.76647365282811353,-5.8665477799656642,-1.9512774351843358,-31.167292923663283,40,0.7539822368615503,-22.080151727481962,28.030163427361842,{"$f":"1/2*(INERTIA+mazalazo*($C80^2+$D80^2))*$I80^2","v":76.117460832851449},-31.167292923663283,-1.9512774351843358,-22.080151727481962,104.14762426021329,27.860704906099699,132.00832916631299,null,0.7539822368615503,2.8714925891621883,{"$f":"$H80-($I80*$C80)","v":3.2313009653431948},4.3228203314781926,-2.6659472020340349,-2.2424949807513155,{"$f":"BL79+mazalazo*($I80*(BM80^2+BN80^2)+BM80*BR80-BN80*BQ80)*$BS80*DT","v":-10.789408891250387},2.8130131425091922,0.18261069576183914,-2.0193631094214424,1.9668660957075415,3.215733781453376,-2.0715373709778842,0.40766458873976541,2.741716594764104,2.7047498620715564]
[0,41,2.8732717815681301,0.14316698400899561,-2.0996798858206178,1.9666041526311913,3.1777748163920823,-2.113451261910507,-1.8348213675704477,{"$f":"IF(($G81+$I81*$D81)^2+($H81-$I81*$D81)^2<>0,-mew*($G81+$I81*$D81)/SQRT(($G81+$I81*$D81)^2+($H81-$I81*$C81)^2),0)","v":-2.0346746646542431},{"$f":"-mew*($H81-$C81*$I81)/SQRT(($G81+$D81*$I81)^2+($H81-$I81*$C81)^2)","v":-2.2045632240909181},-1.8348213675704479,{"$f":"($I81-$I80)/DT","v":2.6678784266728761},{"$f":"IF(Q81<>0,mazalazo*(($D81*$J81-$C81*$K81)-2*$I81*($C81*$G81+$D81*$H81))/(INERTIA+mazalazo*($C81^2+$D81^2)),0)","v":2.6310748497520384},-2.3391234449490699,{"$f":"IF(Q81<>0,G81*COS(O81)+H81*SIN(O81)+F81*$I81,0)","v":-4.2969805038456919},-22.809309861378097,{"$f":"R80+mazalazo*($I81^2*($E81*$P81+$F81*$U81))*DT","v":82.788786733939162},{"$f":"IF(Q81<>0,$J81*COS($O81)+$K81*SIN($Z81)+2*$U81*$I81+$E81*$I81^2+$F81*$N81,0)","v":-0.89268406439969539},{"$f":"IF(Q81<>0,-$J81*SIN($O81)+$K81*COS($O81)-2*$P81*$I81+$F81*$I81^2-$E81*$N81,0)","v":-3.5543166128316948},{"$f":"IF(Q81<>0,-$G81*SIN(O81)+$H81*COS(O81)-$E81*$I81,0)","v":-9.8773954244307571E-2},5.1522119518872609,2.2348232721269721,-8.5612359792665753,2.8431424620386609,2.7825298071371236,0.16288883988541736,0.20193417878594244,1.5277121848096311,1.5775279919280174,0.13991418044627379,-3.9668659442252729,4.9358192649294805,2.8732717815681301,0.14316698400899561,-2.3391234449490699,null,false,null,0.77283179278308911,5.1522119518872609,-0.29773763579150758,-5.6809620620885859,-2.0534326589738208,-32.455441056080424,41,0.77283179278308911,-22.809309861378097,27.710696616700545,{"$f":"1/2*(INERTIA+mazalazo*($C81^2+$D81^2))*$I81^2","v":73.775949875659791},-32.455441056080424,-2.0534326589738208,-22.809309861378097,101.48664649236034,27.524035816480641,129.01068230884098,null,0.77283179278308911,2.9150889750017606,{"$f":"$H81-($I81*$C81)","v":3.1584891977479064},4.2981156038974833,-2.7688133083503685,-2.2045632240909181,{"$f":"BL80+mazalazo*($I81*(BM81^2+BN81^2)+BM81*BR81-BN81*BQ81)*$BS81*DT","v":-11.288449127800449},2.8732717815681301,0.14316698400899561,-2.0996798858206178,1.9666041526311913,3.1777748163920823,-2.113451261910507,0.40644088967962044,2.6678784266728761,2.6310748497520384]
[0,42,2.932807508044863,0.10294000364123011,-2.1795029398009009,1.9651268302563085,3.1390323947680736,-2.1546420580086081,-1.785917247361883,{"$f":"IF(($G82+$I82*$D82)^2+($H82-$I82*$D82)^2<>0,-mew*($G82+$I82*$D82)/SQRT(($G82+$I82*$D82)^2+($H82-$I82*$C82)^2),0)","v":-2.075915097616631},{"$f":"-mew*($H82-$C82*$I82)/SQRT(($G82+$D82*$I82)^2+($H82-$I82*$C82)^2)","v":-2.165773881892413},-1.7859172473618827,{"$f":"($I82-$I81)/DT","v":2.5944441562511087},{"$f":"IF(Q82<>0,mazalazo*(($D82*$J82-$C82*$K82)-2*$I82*($C82*$G82+$D82*$H82))/(INERTIA+mazalazo*($C82^2+$D82^2)),0)","v":2.5579174494950387},-2.3727871919744583,{"$f":"IF(Q82<>0,G82*COS(O82)+H82*SIN(O82)+F82*$I82,0)","v":-4.2676340009023432},-23.533813745547885,{"$f":"R81+mazalazo*($I82^2*($E82*$P82+$F82*$U82))*DT","v":84.409227277084582},{"$f":"IF(Q82<>0,$J82*COS($O82)+$K82*SIN($Z82)+2*$U82*$I82+$E82*$I82^2+$F82*$N82,0)","v":-0.49359221032029321},{"$f":"IF(Q82<>0,-$J82*SIN($O82)+$K82*COS($O82)-2*$P82*$I82+$F82*$I82^2-$E82*$N82,0)","v":-3.2872252301860936},{"$f":"IF(Q82<>0,-$G82*SIN(O82)+$H82*COS(O82)-$E82*$I82,0)","v":-0.1612831965887418},5.2778756580308528,2.786017841638686,-8.2582142004141197,2.9030396448064968,2.8431424620386609,0.12305349382511285,0.16288883988541736,1.4799949171536573,1.5277121848096311,0.1505559326747925,-3.9506084096780398,4.9163891058660001,2.932807508044863,0.10294000364123011,-2.3727871919744583,null,false,null,0.79168134870462792,5.2778756580308528,0.14404219962121623,-5.438091542325485,-2.1580418837447399,-33.71935911406527,42,0.79168134870462792,-23.533813745547885,27.358068352739437,{"$f":"1/2*(INERTIA+mazalazo*($C82^2+$D82^2))*$I82^2","v":71.502012288549139},-33.71935911406527,-2.1580418837447399,-23.533813745547885,98.860080641288576,27.156054417471424,126.01613505876,null,0.79168134870462792,2.9551900668217059,{"$f":"$H82-($I82*$C82)","v":3.083109453801137},4.2706805353666555,-2.8755288559524992,-2.165773881892413,{"$f":"BL81+mazalazo*($I82*(BM82^2+BN82^2)+BM82*BR82-BN82*BQ82)*$BS82*DT","v":-11.793059303454461},2.932807508044863,0.10294000364123011,-2.1795029398009009,1.9651268302563085,3.1390323947680736,-2.1546420580086081,0.40519729015709915,2.5944441562511087,2.5579174494950387]
[0,43,2.9916056695636368,6.1943536432019691E-2,-2.2587684008188775,1.9625256164781986,3.099518826692893,-2.1950936895331079,-1.7383856260294599,{"$f":"IF(($G83+$I83*$D83)^2+($H83-$I83*$D83)^2<>0,-mew*($G83+$I83*$D83)/SQRT(($G83+$I83*$D83)^2+($H83-$I83*$C83)^2),0)","v":-2.1164925294863663},{"$f":"-mew*($H83-$C83*$I83)/SQRT(($G83+$D83*$I83)^2+($H83-$I83*$C83)^2)","v":-2.1261371951566068},-1.7383856260294601,{"$f":"($I83-$I82)/DT","v":2.5216308294091032},{"$f":"IF(Q83<>0,mazalazo*(($D83*$J83-$C83*$K83)-2*$I83*($C83*$G83+$D83*$H83))/(INERTIA+mazalazo*($C83^2+$D83^2)),0)","v":2.4854793616605013},-2.4055549890454997,{"$f":"IF(Q83<>0,G83*COS(O83)+H83*SIN(O83)+F83*$I83,0)","v":-4.2350961267793252},-24.253239675372441,{"$f":"R82+mazalazo*($I83^2*($E83*$P83+$F83*$U83))*DT","v":85.970567791476768},{"$f":"IF(Q83<>0,$J83*COS($O83)+$K83*SIN($Z83)+2*$U83*$I83+$E83*$I83^2+$F83*$N83,0)","v":-0.12098448523710914},{"$f":"IF(Q83<>0,-$J83*SIN($O83)+$K83*COS($O83)-2*$P83*$I83+$F83*$I83^2-$E83*$N83,0)","v":-3.0247835689457743},{"$f":"IF(Q83<>0,-$G83*SIN(O83)+$H83*COS(O83)-$E83*$I83,0)","v":-0.21886851976279997},5.4035393641744447,3.2948873779519761,-7.8884988410761459,2.9622065888042499,2.9030396448064968,8.2441770036624895E-2,0.12305349382511285,1.4342250813641815,1.4799949171536573,0.1617049492910281,-3.934107921754749,4.8964757392339724,2.9916056695636368,6.1943536432019691E-2,-2.4055549890454997,null,false,null,0.81053090462616662,5.4035393641744447,0.5518987214991169,-5.1417664338568416,-2.2650906664138049,-34.957027260404097,43,0.81053090462616662,-24.253239675372441,26.9759139480066,{"$f":"1/2*(INERTIA+mazalazo*($C83^2+$D83^2))*$I83^2","v":69.295050070713472},-34.957027260404097,-2.2650906664138049,-24.253239675372441,96.270964018720065,26.76030085570023,123.03126487442029,null,0.81053090462616662,2.9918370733340378,{"$f":"$H83-($I83*$C83)","v":3.0054706051845566},4.2407478859281893,-2.9863912841200304,-2.1261371951566068,{"$f":"BL82+mazalazo*($I83*(BM83^2+BN83^2)+BM83*BR83-BN83*BQ83)*$BS83*DT","v":-12.303029246632274},2.9916056695636368,6.1943536432019691E-2,-2.2587684008188775,1.9625256164781986,3.099518826692893,-2.1950936895331079,0.40397900315388785,2.5216308294091032,2.4854793616605013]
[0,44,3.0496518493192242,2.0191665199142197E-2,-2.3374200113234975,1.958890450245786,3.0592467971207298,-2.2347902867748739,-1.6922112692972517,{"$f":"IF(($G84+$I84*$D84)^2+($H84-$I84*$D84)^2<>0,-mew*($G84+$I84*$D84)/SQRT(($G84+$I84*$D84)^2+($H84-$I84*$C84)^2),0)","v":-2.1563870360547148},{"$f":"-mew*($H84-$C84*$I84)/SQRT(($G84+$D84*$I84)^2+($H84-$I84*$C84)^2)","v":-2.0856641509924758},-1.692211269297252,{"$f":"($I84-$I83)/DT","v":2.4496257060064877},{"$f":"IF(Q84<>0,mazalazo*(($D84*$J84-$C84*$K84)-2*$I84*($C84*$G84+$D84*$H84))/(INERTIA+mazalazo*($C84^2+$D84^2)),0)","v":2.4139338493748155},-2.4374524199971765,{"$f":"IF(Q84<>0,G84*COS(O84)+H84*SIN(O84)+F84*$I84,0)","v":-4.1997620031580265},-24.967201162928358,{"$f":"R83+mazalazo*($I84^2*($E84*$P84+$F84*$U84))*DT","v":87.474023700658918},{"$f":"IF(Q84<>0,$J84*COS($O84)+$K84*SIN($Z84)+2*$U84*$I84+$E84*$I84^2+$F84*$N84,0)","v":0.22595166516537102},{"$f":"IF(Q84<>0,-$J84*SIN($O84)+$K84*COS($O84)-2*$P84*$I84+$F84*$I84^2-$E84*$N84,0)","v":-2.7683262233129318},{"$f":"IF(Q84<>0,-$G84*SIN(O84)+$H84*COS(O84)-$E84*$I84,0)","v":-0.27163041905103569},5.5292030703180366,3.7534067044952555,-7.4579205333266643,3.0206287594414305,2.9622065888042499,4.1067600815580946E-2,8.2441770036624895E-2,1.3902653471942812,1.4342250813641815,0.17337060330981946,-3.917376748170482,4.8760798119576743,3.0496518493192242,2.0191665199142197E-2,-2.4374524199971765,null,false,null,0.82938046054770542,5.5292030703180366,0.91939978885050389,-4.7966599606592446,-2.3745631275710717,-36.166703364096797,44,0.82938046054770542,-24.967201162928358,26.567675951585642,{"$f":"1/2*(INERTIA+mazalazo*($C84^2+$D84^2))*$I84^2","v":67.154295101124504},-36.166703364096797,-2.3745631275710717,-24.967201162928358,93.721971052710145,26.340119173633767,120.06209022634391,null,0.82938046054770542,3.0250782337248641,{"$f":"$H84-($I84*$C84)","v":2.9258649400763219},4.208537034139507,-3.1017271429274729,-2.0856641509924758,{"$f":"BL83+mazalazo*($I84*(BM84^2+BN84^2)+BM84*BR84-BN84*BQ84)*$BS84*DT","v":-12.818212677637495},3.0496518493192242,2.0191665199142197E-2,-2.3374200113234975,1.958890450245786,3.0592467971207298,-2.2347902867748739,0.4028318530805608,2.4496257060064877,2.4139338493748155]
[0,45,3.106931873155145,-2.2301230099848964E-2,-2.4154085224208233,1.9543092588196374,3.0182293670832845,-2.2737161943565511,-1.647375924431659,{"$f":"IF(($G85+$I85*$D85)^2+($H85-$I85*$D85)^2<>0,-mew*($G85+$I85*$D85)/SQRT(($G85+$I85*$D85)^2+($H85-$I85*$C85)^2),0)","v":-2.1955786440730334},{"$f":"-mew*($H85-$C85*$I85)/SQRT(($G85+$D85*$I85)^2+($H85-$I85*$C85)^2)","v":-2.0443665076718562},-1.647375924431659,{"$f":"($I85-$I84)/DT","v":2.3785889201963033},{"$f":"IF(Q85<>0,mazalazo*(($D85*$J85-$C85*$K85)-2*$I85*($C85*$G85+$D85*$H85))/(INERTIA+mazalazo*($C85^2+$D85^2)),0)","v":2.3434283411810775},-2.4685047246085476,{"$f":"IF(Q85<>0,G85*COS(O85)+H85*SIN(O85)+F85*$I85,0)","v":-4.1619942599034561},-25.675346724274483,{"$f":"R84+mazalazo*($I85^2*($E85*$P85+$F85*$U85))*DT","v":88.920908038990447},{"$f":"IF(Q85<>0,$J85*COS($O85)+$K85*SIN($Z85)+2*$U85*$I85+$E85*$I85^2+$F85*$N85,0)","v":0.54807061026741977},{"$f":"IF(Q85<>0,-$J85*SIN($O85)+$K85*COS($O85)-2*$P85*$I85+$F85*$I85^2-$E85*$N85,0)","v":-2.5189446020294755},{"$f":"IF(Q85<>0,-$G85*SIN(O85)+$H85*COS(O85)-$E85*$I85,0)","v":-0.31969183674577195},5.6548667764616285,4.1543446975827676,-6.9732697542938968,3.0782918612371848,3.0206287594414305,-1.0547824503533837E-3,4.1067600815580946E-2,1.3479906095568097,1.3902653471942812,0.18556201030339509,-3.9004274574937718,4.8552020315065318,3.106931873155145,-2.2301230099848964E-2,-2.4685047246085476,null,false,null,0.84823001646924412,5.6548667764616285,1.2407496903087485,-4.4082146579716355,-2.4864418792100653,-37.346907817295786,45,0.84823001646924412,-25.675346724274483,26.136598634926802,{"$f":"1/2*(INERTIA+mazalazo*($C85^2+$D85^2))*$I85^2","v":65.078833652219998},-37.346907817295786,-2.4864418792100653,-25.675346724274483,91.215432287146797,25.898653497420177,117.11408578456698,null,0.84823001646924412,3.0549678766349864,{"$f":"$H85-($I85*$C85)","v":2.8445685723285918},4.1742543154378122,-3.2218958330129053,-2.0443665076718562,{"$f":"BL84+mazalazo*($I85*(BM85^2+BN85^2)+BM85*BR85-BN85*BQ85)*$BS85*DT","v":-13.338531637590053},3.106931873155145,-2.2301230099848964E-2,-2.4154085224208233,1.9543092588196374,3.0182293670832845,-2.2737161943565511,0.40180255365775946,2.3785889201963033,2.3434283411810775]
[0,46,3.1634318166592506,-6.5520476546110096E-2,-2.4926911065182926,1.9488675786167424,2.9764799742905428,-2.3118559859946837,-1.6038587836969751,{"$f":"IF(($G86+$I86*$D86)^2+($H86-$I86*$D86)^2<>0,-mew*($G86+$I86*$D86)/SQRT(($G86+$I86*$D86)^2+($H86-$I86*$C86)^2),0)","v":-2.2340473659387552},{"$f":"-mew*($H86-$C86*$I86)/SQRT(($G86+$D86*$I86)^2+($H86-$I86*$C86)^2)","v":-2.0022568183782292},-1.6038587836969749,{"$f":"($I86-$I85)/DT","v":2.3086560190502072},{"$f":"IF(Q86<>0,mazalazo*(($D86*$J86-$C86*$K86)-2*$I86*($C86*$G86+$D86*$H86))/(INERTIA+mazalazo*($C86^2+$D86^2)),0)","v":2.2740869030378046},-2.4987367504420948,{"$f":"IF(Q86<>0,G86*COS(O86)+H86*SIN(O86)+F86*$I86,0)","v":-4.1221241280258543},-26.377357733730872,{"$f":"R85+mazalazo*($I86^2*($E86*$P86+$F86*$U86))*DT","v":90.312612408476468},{"$f":"IF(Q86<>0,$J86*COS($O86)+$K86*SIN($Z86)+2*$U86*$I86+$E86*$I86^2+$F86*$N86,0)","v":0.84625384408011062},{"$f":"IF(Q86<>0,-$J86*SIN($O86)+$K86*COS($O86)-2*$P86*$I86+$F86*$I86^2-$E86*$N86,0)","v":-2.2775136974561709},{"$f":"IF(Q86<>0,-$G86*SIN(O86)+$H86*COS(O86)-$E86*$I86,0)","v":-0.3631938893296951},5.7805304826052195,4.4913783255547743,-6.4421897362795377,3.1351818449071978,3.0782918612371848,-4.3910853322979532E-2,-1.0547824503533837E-3,1.3072866407876338,1.3479906095568097,0.19828801729177556,-3.8832729195762812,4.8338431713668415,3.1634318166592506,-6.5520476546110096E-2,-2.4987367504420948,null,false,null,0.86707957239078293,5.7805304826052195,1.5108805459627277,-3.9825565402633778,-2.6007079532892172,-38.496407515062302,46,0.86707957239078293,-26.377357733730872,25.68572569214901,{"$f":"1/2*(INERTIA+mazalazo*($C86^2+$D86^2))*$I86^2","v":63.067628612415611},-38.496407515062302,-2.6007079532892172,-26.377357733730872,88.753354304564624,25.438847159683291,114.19220146424792,null,0.86707957239078293,3.081565566111033,{"$f":"$H86-($I86*$C86)","v":2.7618419197807347},4.1380934170339057,-3.3472939316769601,-2.0022568183782292,{"$f":"BL85+mazalazo*($I86*(BM86^2+BN86^2)+BM86*BR86-BN86*BQ86)*$BS86*DT","v":-13.863981120445427},3.1634318166592506,-6.5520476546110096E-2,-2.4926911065182926,1.9488675786167424,2.9764799742905428,-2.3118559859946837,0.4009390294538413,2.3086560190502072,2.2740869030378046]
[0,47,3.2191380122643443,-0.10945111272038406,-2.5692307920909667,1.9426482504695977,2.9340124330578896,-2.3491944796955018,-1.5616369025498729,{"$f":"IF(($G87+$I87*$D87)^2+($H87-$I87*$D87)^2<>0,-mew*($G87+$I87*$D87)/SQRT(($G87+$I87*$D87)^2+($H87-$I87*$C87)^2),0)","v":-2.2717732364879066},{"$f":"-mew*($H87-$C87*$I87)/SQRT(($G87+$D87*$I87)^2+($H87-$I87*$C87)^2)","v":-1.95934845343478},-1.5616369025498733,{"$f":"($I87-$I86)/DT","v":2.2399403637332749},{"$f":"IF(Q87<>0,mazalazo*(($D87*$J87-$C87*$K87)-2*$I87*($C87*$G87+$D87*$H87))/(INERTIA+mazalazo*($C87^2+$D87^2)),0)","v":2.2060125670359825},-2.528172912565847,{"$f":"IF(Q87<>0,G87*COS(O87)+H87*SIN(O87)+F87*$I87,0)","v":-4.0804527721038353},-27.072946352406145,{"$f":"R86+mazalazo*($I87^2*($E87*$P87+$F87*$U87))*DT","v":91.650589963750136},{"$f":"IF(Q87<>0,$J87*COS($O87)+$K87*SIN($Z87)+2*$U87*$I87+$E87*$I87^2+$F87*$N87,0)","v":1.1213985125707469},{"$f":"IF(Q87<>0,-$J87*SIN($O87)+$K87*COS($O87)-2*$P87*$I87+$F87*$I87^2-$E87*$N87,0)","v":-2.0447173553667453},{"$f":"IF(Q87<>0,-$G87*SIN(O87)+$H87*COS(O87)-$E87*$I87,0)","v":-0.40229208044281739},5.9061941887488114,4.7591923667640286,-5.8730559284194914,3.1912849144617974,3.1351818449071978,-8.7485794633247072E-2,-4.3910853322979532E-2,1.2680489165717017,1.3072866407876338,0.21155719114235894,-3.8659263058671245,4.8120040768465477,3.2191380122643443,-0.10945111272038406,-2.528172912565847,null,false,null,0.88592912831232162,5.9061941887488114,1.7255322308504302,-3.5263984903265575,-2.7173407313380582,-39.614199364977829,47,0.88592912831232162,-27.072946352406145,25.217900615035322,{"$f":"1/2*(INERTIA+mazalazo*($C87^2+$D87^2))*$I87^2","v":61.119539541740096},-39.614199364977829,-2.7173407313380582,-27.072946352406145,86.337440156775415,24.963444246366166,111.30088440314158,null,0.88592912831232162,3.1049353297071871,{"$f":"$H87-($I87*$C87)","v":2.6779302346575431},4.1002358155790111,-3.4783602158749853,-1.95934845343478,{"$f":"BL86+mazalazo*($I87*(BM87^2+BN87^2)+BM87*BR87-BN87*BQ87)*$BS87*DT","v":-14.394634012082211},3.2191380122643443,-0.10945111272038406,-2.5692307920909667,1.9426482504695977,2.9340124330578896,-2.3491944796955018,0.40029078680855656,2.2399403637332749,2.2060125670359825]
[0,48,3.274037056340767,-0.15407789345416012,-2.6449959243502228,1.9357311806432465,2.8908409335198741,-2.3857167533536359,-1.5206855753505175,{"$f":"IF(($G88+$I88*$D88)^2+($H88-$I88*$D88)^2<>0,-mew*($G88+$I88*$D88)/SQRT(($G88+$I88*$D88)^2+($H88-$I88*$C88)^2),0)","v":-2.3087363518886561},{"$f":"-mew*($H88-$C88*$I88)/SQRT(($G88+$D88*$I88)^2+($H88-$I88*$C88)^2)","v":-1.9156556207909237},-1.5206855753505175,{"$f":"($I88-$I87)/DT","v":2.1725353833169954},{"$f":"IF(Q88<>0,mazalazo*(($D88*$J88-$C88*$K88)-2*$I88*($C88*$G88+$D88*$H88))/(INERTIA+mazalazo*($C88^2+$D88^2)),0)","v":2.1392895094622637},-2.5568371603574938,{"$f":"IF(Q88<>0,G88*COS(O88)+H88*SIN(O88)+F88*$I88,0)","v":-4.0372527938870073},-27.76185353622235,{"$f":"R87+mazalazo*($I88^2*($E88*$P88+$F88*$U88))*DT","v":92.936340283973337},{"$f":"IF(Q88<>0,$J88*COS($O88)+$K88*SIN($Z88)+2*$U88*$I88+$E88*$I88^2+$F88*$N88,0)","v":1.3744085906961447},{"$f":"IF(Q88<>0,-$J88*SIN($O88)+$K88*COS($O88)-2*$P88*$I88+$F88*$I88^2-$E88*$N88,0)","v":-1.8210718366879819},{"$f":"IF(Q88<>0,-$G88*SIN(O88)+$H88*COS(O88)-$E88*$I88,0)","v":-0.43715296927523761},6.0318578948924033,4.9535632337963067,-5.2748439108477685,3.2465875343025559,3.1912849144617974,-0.13176450308727208,-8.7485794633247072E-2,1.2301815899275046,1.2680489165717017,0.22537780641153671,-3.8484010896486898,4.7896856713007958,3.274037056340767,-0.15407789345416012,-2.5568371603574938,null,false,null,0.90477868423386043,6.0318578948924033,1.881319559674473,-3.0469343931042925,-2.8363178753415559,-40.69949363405037,48,0.90477868423386043,-27.76185353622235,24.735769260441909,{"$f":"1/2*(INERTIA+mazalazo*($C88^2+$D88^2))*$I88^2","v":59.23334069384201},-40.69949363405037,-2.8363178753415559,-27.76185353622235,83.969109954283923,24.47499311370062,108.44410306798454,null,0.90477868423386043,3.1251449635760093,{"$f":"$H88-($I88*$C88)","v":2.5930641713868381},4.0608512457728132,-3.6155815171029118,-1.9156556207909237,{"$f":"BL87+mazalazo*($I88*(BM88^2+BN88^2)+BM88*BR88-BN88*BQ88)*$BS88*DT","v":-14.930646453193408},3.274037056340767,-0.15407789345416012,-2.6449959243502228,1.9357311806432465,2.8908409335198741,-2.3857167533536359,0.39990934166134329,2.1725353833169954,2.1392895094622637]
[0,49,3.3281158162671312,-0.19938529487838894,-2.7199596544441471,1.9281931595401045,2.8469800400912582,-2.4214081607188098,-1.4809786714654714,{"$f":"IF(($G89+$I89*$D89)^2+($H89-$I89*$D89)^2<>0,-mew*($G89+$I89*$D89)/SQRT(($G89+$I89*$D89)^2+($H89-$I89*$C89)^2),0)","v":-2.3449169106061443},{"$f":"-mew*($H89-$C89*$I89)/SQRT(($G89+$D89*$I89)^2+($H89-$I89*$C89)^2)","v":-1.8711933845418909},-1.4809786714654714,{"$f":"($I89-$I88)/DT","v":2.1065166760599601},{"$f":"IF(Q89<>0,mazalazo*(($D89*$J89-$C89*$K89)-2*$I89*($C89*$G89+$D89*$H89))/(INERTIA+mazalazo*($C89^2+$D89^2)),0)","v":2.073985075079777},-2.5847529506438884,{"$f":"IF(Q89<>0,G89*COS(O89)+H89*SIN(O89)+F89*$I89,0)","v":-3.992769849755204},-28.443847126975882,{"$f":"R88+mazalazo*($I89^2*($E89*$P89+$F89*$U89))*DT","v":94.17139598933116},{"$f":"IF(Q89<>0,$J89*COS($O89)+$K89*SIN($Z89)+2*$U89*$I89+$E89*$I89^2+$F89*$N89,0)","v":1.6061882042411555},{"$f":"IF(Q89<>0,-$J89*SIN($O89)+$K89*COS($O89)-2*$P89*$I89+$F89*$I89^2-$E89*$N89,0)","v":-1.6069475538468847},{"$f":"IF(Q89<>0,-$G89*SIN(O89)+$H89*COS(O89)-$E89*$I89,0)","v":-0.46795126109667295},6.1575216010359952,5.0714255819669809,-4.6569878444360153,3.3010764363039491,3.2465875343025559,-0.17673159416627454,-0.13176450308727208,1.1935965918682041,1.2301815899275046,0.23975783257073566,-3.8307110462049678,4.7668889628413851,3.3281158162671312,-0.19938529487838894,-2.5847529506438884,null,false,null,0.92362824015539924,6.1575216010359952,1.9757856731964618,-2.5517256838277462,-2.9576152601538617,-41.75169738620108,49,0.92362824015539924,-28.443847126975882,24.241784183814243,{"$f":"1/2*(INERTIA+mazalazo*($C89^2+$D89^2))*$I89^2","v":57.407737142279792},-41.75169738620108,-2.9576152601538617,-28.443847126975882,81.649521326094032,23.97585147615419,105.62537280224822,null,0.92362824015539924,3.142265409210006,{"$f":"$H89-($I89*$C89)","v":2.5074603793397086},4.0200981898302137,-3.7594995738725823,-1.8711933845418909,{"$f":"BL88+mazalazo*($I89*(BM89^2+BN89^2)+BM89*BR89-BN89*BQ89)*$BS89*DT","v":-15.472263758556748},3.3281158162671312,-0.19938529487838894,-2.7199596544441471,1.9281931595401045,2.8469800400912582,-2.4214081607188098,0.399848713980339,2.1065166760599601,2.073985075079777]
[0,50,3.3813614374646468,-0.24535751977632603,-2.7940994588580872,1.9201077306476104,2.802444689136784,-2.4562543476912921,-1.4424889346635961,{"$f":"IF(($G90+$I90*$D90)^2+($H90-$I90*$D90)^2<>0,-mew*($G90+$I90*$D90)/SQRT(($G90+$I90*$D90)^2+($H90-$I90*$C90)^2),0)","v":-2.3802952563842554},{"$f":"-mew*($H90-$C90*$I90)/SQRT(($G90+$D90*$I90)^2+($H90-$I90*$C90)^2)","v":-1.8259776812531454},-1.4424889346635963,{"$f":"($I90-$I89)/DT","v":2.0419439567748303},{"$f":"IF(Q90<>0,mazalazo*(($D90*$J90-$C90*$K90)-2*$I90*($C90*$G90+$D90*$H90))/(INERTIA+mazalazo*($C90^2+$D90^2)),0)","v":2.0101516478597974},-2.6119432264840308,{"$f":"IF(Q90<>0,G90*COS(O90)+H90*SIN(O90)+F90*$I90,0)","v":-3.9472243345424141},-29.118720028529776,{"$f":"R89+mazalazo*($I90^2*($E90*$P90+$F90*$U90))*DT","v":95.357310961475235},{"$f":"IF(Q90<>0,$J90*COS($O90)+$K90*SIN($Z90)+2*$U90*$I90+$E90*$I90^2+$F90*$N90,0)","v":1.8176366557837631},{"$f":"IF(Q90<>0,-$J90*SIN($O90)+$K90*COS($O90)-2*$P90*$I90+$F90*$I90^2-$E90*$N90,0)","v":-1.4025889362751185},{"$f":"IF(Q90<>0,-$G90*SIN(O90)+$H90*COS(O90)-$E90*$I90,0)","v":-0.49486728520793877},6.2831853071795871,5.1109206516378451,-4.0292316884408681,3.3547386268658892,3.3010764363039491,-0.2223714073273575,-0.17673159416627454,1.1582128408126038,1.1935965918682041,0.25470492055718835,-3.8128702529259826,4.7436150515909343,3.3813614374646468,-0.24535751977632603,-2.6119432264840308,null,false,null,0.94247779607693793,6.2831853071795871,2.0074407843748348,-2.0485820996655542,-3.0812069077085256,-42.770398215134506,50,0.94247779607693793,-29.118720028529776,23.738210365759318,{"$f":"1/2*(INERTIA+mazalazo*($C90^2+$D90^2))*$I90^2","v":55.641379150246543},-42.770398215134506,-3.0812069077085256,-29.118720028529776,79.379589516005865,23.46819271781095,102.84778223381682,null,0.94247779607693793,3.1563701964506388,{"$f":"$H90-($I90*$C90)","v":2.421322109949652},3.9781243792989778,-3.9107190862552419,-1.8259776812531454,{"$f":"BL89+mazalazo*($I90*(BM90^2+BN90^2)+BM90*BR90-BN90*BQ90)*$BS90*DT","v":-16.019827045136914},3.3813614374646468,-0.24535751977632603,-2.7940994588580872,1.9201077306476104,2.802444689136784,-2.4562543476912921,0.40016600117324619,2.0419439567748303,2.0101516478597974]
[0,51,3.4337613503797724,-0.29197850324629732,-2.8673966898927548,1.9115451029237942,2.7572501858123455,-2.4902412689025653,-1.4051882486760707,{"$f":"IF(($G91+$I91*$D91)^2+($H91-$I91*$D91)^2<>0,-mew*($G91+$I91*$D91)/SQRT(($G91+$I91*$D91)^2+($H91-$I91*$C91)^2),0)","v":-2.4148519231652772},{"$f":"-mew*($H91-$C91*$I91)/SQRT(($G91+$D91*$I91)^2+($H91-$I91*$C91)^2)","v":-1.7800253338604375},-1.405188248676071,{"$f":"($I91-$I90)/DT","v":1.9788628518777511},{"$f":"IF(Q91<>0,mazalazo*(($D91*$J91-$C91*$K91)-2*$I91*($C91*$G91+$D91*$H91))/(INERTIA+mazalazo*($C91^2+$D91^2)),0)","v":1.9478283710029254},-2.6384304009577395,{"$f":"IF(Q91<>0,G91*COS(O91)+H91*SIN(O91)+F91*$I91,0)","v":-3.9008130929333431},-29.786288469027511,{"$f":"R90+mazalazo*($I91^2*($E91*$P91+$F91*$U91))*DT","v":96.495650031064912},{"$f":"IF(Q91<>0,$J91*COS($O91)+$K91*SIN($Z91)+2*$U91*$I91+$E91*$I91^2+$F91*$N91,0)","v":2.0096447768035186},{"$f":"IF(Q91<>0,-$J91*SIN($O91)+$K91*COS($O91)-2*$P91*$I91+$F91*$I91^2-$E91*$N91,0)","v":-1.2081324347902394},{"$f":"IF(Q91<>0,-$G91*SIN(O91)+$H91*COS(O91)-$E91*$I91,0)","v":-0.51808482534176337},null,null,null,3.4075613939222098,3.3547386268658892,-0.2686680115113117,-0.2223714073273575,1.1239555456584591,1.1582128408126038,0.27022638856832987,-3.7948930893672164,4.7198651375703866,3.4337613503797724,-0.29197850324629732,-2.6384304009577395,null,false,null,0.96132735199847674,null,null,null,-3.2070649233059623,-43.755348434571566,51,0.96132735199847674,-29.786288469027511,23.227132008374397,{"$f":"1/2*(INERTIA+mazalazo*($C91^2+$D91^2))*$I91^2","v":53.932874921428173},-43.755348434571566,-3.2070649233059623,-29.786288469027511,77.160006929802563,22.954013127465828,100.11402005726839,null,0.96132735199847674,3.1675349474400707,{"$f":"$H91-($I91*$C91)","v":2.3348398294091668},3.9350673021245264,-4.0699172262813654,-1.7800253338604373,{"$f":"BL90+mazalazo*($I91*(BM91^2+BN91^2)+BM91*BR91-BN91*BQ91)*$BS91*DT","v":-16.573780746583804},3.4337613503797724,-0.29197850324629732,-2.8673966898927548,1.9115451029237942,2.7572501858123455,-2.4902412689025653,0.40092204621265293,1.9788628518777511,1.9478283710029254]
[0,52,3.4853032773992338,-0.33923191867931846,-2.939836157455364,1.902572100452115,2.7114122000419782,-2.5233552045333627,-1.36904787171872,{"$f":"IF(($G92+$I92*$D92)^2+($H92-$I92*$D92)^2<>0,-mew*($G92+$I92*$D92)/SQRT(($G92+$I92*$D92)^2+($H92-$I92*$C92)^2),0)","v":-2.4485676818432953},{"$f":"-mew*($H92-$C92*$I92)/SQRT(($G92+$D92*$I92)^2+($H92-$I92*$C92)^2)","v":-1.7333540629174851},-1.36904787171872,{"$f":"($I92-$I91)/DT","v":1.9173065459889336},{"$f":"IF(Q92<>0,mazalazo*(($D92*$J92-$C92*$K92)-2*$I92*($C92*$G92+$D92*$H92))/(INERTIA+mazalazo*($C92^2+$D92^2)),0)","v":1.8870427210537322},-2.6642363453749653,{"$f":"IF(Q92<>0,G92*COS(O92)+H92*SIN(O92)+F92*$I92,0)","v":-3.853711127245584},-30.446390349024067,{"$f":"R91+mazalazo*($I92^2*($E92*$P92+$F92*$U92))*DT","v":97.587980000914044},{"$f":"IF(Q92<>0,$J92*COS($O92)+$K92*SIN($Z92)+2*$U92*$I92+$E92*$I92^2+$F92*$N92,0)","v":2.1830922872960254},{"$f":"IF(Q92<>0,-$J92*SIN($O92)+$K92*COS($O92)-2*$P92*$I92+$F92*$I92^2-$E92*$N92,0)","v":-1.0236227156852769},{"$f":"IF(Q92<>0,-$G92*SIN(O92)+$H92*COS(O92)-$E92*$I92,0)","v":-0.53778926816577499},null,null,null,3.4595323138895031,3.4075613939222098,-0.31560521096280791,-0.2686680115113117,1.090755589773591,1.1239555456584591,0.28632920702262266,-3.7767942372647836,4.6956405292949412,3.4853032773992338,-0.33923191867931846,-2.6642363453749653,{"$f":"AJ92-AK91","v":-2.6642363453749653},false,null,0.98017690792001544,null,null,null,-3.3351594342705226,-44.706449850472183,52,0.98017690792001544,-30.446390349024067,22.710460123816066,{"$f":"1/2*(INERTIA+mazalazo*($C92^2+$D92^2))*$I92^2","v":52.28080186618724},-44.706449850472183,-3.3351594342705226,-30.446390349024067,74.991261990003309,22.43513980141779,97.4264017914211,null,0.98017690792001544,3.1758369363289569,{"$f":"$H92-($I92*$C92)","v":2.248191829684338},3.8910547091001826,-4.2378549210921213,-1.7333540629174851,{"$f":"BL91+mazalazo*($I92*(BM92^2+BN92^2)+BM92*BR92-BN92*BQ92)*$BS92*DT","v":-17.134681223567593},3.4853032773992338,-0.33923191867931846,-2.939836157455364,1.902572100452115,2.7114122000419782,-2.5233552045333627,0.40218222043978402,1.9173065459889336,1.8870427210537322]
[0,53,3.5359752396808002,-0.38710118405555799,-3.0114057418871658,1.893252143815481,2.6649467615972831,-2.5555827773169564,-1.3340386426700483,{"$f":"IF(($G93+$I93*$D93)^2+($H93-$I93*$D93)^2<>0,-mew*($G93+$I93*$D93)/SQRT(($G93+$I93*$D93)^2+($H93-$I93*$C93)^2),0)","v":-2.4814235887219067},{"$f":"-mew*($H93-$C93*$I93)/SQRT(($G93+$D93*$I93)^2+($H93-$I93*$C93)^2)","v":-1.6859824949668059},-1.3340386426700481,{"$f":"($I93-$I92)/DT","v":1.8572972856441554},{"$f":"IF(Q93<>0,mazalazo*(($D93*$J93-$C93*$K93)-2*$I93*($C93*$G93+$D93*$H93))/(INERTIA+mazalazo*($C93^2+$D93^2)),0)","v":1.8278119423431465},-2.6893823813714679,{"$f":"IF(Q93<>0,G93*COS(O93)+H93*SIN(O93)+F93*$I93,0)","v":-3.8060732769830614},-31.098883674620438,{"$f":"R92+mazalazo*($I93^2*($E93*$P93+$F93*$U93))*DT","v":98.635861879715662},{"$f":"IF(Q93<>0,$J93*COS($O93)+$K93*SIN($Z93)+2*$U93*$I93+$E93*$I93^2+$F93*$N93,0)","v":2.3388458990598093},{"$f":"IF(Q93<>0,-$J93*SIN($O93)+$K93*COS($O93)-2*$P93*$I93+$F93*$I93^2-$E93*$N93,0)","v":-0.84902712484651044},{"$f":"IF(Q93<>0,-$G93*SIN(O93)+$H93*COS(O93)-$E93*$I93,0)","v":-0.55416603681154264},null,null,null,3.5106392585400172,3.4595323138895031,-0.36316655136743825,-0.31560521096280791,1.0585489851013665,1.090755589773591,0.30301998262418928,-3.7585886804797184,4.6709426531265281,3.5359752396808002,-0.38710118405555799,-2.6893823813714679,{"$f":"AJ93-AK92","v":-2.5146035996502558E-2},false,null,0.99902646384155425,null,null,null,-3.4654585312788431,-45.623739207686427,53,0.99902646384155425,-31.098883674620438,22.189940679179987,{"$f":"1/2*(INERTIA+mazalazo*($C93^2+$D93^2))*$I93^2","v":50.683716512228486},-45.623739207686427,-3.4654585312788431,-31.098883674620438,72.873657191408469,21.913238997408797,94.786896188817266,null,0.99902646384155425,3.1813546997507283,{"$f":"$H93-($I93*$C93)","v":2.161544831941717},3.8462051149308185,-4.4153903070697575,-1.6859824949668059,{"$f":"BL92+mazalazo*($I93*(BM93^2+BN93^2)+BM93*BR93-BN93*BQ93)*$BS93*DT","v":-17.703206720026451},3.5359752396808002,-0.38710118405555799,-3.0114057418871658,1.893252143815481,2.6649467615972831,-2.5555827773169564,0.40401734641061587,1.8572972856441554,1.8278119423431465]
[0,54,3.5857655638826076,-0.43556946856261158,-3.0820960371501394,1.8836452582303493,2.6178702542485754,-2.5869109696713926,-1.3001311614709052,{"$f":"IF(($G94+$I94*$D94)^2+($H94-$I94*$D94)^2<>0,-mew*($G94+$I94*$D94)/SQRT(($G94+$I94*$D94)^2+($H94-$I94*$C94)^2),0)","v":-2.5134010355215479},{"$f":"-mew*($H94-$C94*$I94)/SQRT(($G94+$D94*$I94)^2+($H94-$I94*$C94)^2)","v":-1.6379301678152256},-1.3001311614709052,{"$f":"($I94-$I93)/DT","v":1.7988477468797108},{"$f":"IF(Q94<>0,mazalazo*(($D94*$J94-$C94*$K94)-2*$I94*($C94*$G94+$D94*$H94))/(INERTIA+mazalazo*($C94^2+$D94^2)),0)","v":1.7701443489818138},-2.7138892764049487,{"$f":"IF(Q94<>0,G94*COS(O94)+H94*SIN(O94)+F94*$I94,0)","v":-3.7580358511657193},-31.743645074039186,{"$f":"R93+mazalazo*($I94^2*($E94*$P94+$F94*$U94))*DT","v":99.640844208513158},{"$f":"IF(Q94<>0,$J94*COS($O94)+$K94*SIN($Z94)+2*$U94*$I94+$E94*$I94^2+$F94*$N94,0)","v":2.477757948383092},{"$f":"IF(Q94<>0,-$J94*SIN($O94)+$K94*COS($O94)-2*$P94*$I94+$F94*$I94^2-$E94*$N94,0)","v":-0.684248522254717},{"$f":"IF(Q94<>0,-$G94*SIN(O94)+$H94*COS(O94)-$E94*$I94,0)","v":-0.56739927807553592},null,null,null,3.5608704017817039,3.5106392585400172,-0.41133532630908476,-0.36316655136743825,1.0272763871921526,1.0585489851013665,0.32030494141241261,-3.7402917048969253,4.6457730635109185,3.5857655638826076,-0.43556946856261158,-2.7138892764049487,-2.6887432404084461,false,null,1.0178760197630929,null,null,null,-3.5979282126681249,-46.507374376064945,54,1.0178760197630929,-31.743645074039186,21.667163099111239,{"$f":"1/2*(INERTIA+mazalazo*($C94^2+$D94^2))*$I94^2","v":49.140163182778743},-46.507374376064945,-3.5979282126681249,-31.743645074039186,70.807326281889985,21.38982475840902,92.197151040299005,null,1.0178760197630929,3.1841676933121486,{"$f":"$H94-($I94*$C94)","v":2.0750545776616773},3.8006282900867179,-4.6034948587718123,-1.6379301678152256,{"$f":"BL93+mazalazo*($I94*(BM94^2+BN94^2)+BM94*BR94-BN94*BQ94)*$BS94*DT","v":-18.280168967425553},3.5857655638826076,-0.43556946856261158,-3.0820960371501394,1.8836452582303493,2.6178702542485754,-2.5869109696713926,0.4065047931105451,1.7988477468797108,1.7701443489818138]
[0,55,3.634662888773267,-0.48461969953745621,-3.1519000233898886,1.8738081040384644,2.5701994089602076,-2.6173271409003425,-1.2672959461691227,{"$f":"IF(($G95+$I95*$D95)^2+($H95-$I95*$D95)^2<>0,-mew*($G95+$I95*$D95)/SQRT(($G95+$I95*$D95)^2+($H95-$I95*$C95)^2),0)","v":-2.5444818007564827},{"$f":"-mew*($H95-$C95*$I95)/SQRT(($G95+$D95*$I95)^2+($H95-$I95*$C95)^2)","v":-1.5892175325042974},-1.2672959461691229,{"$f":"($I95-$I94)/DT","v":1.7419622742551122},{"$f":"IF(Q95<>0,mazalazo*(($D95*$J95-$C95*$K95)-2*$I95*($C95*$G95+$D95*$H95))/(INERTIA+mazalazo*($C95^2+$D95^2)),0)","v":1.7140405022574308},-2.7377772422114028,{"$f":"IF(Q95<>0,G95*COS(O95)+H95*SIN(O95)+F95*$I95,0)","v":-3.7097181991942394},-32.380568395569178,{"$f":"R94+mazalazo*($I95^2*($E95*$P95+$F95*$U95))*DT","v":100.60445736971162},{"$f":"IF(Q95<>0,$J95*COS($O95)+$K95*SIN($Z95)+2*$U95*$I95+$E95*$I95^2+$F95*$N95,0)","v":2.6006653878543724},{"$f":"IF(Q95<>0,-$J95*SIN($O95)+$K95*COS($O95)-2*$P95*$I95+$F95*$I95^2-$E95*$N95,0)","v":-0.52913659970245419},{"$f":"IF(Q95<>0,-$G95*SIN(O95)+$H95*COS(O95)-$E95*$I95,0)","v":-0.57767077395401989},null,null,null,3.6102142263279373,3.5608704017817039,-0.46009458405003389,-0.41133532630908476,0.99688266331990194,1.0272763871921526,0.33818991074733307,-3.7219188982135063,4.6201334541176378,3.634662888773267,-0.48461969953745621,-2.7377772422114028,-4.9034001802956695E-2,false,null,1.0367255756846316,null,null,null,-3.7325323320374859,-47.357621318004433,55,1.0367255756846316,-32.380568395569178,21.143568960770381,{"$f":"1/2*(INERTIA+mazalazo*($C95^2+$D95^2))*$I95^2","v":47.648681558463927},-47.357621318004433,-3.7325323320374859,-32.380568395569178,68.792250519234301,20.866267656138021,89.658518175372322,null,1.0367255756846316,3.1843559896177243,{"$f":"$H95-($I95*$C95)","v":1.9888664037333719},3.754425740444681,-4.803272834676461,-1.5892175325042974,{"$f":"BL94+mazalazo*($I95*(BM95^2+BN95^2)+BM95*BR95-BN95*BQ95)*$BS95*DT","v":-18.866526806047986},3.634662888773267,-0.48461969953745621,-3.1519000233898886,1.8738081040384644,2.5701994089602076,-2.6173271409003425,0.40972978493014278,1.7419622742551122,1.7140405022574308]
[0,56,3.6826561717045072,-0.53423456973277794,-3.2208127676660623,1.863794025671867,2.5219512961061374,-2.6468190443983746,-1.2355035688808127,{"$f":"IF(($G96+$I96*$D96)^2+($H96-$I96*$D96)^2<>0,-mew*($G96+$I96*$D96)/SQRT(($G96+$I96*$D96)^2+($H96-$I96*$C96)^2),0)","v":-2.5746481022766607},{"$f":"-mew*($H96-$C96*$I96)/SQRT(($G96+$D96*$I96)^2+($H96-$I96*$C96)^2)","v":-1.5398659517773592},-1.2355035688808125,{"$f":"($I96-$I95)/DT","v":1.686637999359013},{"$f":"IF(Q96<>0,mazalazo*(($D96*$J96-$C96*$K96)-2*$I96*($C96*$G96+$D96*$H96))/(INERTIA+mazalazo*($C96^2+$D96^2)),0)","v":1.6594942716305923},-2.7610659358242824,{"$f":"IF(Q96<>0,G96*COS(O96)+H96*SIN(O96)+F96*$I96,0)","v":-3.661224209987838},-33.009563384417611,{"$f":"R95+mazalazo*($I96^2*($E96*$P96+$F96*$U96))*DT","v":101.52820877623559},{"$f":"IF(Q96<>0,$J96*COS($O96)+$K96*SIN($Z96)+2*$U96*$I96+$E96*$I96^2+$F96*$N96,0)","v":2.7083890054105555},{"$f":"IF(Q96<>0,-$J96*SIN($O96)+$K96*COS($O96)-2*$P96*$I96+$F96*$I96^2-$E96*$N96,0)","v":-0.3834978011047312},{"$f":"IF(Q96<>0,-$G96*SIN(O96)+$H96*COS(O96)-$E96*$I96,0)","v":-0.58515905035999571},null,null,null,3.6586595302388871,3.6102142263279373,-0.50942713463511713,-0.46009458405003389,0.96731650697265203,0.99688266331990194,0.35668030011640112,-3.7034861496134468,4.5940256699954709,3.6826561717045072,-0.53423456973277794,-2.7610659358242824,-2.7120319340213257,false,null,1.0555751316061706,null,null,null,-3.8692325494574242,-48.17484186025753,56,1.0555751316061706,-33.009563384417611,20.620460745028922,{"$f":"1/2*(INERTIA+mazalazo*($C96^2+$D96^2))*$I96^2","v":46.207813231780605},-48.17484186025753,-3.8692325494574242,-33.009563384417611,66.828273976809527,20.343803531560454,87.172077508369981,null,1.0555751316061706,3.18200001363049,{"$f":"$H96-($I96*$C96)","v":1.903115798703495},3.7076911724170447,-5.015984864081692,-1.5398659517773592,{"$f":"BL95+mazalazo*($I96*(BM96^2+BN96^2)+BM96*BR96-BN96*BQ96)*$BS96*DT","v":-19.463402278901363},3.6826561717045072,-0.53423456973277794,-3.2208127676660623,1.863794025671867,2.5219512961061374,-2.6468190443983746,0.41378697771785145,1.686637999359013,1.6594942716305923]
[0,57,3.7297346949276902,-0.58439654490712334,-3.2888311514823845,1.853653115684212,2.4731433166859098,-2.6753748447928598,-1.2047247727841595,{"$f":"IF(($G97+$I97*$D97)^2+($H97-$I97*$D97)^2<>0,-mew*($G97+$I97*$D97)/SQRT(($G97+$I97*$D97)^2+($H97-$I97*$C97)^2),0)","v":-2.6038826507453798},{"$f":"-mew*($H97-$C97*$I97)/SQRT(($G97+$D97*$I97)^2+($H97-$I97*$C97)^2)","v":-1.489897694859353},-1.2047247727841597,{"$f":"($I97-$I96)/DT","v":1.6328658470666322},{"$f":"IF(Q97<>0,mazalazo*(($D97*$J97-$C97*$K97)-2*$I97*($C97*$G97+$D97*$H97))/(INERTIA+mazalazo*($C97^2+$D97^2)),0)","v":1.6064937876377299},-2.7837744627989407,{"$f":"IF(Q97<>0,G97*COS(O97)+H97*SIN(O97)+F97*$I97,0)","v":-3.6126437324279967},-33.630554435718999,{"$f":"R96+mazalazo*($I97^2*($E97*$P97+$F97*$U97))*DT","v":102.41357884625189},{"$f":"IF(Q97<>0,$J97*COS($O97)+$K97*SIN($Z97)+2*$U97*$I97+$E97*$I97^2+$F97*$N97,0)","v":2.8017327716802858},{"$f":"IF(Q97<>0,-$J97*SIN($O97)+$K97*COS($O97)-2*$P97*$I97+$F97*$I97^2-$E97*$N97,0)","v":-0.24710396676358481},{"$f":"IF(Q97<>0,-$G97*SIN(O97)+$H97*COS(O97)-$E97*$I97,0)","v":-0.59003865812979761},{"$f":"$G97*COS($O97)+$H97*SIN($O97)+$F97*$I97","v":-3.6126437324279967},{"$f":"-$G97*SIN($O97)+$H97*COS($O97)-$E97*$I97","v":-0.59003865812979761},null,3.7061954333160987,3.6586595302388871,-0.55931555731995064,-0.50942713463511713,0.93853009295496348,0.96731650697265203,0.37578108068564647,-3.6850096492727538,4.5674517207972096,3.7297346949276902,-0.58439654490712334,-2.7837744627989407,-7.1742528777615E-2,false,null,1.0744246875277093,null,null,null,-4.0079882866015906,-48.959482277156383,57,1.0744246875277093,-33.630554435718999,20.099010533308352,{"$f":"1/2*(INERTIA+mazalazo*($C97^2+$D97^2))*$I97^2","v":44.816107355571638},-48.959482277156383,-4.0079882866015906,-33.630554435718999,64.91511788887999,19.823542133376506,84.738660022256497,null,1.0744246875277093,3.1771803114649919,{"$f":"$H97-($I97*$C97)","v":1.8179289380990977},3.660510941868484,-5.2430767422413949,-1.489897694859353,{"$f":"BL96+mazalazo*($I97*(BM97^2+BN97^2)+BM97*BR97-BN97*BQ97)*$BS97*DT","v":-20.072099766505865},3.7297346949276902,-0.58439654490712334,-3.2888311514823845,1.853653115684212,2.4731433166859098,-2.6753748447928598,0.41878237106296867,1.6328658470666322,1.6064937876377299]
[0,58,3.775888071735209,-0.63508787173701531,-3.3559536236441065,1.8434322908774476,2.4237931925257499,-2.7029831349514004,-1.1749305721052852,{"$f":"IF(($G98+$I98*$D98)^2+($H98-$I98*$D98)^2<>0,-mew*($G98+$I98*$D98)/SQRT(($G98+$I98*$D98)^2+($H98-$I98*$C98)^2),0)","v":-2.6321687038003607},{"$f":"-mew*($H98-$C98*$I98)/SQRT(($G98+$D98*$I98)^2+($H98-$I98*$C98)^2)","v":-1.4393359283829221},-1.174930572105285,{"$f":"($I98-$I97)/DT","v":1.5806314378382487},{"$f":"IF(Q98<>0,mazalazo*(($D98*$J98-$C98*$K98)-2*$I98*($C98*$G98+$D98*$H98))/(INERTIA+mazalazo*($C98^2+$D98^2)),0)","v":1.5550222949475705},-2.8059213823217646,{"$f":"IF(Q98<>0,G98*COS(O98)+H98*SIN(O98)+F98*$I98,0)","v":-3.5640539128377795},-34.243479420748173,{"$f":"R97+mazalazo*($I98^2*($E98*$P98+$F98*$U98))*DT","v":103.26201767654544},{"$f":"IF(Q98<>0,$J98*COS($O98)+$K98*SIN($Z98)+2*$U98*$I98+$E98*$I98^2+$F98*$N98,0)","v":2.8814832444785994},{"$f":"IF(Q98<>0,-$J98*SIN($O98)+$K98*COS($O98)-2*$P98*$I98+$F98*$I98^2-$E98*$N98,0)","v":-0.11969982150865022},{"$f":"IF(Q98<>0,-$G98*SIN(O98)+$H98*COS(O98)-$E98*$I98,0)","v":-0.59247960368683916},{"$f":"$G98*COS($O98)+$H98*SIN($O98)+$F98*$I98","v":-3.5640539128377795},{"$f":"-$G98*SIN($O98)+$H98*COS($O98)-$E98*$I98","v":-0.59247960368683916},null,3.7528113833314496,3.7061954333160987,-0.60974220832206938,-0.55931555731995064,0.91047876814111817,0.93853009295496348,0.39549676349834378,-3.6665058876498824,4.5404137951544552,3.775888071735209,-0.63508787173701531,-2.8059213823217646,-2.7341788535441496,false,null,1.093274243449248,null,null,null,-4.1487566861113807,-49.712062679758318,58,1.093274243449248,-34.243479420748173,19.5802685615988,{"$f":"1/2*(INERTIA+mazalazo*($C98^2+$D98^2))*$I98^2","v":43.472125479407076},-49.712062679758318,-4.1487566861113807,-34.243479420748173,63.052394041005876,19.306475576038949,82.358869617044832,null,1.093274243449248,3.1699773490028491,{"$f":"$H98-($I98*$C98)","v":1.7334231973779706},3.6129644856266161,-5.4862148270506381,-1.4393359283829221,{"$f":"BL97+mazalazo*($I98*(BM98^2+BN98^2)+BM98*BR98-BN98*BQ98)*$BS98*DT","v":-20.694128878573352},3.775888071735209,-0.63508787173701531,-3.3559536236441065,1.8434322908774476,2.4237931925257499,-2.7029831349514004,0.42483564721494105,1.5806314378382487,1.5550222949475705]
[0,59,3.8211062524075299,-0.68629058604780402,-3.4221799769110377,1.833175377948036,2.3739189554544451,-2.7296329527807375,-1.1460923369019629,{"$f":"IF(($G99+$I99*$D99)^2+($H99-$I99*$D99)^2<>0,-mew*($G99+$I99*$D99)/SQRT(($G99+$I99*$D99)^2+($H99-$I99*$C99)^2),0)","v":-2.659490120623746},{"$f":"-mew*($H99-$C99*$I99)/SQRT(($G99+$D99*$I99)^2+($H99-$I99*$C99)^2)","v":-1.3882047033145692},-1.1460923369019629,{"$f":"($I99-$I98)/DT","v":1.5299158942184841},{"$f":"IF(Q99<>0,mazalazo*(($D99*$J99-$C99*$K99)-2*$I99*($C99*$G99+$D99*$H99))/(INERTIA+mazalazo*($C99^2+$D99^2)),0)","v":1.5050589136219759},-2.8275247139174451,{"$f":"IF(Q99<>0,G99*COS(O99)+H99*SIN(O99)+F99*$I99,0)","v":-3.5155204474057493},-34.848288583253805,{"$f":"R98+mazalazo*($I99^2*($E99*$P99+$F99*$U99))*DT","v":104.07494233505327},{"$f":"IF(Q99<>0,$J99*COS($O99)+$K99*SIN($Z99)+2*$U99*$I99+$E99*$I99^2+$F99*$N99,0)","v":2.9484089823514088},{"$f":"IF(Q99<>0,-$J99*SIN($O99)+$K99*COS($O99)-2*$P99*$I99+$F99*$I99^2-$E99*$N99,0)","v":-1.0094227089245678E-3},{"$f":"IF(Q99<>0,-$G99*SIN(O99)+$H99*COS(O99)-$E99*$I99,0)","v":-0.59264690893588012},{"$f":"$G99*COS($O99)+$H99*SIN($O99)+$F99*$I99","v":-3.5155204474057493},{"$f":"-$G99*SIN($O99)+$H99*COS($O99)-$E99*$I99","v":-0.59264690893588012},null,3.7984971620713694,3.7528113833314496,-0.66068922889240966,-0.60974220832206938,0.88312077359526087,0.91047876814111817,0.41583137624740313,-3.6479916544834916,4.5129142762497532,3.8211062524075299,-0.68629058604780402,-2.8275247139174451,-9.3345860373295508E-2,false,null,1.1121237993707869,null,null,null,-4.2914925754972488,-50.433167195418157,59,1.1121237993707869,-34.848288583253805,19.06517156219876,{"$f":"1/2*(INERTIA+mazalazo*($C99^2+$D99^2))*$I99^2","v":42.174445660379249},-50.433167195418157,-4.2914925754972488,-34.848288583253805,61.239617222578005,18.79348655638131,80.033103778959315,null,1.1121237993707869,3.1604713370117903,{"$f":"$H99-($I99*$C99)","v":1.6497076415917098},3.5651247348163255,-5.7473298734843041,-1.3882047033145692,{"$f":"BL98+mazalazo*($I99*(BM99^2+BN99^2)+BM99*BR99-BN99*BQ99)*$BS99*DT","v":-21.331232013885618},3.8211062524075299,-0.68629058604780402,-3.4221799769110377,1.833175377948036,2.3739189554544451,-2.7296329527807375,0.43208305586934204,1.5299158942184841,1.5050589136219759]
[0,60,3.8653795299464964,-0.73798652135860499,-3.4875111468905762,1.8229232064325549,2.3235389354490539,-2.755313797740536,-1.1181818643018693,{"$f":"IF(($G100+$I100*$D100)^2+($H100-$I100*$D100)^2<>0,-mew*($G100+$I100*$D100)/SQRT(($G100+$I100*$D100)^2+($H100-$I100*$C100)^2),0)","v":-2.6858314166260278},{"$f":"-mew*($H100-$C100*$I100)/SQRT(($G100+$D100*$I100)^2+($H100-$I100*$C100)^2)","v":-1.3365289377580361},-1.1181818643018693,{"$f":"($I100-$I99)/DT","v":1.4806965594452672},{"$f":"IF(Q100<>0,mazalazo*(($D100*$J100-$C100*$K100)-2*$I100*($C100*$G100+$D100*$H100))/(INERTIA+mazalazo*($C100^2+$D100^2)),0)","v":1.4565793163386367},-2.8486019454990537,{"$f":"IF(Q100<>0,G100*COS(O100)+H100*SIN(O100)+F100*$I100,0)","v":-3.4670987491998719},-35.444943502757994,{"$f":"R99+mazalazo*($I100^2*($E100*$P100+$F100*$U100))*DT","v":104.85373470015413},{"$f":"IF(Q100<>0,$J100*COS($O100)+$K100*SIN($Z100)+2*$U100*$I100+$E100*$I100^2+$F100*$N100,0)","v":3.0032599377969609},{"$f":"IF(Q100<>0,-$J100*SIN($O100)+$K100*COS($O100)-2*$P100*$I100+$F100*$I100^2-$E100*$N100,0)","v":0.10925832151074921},{"$f":"IF(Q100<>0,-$G100*SIN(O100)+$H100*COS(O100)-$E100*$I100,0)","v":-0.59070028207489189},{"$f":"$G100*COS($O100)+$H100*SIN($O100)+$F100*$I100","v":-3.4670987491998719},{"$f":"-$G100*SIN($O100)+$H100*COS($O100)-$E100*$I100","v":-0.59070028207489189},null,3.8432428911770131,3.7984971620713694,-0.71213855370320456,-0.66068922889240966,0.85641699434957996,0.88312077359526087,0.43678843854115101,-3.6294840374183535,4.4849557586435305,3.8653795299464964,-0.73798652135860499,-2.8486019454990537,-2.7552560851257581,false,null,1.1309733552923256,null,null,null,-4.4361484358709644,-51.12343491455281,60,1.1309733552923256,-35.444943502757994,18.554550839920012,{"$f":"1/2*(INERTIA+mazalazo*($C100^2+$D100^2))*$I100^2","v":40.921665927655177},-51.12343491455281,-4.4361484358709644,-35.444943502757994,59.476216767575188,18.285356282843324,77.761573050418519,null,1.1309733552923256,3.1487420797314698,{"$f":"$H100-($I100*$C100)","v":1.5668834912893201},3.517058509599559,-6.0286717498194591,-1.3365289377580361,{"$f":"BL99+mazalazo*($I100*(BM100^2+BN100^2)+BM100*BR100-BN100*BQ100)*$BS100*DT","v":-21.985417760190899},3.8653795299464964,-0.73798652135860499,-3.4875111468905762,1.8229232064325549,2.3235389354490539,-2.755313797740536,0.44068100358440165,1.4806965594452672,1.4565793163386367]
[0,61,3.908698545575481,-0.79015731773521103,-3.5519490316198987,1.8127137070505226,2.2726717477512195,-2.7800156469933848,-1.0911714377091326,{"$f":"IF(($G101+$I101*$D101)^2+($H101-$I101*$D101)^2<>0,-mew*($G101+$I101*$D101)/SQRT(($G101+$I101*$D101)^2+($H101-$I101*$C101)^2),0)","v":-2.711177817930392},{"$f":"-mew*($H101-$C101*$I101)/SQRT(($G101+$D101*$I101)^2+($H101-$I101*$C101)^2)","v":-1.2843343955380921},-1.0911714377091326,{"$f":"($I101-$I100)/DT","v":1.4329476357516071},{"$f":"IF(Q101<>0,mazalazo*(($D101*$J101-$C101*$K101)-2*$I101*($C101*$G101+$D101*$H101))/(INERTIA+mazalazo*($C101^2+$D101^2)),0)","v":1.4095563289705741},-2.869170042534138,{"$f":"IF(Q101<>0,G101*COS(O101)+H101*SIN(O101)+F101*$I101,0)","v":-3.4188350307767594},-36.033416121645359,{"$f":"R100+mazalazo*($I101^2*($E101*$P101+$F101*$U101))*DT","v":105.59973978102265},{"$f":"IF(Q101<>0,$J101*COS($O101)+$K101*SIN($Z101)+2*$U101*$I101+$E101*$I101^2+$F101*$N101,0)","v":3.0467668156706158},{"$f":"IF(Q101<>0,-$J101*SIN($O101)+$K101*COS($O101)-2*$P101*$I101+$F101*$I101^2-$E101*$N101,0)","v":0.21140496031214795},{"$f":"IF(Q101<>0,-$G101*SIN(O101)+$H101*COS(O101)-$E101*$I101,0)","v":-0.58679388300679047},{"$f":"$G101*COS($O101)+$H101*SIN($O101)+$F101*$I101","v":-3.4188350307767594},{"$f":"-$G101*SIN($O101)+$H101*COS($O101)-$E101*$I101","v":-0.58679388300679047},null,3.8870390377609887,3.8432428911770131,-0.76407191954690801,-0.71213855370320456,0.83033073362110643,0.85641699434957996,0.45837093556651892,-3.611000420185329,4.4565410664351157,3.908698545575481,-0.79015731773521103,-2.869170042534138,-0.11391395740837984,false,null,1.1498229112138643,null,null,null,-4.5826743757903268,-51.783551575550888,61,1.1498229112138643,-36.033416121645359,18.049140043200772,{"$f":"1/2*(INERTIA+mazalazo*($C101^2+$D101^2))*$I101^2","v":39.712407173256047},-51.783551575550888,-4.5826743757903268,-36.033416121645359,57.761547216456819,17.782772083826401,75.54431930028322,null,1.1498229112138643,3.1348688441607417,{"$f":"$H101-($I101*$C101)","v":1.4850445645538084},3.4688268951910119,-6.332878323626538,-1.2843343955380921,{"$f":"BL100+mazalazo*($I101*(BM101^2+BN101^2)+BM101*BR101-BN101*BQ101)*$BS101*DT","v":-22.659001656940177},3.908698545575481,-0.79015731773521103,-3.5519490316198987,1.8127137070505226,2.2726717477512195,-2.7800156469933848,0.45081056146112097,1.4329476357516071,1.4095563289705741]
[0,62,3.9510542939870299,-0.84278443094336675,-3.6154963303132104,1.802582013825055,2.221336278960941,-2.8037289711107847,-1.0650338753573618,{"$f":"IF(($G102+$I102*$D102)^2+($H102-$I102*$D102)^2<>0,-mew*($G102+$I102*$D102)/SQRT(($G102+$I102*$D102)^2+($H102-$I102*$C102)^2),0)","v":-2.7355153153277492},{"$f":"-mew*($H102-$C102*$I102)/SQRT(($G102+$D102*$I102)^2+($H102-$I102*$C102)^2)","v":-1.2316476604968347},-1.0650338753573616,{"$f":"($I102-$I101)/DT","v":1.386640749552315},{"$f":"IF(Q102<>0,mazalazo*(($D102*$J102-$C102*$K102)-2*$I102*($C102*$G102+$D102*$H102))/(INERTIA+mazalazo*($C102^2+$D102^2)),0)","v":1.3639604615094432},-2.8892454581260196,{"$f":"IF(Q102<>0,G102*COS(O102)+H102*SIN(O102)+F102*$I102,0)","v":-3.3707673044352582},-36.613687832883024,{"$f":"R101+mazalazo*($I102^2*($E102*$P102+$F102*$U102))*DT","v":106.31426445965849},{"$f":"IF(Q102<>0,$J102*COS($O102)+$K102*SIN($Z102)+2*$U102*$I102+$E102*$I102^2+$F102*$N102,0)","v":3.07964039377599},{"$f":"IF(Q102<>0,-$J102*SIN($O102)+$K102*COS($O102)-2*$P102*$I102+$F102*$I102^2-$E102*$N102,0)","v":0.30573853837246823},{"$f":"IF(Q102<>0,-$G102*SIN(O102)+$H102*COS(O102)-$E102*$I102,0)","v":-0.58107616889394587},{"$f":"$G102*COS($O102)+$H102*SIN($O102)+$F102*$I102","v":-3.3707673044352582},{"$f":"-$G102*SIN($O102)+$H102*COS($O102)-$E102*$I102","v":-0.58107616889394587},null,3.9298764197812552,3.8870390377609887,-0.81647087433928889,-0.76407191954690801,0.80482750866496189,0.83033073362110643,0.48058129012816514,-3.5925584801881723,4.4276732727399768,3.9510542939870299,-0.84278443094336675,-2.8892454581260196,-2.7753315007176398,false,null,1.168672467135403,null,null,null,-4.7310181104820161,-52.414241954588974,62,1.168672467135403,-36.613687832883024,17.549582602059303,{"$f":"1/2*(INERTIA+mazalazo*($C102^2+$D102^2))*$I102^2","v":38.545315535014119},-52.414241954588974,-4.7310181104820161,-36.613687832883024,{"$f":"AW102+AX102","v":56.094898137073422},17.286334672186484,{"$f":"BB102+BC102","v":73.381232809259899},null,1.168672467135403,3.1189302475394038,{"$f":"$H102-($I102*$C102)","v":1.4042776953615665},3.4204855992543224,-6.6630629921164362,-1.2316476604968347,{"$f":"BL101+mazalazo*($I102*(BM102^2+BN102^2)+BM102*BR102-BN102*BQ102)*$BS102*DT","v":-23.354656321861686},3.9510542939870299,-0.84278443094336675,-3.6154963303132104,1.802582013825055,2.221336278960941,-2.8037289711107847,0.46268318184670654,1.386640749552315,1.3639604615094432]
[0,63,3.9924381283188439,-0.89584914189327169,-3.6781563997935853,1.7925605686119721,2.1695516721209884,-2.8264447492539091,-1.0397425694596898,{"$f":"IF(($G103+$I103*$D103)^2+($H103-$I103*$D103)^2<>0,-mew*($G103+$I103*$D103)/SQRT(($G103+$I103*$D103)^2+($H103-$I103*$C103)^2),0)","v":-2.7588307173592037},{"$f":"-mew*($H103-$C103*$I103)/SQRT(($G103+$D103*$I103)^2+($H103-$I103*$C103)^2)","v":-1.1784961064659076},-1.0397425694596898,{"$f":"($I103-$I102)/DT","v":1.3417454502879032},{"$f":"IF(Q103<>0,mazalazo*(($D103*$J103-$C103*$K103)-2*$I103*($C103*$G103+$D103*$H103))/(INERTIA+mazalazo*($C103^2+$D103^2)),0)","v":1.3197603758845808},-2.9088441438330546,{"$f":"IF(Q103<>0,G103*COS(O103)+H103*SIN(O103)+F103*$I103,0)","v":-3.3229263029429159},-37.185748625262114,{"$f":"R102+mazalazo*($I103^2*($E103*$P103+$F103*$U103))*DT","v":106.99857660107511},{"$f":"IF(Q103<>0,$J103*COS($O103)+$K103*SIN($Z103)+2*$U103*$I103+$E103*$I103^2+$F103*$N103,0)","v":3.1025708112131789},{"$f":"IF(Q103<>0,-$J103*SIN($O103)+$K103*COS($O103)-2*$P103*$I103+$F103*$I103^2-$E103*$N103,0)","v":0.39257027599718697},{"$f":"IF(Q103<>0,-$G103*SIN(O103)+$H103*COS(O103)-$E103*$I103,0)","v":-0.57368980711576523},{"$f":"$G103*COS($O103)+$H103*SIN($O103)+$F103*$I103","v":-3.3229263029429159},{"$f":"-$G103*SIN($O103)+$H103*COS($O103)-$E103*$I103","v":-0.57368980711576523},null,3.9717462111529369,3.9298764197812552,-0.86931678641831922,-0.81647087433928889,0.77987486581961973,0.80482750866496189,0.50342133296565561,-3.5741761854134739,4.3983557205723223,3.9924381283188439,-0.89584914189327169,-2.9088441438330546,-0.13351264311541478,false,null,1.1875220230569419,null,null,null,-4.8811249466893205,-53.016262924276674,63,1.1875220230569419,-37.185748625262114,17.056438814367599,{"$f":"1/2*(INERTIA+mazalazo*($C103^2+$D103^2))*$I103^2","v":37.419064331515898},-53.016262924276674,-4.8811249466893205,-37.185748625262114,54.475503145883494,16.796565051536334,71.272068197419827,null,1.1875220230569419,3.1010041607613568,{"$f":"$H103-($I103*$C103)","v":1.3246631286931603},3.3720852909703214,-7.0229270225569813,-1.1784961064659076,{"$f":"BL102+mazalazo*($I103*(BM103^2+BN103^2)+BM103*BR103-BN103*BQ103)*$BS103*DT","v":-24.075473601737912},3.9924381283188439,-0.89584914189327169,-3.6781563997935853,1.7925605686119721,2.1695516721209884,-2.8264447492539091,0.47654802472363211,1.3417454502879032,1.3197603758845808]
[{"$f":"IF(B104=XRON,1,0)","v":0},64,4.0328417648392438,-0.94933256636464358,-3.7399331271848446,1.7826792268878822,2.1173373108117333,-2.8481544837475536,-1.015271517087083,{"$f":"IF(($G104+$I104*$D104)^2+($H104-$I104*$D104)^2<>0,-mew*($G104+$I104*$D104)/SQRT(($G104+$I104*$D104)^2+($H104-$I104*$C104)^2),0)","v":-2.7811117021722747},{"$f":"-mew*($H104-$C104*$I104)/SQRT(($G104+$D104*$I104)^2+($H104-$I104*$C104)^2)","v":-1.1249078629116389},-1.015271517087083,{"$f":"($I104-$I103)/DT","v":1.2982296492536767},{"$f":"IF(Q104<>0,mazalazo*(($D104*$J104-$C104*$K104)-2*$I104*($C104*$G104+$D104*$H104))/(INERTIA+mazalazo*($C104^2+$D104^2)),0)","v":1.2769232967824893},-2.9279815610699331,{"$f":"IF(Q104<>0,G104*COS(O104)+H104*SIN(O104)+F104*$I104,0)","v":-3.2753363241255373},-37.749596283125953,{"$f":"R103+mazalazo*($I104^2*($E104*$P104+$F104*$U104))*DT","v":107.65390448357387},{"$f":"IF(Q104<>0,$J104*COS($O104)+$K104*SIN($Z104)+2*$U104*$I104+$E104*$I104^2+$F104*$N104,0)","v":3.11622683612342},{"$f":"IF(Q104<>0,-$J104*SIN($O104)+$K104*COS($O104)-2*$P104*$I104+$F104*$I104^2-$E104*$N104,0)","v":0.47221181061973283},{"$f":"IF(Q104<>0,-$G104*SIN(O104)+$H104*COS(O104)-$E104*$I104,0)","v":-0.56477164446099914},{"$f":"$G104*COS($O104)+$H104*SIN($O104)+$F104*$I104","v":-3.2753363241255373},{"$f":"-$G104*SIN($O104)+$H104*COS($O104)-$E104*$I104","v":-0.56477164446099914},null,4.0126399465790437,3.9717462111529369,-0.92259085412895758,-0.86931678641831922,0.75544221260601585,0.77987486581961973,0.52689227135246641,-3.555871790488399,4.3685920450933393,4.0328417648392438,-0.94933256636464358,-2.9279815610699331,-2.7944689179545183,false,null,{"$f":"B104*DT","v":1.2063715789784806},null,null,null,-5.0329377733695297,-53.590397143326889,64,1.2063715789784806,-37.749596283125953,{"$f":"1/2*mazalazo*(P104^2+U104^2)","v":16.57019256978505},{"$f":"1/2*(INERTIA+mazalazo*($C104^2+$D104^2))*$I104^2","v":36.332355603100709},-53.590397143326889,-5.0329377733695297,-37.749596283125953,52.902548172885759,16.313911057121018,69.216459230006777,null,1.2063715789784806,3.0811676256849387,{"$f":"$H104-($I104*$C104)","v":1.2462748930129348},3.3236719222154534,-7.4169053142907853,-1.1249078629116389,{"$f":"BL103+mazalazo*($I104*(BM104^2+BN104^2)+BM104*BR104-BN104*BQ104)*$BS104*DT","v":-24.825042329104566},4.0328417648392438,-0.94933256636464358,-3.7399331271848446,1.7826792268878822,2.1173373108117333,-2.8481544837475536,0.49270145338007976,1.2982296492536767,1.2769232967824893]
[0,65,4.0722572873237048,-1.0032156650001349,-3.8008308175036714,1.7729653638402119,2.0647128022828984,-2.8688502139659526,{"$f":"IF(AND(Q105<>0,B105>=0),(L0+mazalazo*(D105*G105-C105*H105))/(INERTIA+mazalazo*($C105^2+$D105^2)),I104)","v":-0.99159534379531722},{"$f":"IF(($G105+$I105*$D105)^2+($H105-$I105*$D105)^2<>0,-mew*($G105+$I105*$D105)/SQRT(($G105+$I105*$D105)^2+($H105-$I105*$C105)^2),0)","v":-2.8023468677900674},{"$f":"-mew*($H105-$C105*$I105)/SQRT(($G105+$D105*$I105)^2+($H105-$I105*$C105)^2)","v":-1.0709117762856095},-0.99159534379531733,{"$f":"($I105-$I104)/DT","v":1.2560600042949432},{"$f":"IF(Q105<>0,mazalazo*(($D105*$J105-$C105*$K105)-2*$I105*($C105*$G105+$D105*$H105))/(INERTIA+mazalazo*($C105^2+$D105^2)),0)","v":1.2354153711231499},-2.9466726929543405,{"$f":"IF(Q105<>0,G105*COS(O105)+H105*SIN(O105)+F105*$I105,0)","v":-3.2280160030931411},-38.305235637643229,{"$f":"R104+mazalazo*($I105^2*($E105*$P105+$F105*$U105))*DT","v":108.28143650604429},{"$f":"IF(Q105<>0,$J105*COS($O105)+$K105*SIN($Z105)+2*$U105*$I105+$E105*$I105^2+$F105*$N105,0)","v":3.1212551284390835},{"$f":"IF(Q105<>0,-$J105*SIN($O105)+$K105*COS($O105)-2*$P105*$I105+$F105*$I105^2-$E105*$N105,0)","v":0.54497292683314313},{"$f":"IF(Q105<>0,-$G105*SIN(O105)+$H105*COS(O105)-$E105*$I105,0)","v":-0.55445272281321367},{"$f":"$G105*COS($O105)+$H105*SIN($O105)+$F105*$I105","v":-3.2280160030931411},{"$f":"-$G105*SIN($O105)+$H105*COS($O105)-$E105*$I105","v":-0.55445272281321367},null,4.0525495260814743,4.0126399465790437,-0.97627411568238931,-0.92259085412895758,0.73150066500628208,0.75544221260601585,0.55099465592530861,-3.5376638317576106,4.3383861972660727,4.0722572873237048,-1.0032156650001349,{"$f":"IF(Q105<>0,O105,AJ104+TEL_OMEGA*DT)","v":-2.9466726929543405},-0.15220377499982218,false,null,1.2252211349000193,null,null,null,{"$f":"mazalazo*(J105*G105+K105*H105)*DT+AR104","v":-5.1863970584408641},{"$f":"AS104+mazalazo*($F105*$P105-$E105*$U105)*$N105*DT","v":-54.137447338628959},65,1.2252211349000193,-38.305235637643229,16.091257707090605,{"$f":"1/2*(INERTIA+mazalazo*($C105^2+$D105^2))*$I105^2","v":35.283921307648164},-54.137447338628959,-5.1863970584408641,{"$f":"IF(($P105^2+$U105^2)<>0,-mazalazo*mew*($P105^2+$U105^2)/SQRT($P105^2+$U105^2)*DT+BA104,BA104)","v":-38.305235637643229},51.375179014738769,15.838753529772106,67.213932544510868,null,{"$f":"B105*DT","v":1.2252211349000193},3.0594967845195553,{"$f":"$H105-($I105*$C105)","v":1.1691811508807826},3.2752870314005169,{"$f":"-mew*BG105/BH105","v":-7.8503577881359163},{"$f":"-mew*BH105/BI105","v":-1.0709117762856093},{"$f":"BL104+mazalazo*($I105*(BM105^2+BN105^2)+BM105*BR105-BN105*BQ105)*$BS105*DT","v":-25.607546572894531},4.0722572873237048,-1.0032156650001349,-3.8008308175036714,1.7729653638402119,2.0647128022828984,-2.8688502139659526,{"$f":"($BN105*$BJ105-$BM105*$BK105)/(INERTIA+mazalazo*($BM105^2+$BN105^2))*mazalazo","v":0.5114994925049644},1.2560600042949432,1.2354153711231499]
[0,66,4.1106771511046167,-1.0574792535533746,-3.8608540948626562,1.7634439799697725,2.0116979596555753,-2.8885245294501161,-0.96868932091857873,{"$f":"IF(($G106+$I106*$D106)^2+($H106-$I106*$D106)^2<>0,-mew*($G106+$I106*$D106)/SQRT(($G106+$I106*$D106)^2+($H106-$I106*$C106)^2),0)","v":-2.8225257804291766},{"$f":"-mew*($H106-$C106*$I106)/SQRT(($G106+$D106*$I106)^2+($H106-$I106*$C106)^2)","v":-1.0165373671502034},-0.96868932091857873,{"$f":"($I106-$I105)/DT","v":1.2152022558029889},{"$f":"IF(Q106<>0,mazalazo*(($D106*$J106-$C106*$K106)-2*$I106*($C106*$G106+$D106*$H106))/(INERTIA+mazalazo*($C106^2+$D106^2)),0)","v":1.195201981408887},-2.9649320564795927,{"$f":"IF(Q106<>0,G106*COS(O106)+H106*SIN(O106)+F106*$I106,0)","v":-3.1809790161144886},-38.852677866792007,{"$f":"R105+mazalazo*($I106^2*($E106*$P106+$F106*$U106))*DT","v":108.88232113383037},{"$f":"IF(Q106<>0,$J106*COS($O106)+$K106*SIN($Z106)+2*$U106*$I106+$E106*$I106^2+$F106*$N106,0)","v":3.1182795154842871},{"$f":"IF(Q106<>0,-$J106*SIN($O106)+$K106*COS($O106)-2*$P106*$I106+$F106*$I106^2-$E106*$N106,0)","v":0.61115970943676423},{"$f":"IF(Q106<>0,-$G106*SIN(O106)+$H106*COS(O106)-$E106*$I106,0)","v":-0.54285833287470986},{"$f":"$G106*COS($O106)+$H106*SIN($O106)+$F106*$I106","v":-3.1809790161144886},{"$f":"-$G106*SIN($O106)+$H106*COS($O106)-$E106*$I106","v":-0.54285833287470986},null,4.0914672192141612,4.0525495260814743,-1.0303474592767548,-0.97627411568238931,0.70802290827516867,0.73150066500628208,0.57572834574464116,-3.5195711212067096,4.3077424688980406,4.1106771511046167,-1.0574792535533746,-2.9649320564795927,-2.8127282814797705,{"$f":"AND(ABS(L106)>ABS(exactome)/10,ABS(L107)<ABS(exactome)/10)","v":false},null,1.2440706908215582,null,null,null,-5.3414408517510719,-54.658231141012109,66,{"$f":"IF(AND(AT106>0,Q106<>0),AN106,AU105)","v":1.2440706908215582},{"$f":"IF(AU106<>AU105,Q106,AV105)","v":-38.852677866792007},15.619984005798315,{"$f":"1/2*(INERTIA+mazalazo*($C106^2+$D106^2))*$I106^2","v":34.272524214955389},-54.658231141012109,{"$f":"IF(AU106<>AU105,AR106,AR105)","v":-5.3414408517510719},-38.852677866792007,49.892508220753705,{"$f":"BA106+AY106+$R106","v":15.371412126026257},65.263920346779969,null,1.2440706908215582,{"$f":"G106-(-D106*L106)","v":3.0360668196656793},{"$f":"$H106-($I106*$C106)","v":1.0934445285689329},{"$f":"SQRT(BG106^2+BH106^2)","v":3.2269680306027526},-8.3298239837713339,-1.0165373671502034,{"$f":"BL105+mazalazo*($I106*(BM106^2+BN106^2)+BM106*BR106-BN106*BQ106)*$BS106*DT","v":-26.427891152946245},{"$f":"C106","v":4.1106771511046167},{"$f":"D106","v":-1.0574792535533746},{"$f":"E106","v":-3.8608540948626562},{"$f":"F106","v":1.7634439799697725},{"$f":"G106","v":2.0116979596555753},{"$f":"H106","v":-2.8885245294501161},0.53337439108507367,{"$f":"$M106","v":1.2152022558029889},{"$f":"$N106","v":1.195201981408887}]
[0,67,4.1480941867771008,-1.1121040133764017,-3.9200078160688867,1.754137805561671,1.9583127832347171,-2.9071705821779945,-0.94652937735338216,{"$f":"IF(($G107+$I107*$D107)^2+($H107-$I107*$D107)^2<>0,-mew*($G107+$I107*$D107)/SQRT(($G107+$I107*$D107)^2+($H107-$I107*$C107)^2),0)","v":-2.8416390205026372},{"$f":"-mew*($H107-$C107*$I107)/SQRT(($G107+$D107*$I107)^2+($H107-$I107*$C107)^2)","v":-0.96181478318687252},-0.94652937735338205,{"$f":"($I107-$I106)/DT","v":1.1756215190128243},{"$f":"IF(Q107<>0,mazalazo*(($D107*$J107-$C107*$K107)-2*$I107*($C107*$G107+$D107*$H107))/(INERTIA+mazalazo*($C107^2+$D107^2)),0)","v":1.1562480177347325},-2.9827737149093947,{"$f":"IF(Q107<>0,G107*COS(O107)+H107*SIN(O107)+F107*$I107,0)","v":-3.1342347202755043},-39.391939841337596,{"$f":"R106+mazalazo*($I107^2*($E107*$P107+$F107*$U107))*DT","v":109.45766704890281},{"$f":"IF(Q107<>0,$J107*COS($O107)+$K107*SIN($Z107)+2*$U107*$I107+$E107*$I107^2+$F107*$N107,0)","v":3.1079002991044651},{"$f":"IF(Q107<>0,-$J107*SIN($O107)+$K107*COS($O107)-2*$P107*$I107+$F107*$I107^2-$E107*$N107,0)","v":0.67107306092146679},{"$f":"IF(Q107<>0,-$G107*SIN(O107)+$H107*COS(O107)-$E107*$I107,0)","v":-0.53010809862771202},{"$f":"$G107*COS($O107)+$H107*SIN($O107)+$F107*$I107","v":-3.1342347202755043},{"$f":"-$G107*SIN($O107)+$H107*COS($O107)-$E107*$I107","v":-0.53010809862771202},null,{"$f":"(C107+C106)/2","v":4.1293856689408592},{"$f":"(C106+C105)/2","v":4.0914672192141612},{"$f":"(D107+D106)/2","v":-1.0847916334648882},{"$f":"(D106+D105)/2","v":-1.0303474592767548},{"$f":"-(C106-C107)/(D106-D107)","v":0.68498306983330459},{"$f":"-(C105-C106)/(D105-D106)","v":0.70802290827516867},{"$f":"((AA107-AB107)+AD107*Z107-AC107*Y107)/(AD107-AC107)","v":0.60109247165840718},{"$f":"AA107+AC107*(AE107-Y107)","v":-3.5016127390113878},{"$f":"SQRT((AE107-Z107)^2+(AF107-AB107)^2)","v":4.276665518975828},4.1480941867771008,-1.1121040133764017,-2.9827737149093947,-0.17004543342962419,false,null,1.2629202467430969,null,null,null,-5.4980047944094501,-55.153576436471759,67,1.2629202467430969,-39.391939841337596,15.156662817016734,{"$f":"1/2*(INERTIA+mazalazo*($C107^2+$D107^2))*$I107^2","v":33.296958538965264},{"$f":"IF(AU107<>AU106,AS107,AY106)","v":-55.153576436471759},-5.4980047944094501,-39.391939841337596,48.453621355981994,14.912150771093451,63.365772127075445,null,1.2629202467430969,3.0109519025680802,{"$f":"$H107-($I107*$C107)","v":1.0191224256353189},3.1787484766824754,-8.8633666382850667,-0.96181478318687252,{"$f":"BL106+mazalazo*($I107*(BM107^2+BN107^2)+BM107*BR107-BN107*BQ107)*$BS107*DT","v":-27.291863947484934},4.1480941867771008,-1.1121040133764017,-3.9200078160688867,1.754137805561671,1.9583127832347171,-2.9071705821779945,0.55885696479305225,1.1756215190128243,1.1562480177347325]
[0,68,4.1845016035445628,-1.1670705021298018,-3.9782969954781664,1.7450674035056402,1.9045774409791425,-2.9247820979111898,-0.92509210657010232,{"$f":"IF(($G108+$I108*$D108)^2+($H108-$I108*$D108)^2<>0,-mew*($G108+$I108*$D108)/SQRT(($G108+$I108*$D108)^2+($H108-$I108*$C108)^2),0)","v":-2.8596782259488305},{"$f":"-mew*($H108-$C108*$I108)/SQRT(($G108+$D108*$I108)^2+($H108-$I108*$C108)^2)","v":-0.90677474823362259},-0.92509210657010232,{"$f":"($I108-$I107)/DT","v":1.137282537186151},{"$f":"IF(Q108<>0,mazalazo*(($D108*$J108-$C108*$K108)-2*$I108*($C108*$G108+$D108*$H108))/(INERTIA+mazalazo*($C108^2+$D108^2)),0)","v":1.118518112840803},-3.0002112903047617,{"$f":"IF(Q108<>0,G108*COS(O108)+H108*SIN(O108)+F108*$I108,0)","v":-3.0877887330890426},-39.923043514210939,{"$f":"R107+mazalazo*($I108^2*($E108*$P108+$F108*$U108))*DT","v":110.0085434738986},{"$f":"IF(Q108<>0,$J108*COS($O108)+$K108*SIN($Z108)+2*$U108*$I108+$E108*$I108^2+$F108*$N108,0)","v":3.0906936127268665},{"$f":"IF(Q108<>0,-$J108*SIN($O108)+$K108*COS($O108)-2*$P108*$I108+$F108*$I108^2-$E108*$N108,0)","v":0.7250075312994686},{"$f":"IF(Q108<>0,-$G108*SIN(O108)+$H108*COS(O108)-$E108*$I108,0)","v":-0.51631608626002912},{"$f":"$G108*COS($O108)+$H108*SIN($O108)+$F108*$I108","v":-3.0877887330890426},{"$f":"-$G108*SIN($O108)+$H108*COS($O108)-$E108*$I108","v":-0.51631608626002912},null,4.1662978951608318,4.1293856689408592,-1.1395872577531017,-1.0847916334648882,0.66235660296219867,0.68498306983330459,0.62708539791433859,-3.4838080245906489,4.2451604013655961,4.1845016035445628,-1.1670705021298018,-3.0002112903047617,-2.8301658568751376,false,{"$f":"exactome","v":-4},1.2817698026646356,null,null,null,-5.6560221345912556,-55.624317195562163,68,1.2817698026646356,-39.923043514210939,14.701532341683762,{"$f":"1/2*(INERTIA+mazalazo*($C108^2+$D108^2))*$I108^2","v":32.356050342945089},-55.624317195562163,-5.6560221345912556,-39.923043514210939,47.057582684628855,14.461182764125496,61.518765448754351,null,1.2817698026646356,2.9842251503102277,{"$f":"$H108-($I108*$C108)","v":0.94626730545782101},3.1306583271130863,-9.4610427722631929,-0.90677474823362259,{"$f":"BL107+mazalazo*($I108*(BM108^2+BN108^2)+BM108*BR108-BN108*BQ108)*$BS108*DT","v":-28.206348647482002},4.1845016035445628,-1.1670705021298018,-3.9782969954781664,1.7450674035056402,1.9045774409791425,-2.9247820979111898,0.58860722118371211,1.137282537186151,1.118518112840803]
[0,69,4.2198929921885853,-1.2223591646974421,-4.0357267400403991,1.7362512700542665,1.8505122481827685,-2.9413533865450447,-0.90435476951053961,{"$f":"IF(($G109+$I109*$D109)^2+($H109-$I109*$D109)^2<>0,-mew*($G109+$I109*$D109)/SQRT(($G109+$I109*$D109)^2+($H109-$I109*$C109)^2),0)","v":-2.8766361325361802},{"$f":"-mew*($H109-$C109*$I109)/SQRT(($G109+$D109*$I109)^2+($H109-$I109*$C109)^2)","v":-0.85144850753717771},-0.90435476951053972,{"$f":"($I109-$I108)/DT","v":1.1001498998640518},{"$f":"IF(Q109<>0,mazalazo*(($D109*$J109-$C109*$K109)-2*$I109*($C109*$G109+$D109*$H109))/(INERTIA+mazalazo*($C109^2+$D109^2)),0)","v":1.0819768442002535},-3.0172579761055611,{"$f":"IF(Q109<>0,G109*COS(O109)+H109*SIN(O109)+F109*$I109,0)","v":-3.0416434561846524},-40.446015350821355,{"$f":"R108+mazalazo*($I109^2*($E109*$P109+$F109*$U109))*DT","v":110.53598064305449},{"$f":"IF(Q109<>0,$J109*COS($O109)+$K109*SIN($Z109)+2*$U109*$I109+$E109*$I109^2+$F109*$N109,0)","v":3.0672108456267284},{"$f":"IF(Q109<>0,-$J109*SIN($O109)+$K109*COS($O109)-2*$P109*$I109+$F109*$I109^2-$E109*$N109,0)","v":0.77325041418010265},{"$f":"IF(Q109<>0,-$G109*SIN(O109)+$H109*COS(O109)-$E109*$I109,0)","v":-0.50159093219455331},{"$f":"$G109*COS($O109)+$H109*SIN($O109)+$F109*$I109","v":-3.0416434561846524},{"$f":"-$G109*SIN($O109)+$H109*COS($O109)-$E109*$I109","v":-0.50159093219455331},null,4.202197297866574,4.1662978951608318,-1.1947148334136219,-1.1395872577531017,0.64012018016758032,0.66235660296219867,0.65370468222137301,-3.4661765658637562,4.2132325936510036,4.2198929921885853,-1.2223591646974421,-3.0172579761055611,-0.18709211923042357,false,null,1.3006193585861743,null,null,null,-5.8154237498885113,-56.071289744926148,69,1.3006193585861743,-40.446015350821355,14.254782566716079,{"$f":"1/2*(INERTIA+mazalazo*($C109^2+$D109^2))*$I109^2","v":31.448657748914915},-56.071289744926148,-5.8154237498885113,-40.446015350821355,45.703440315630992,14.018675547306984,59.722115862937976,null,1.3006193585861743,2.9559585888318196,{"$f":"$H109-($I109*$C109)","v":0.87492696776480461},3.0827241812738806,-10.135561130491174,-0.85144850753717771,{"$f":"BL108+mazalazo*($I109*(BM109^2+BN109^2)+BM109*BR109-BN109*BQ109)*$BS109*DT","v":-29.179607912474708},4.2198929921885853,-1.2223591646974421,-4.0357267400403991,1.7362512700542665,1.8505122481827685,-2.9413533865450447,0.62345709132980898,1.1001498998640518,1.0819768442002535]
[0,70,4.2542623276488589,-1.2779503442863611,-4.0923021935460397,1.7277059331993367,1.7961376464272809,-2.9568793513928147,-0.88429529395811479,{"$f":"IF(($G110+$I110*$D110)^2+($H110-$I110*$D110)^2<>0,-mew*($G110+$I110*$D110)/SQRT(($G110+$I110*$D110)^2+($H110-$I110*$C110)^2),0)","v":-2.8925066108067332},{"$f":"-mew*($H110-$C110*$I110)/SQRT(($G110+$D110*$I110)^2+($H110-$I110*$C110)^2)","v":-0.79586776944373683},-0.88429529395811457,{"$f":"($I110-$I109)/DT","v":1.0641882299998127},{"$f":"IF(Q110<>0,mazalazo*(($D110*$J110-$C110*$K110)-2*$I110*($C110*$G110+$D110*$H110))/(INERTIA+mazalazo*($C110^2+$D110^2)),0)","v":1.0465889067725476},-3.0339265497001779,{"$f":"IF(Q110<>0,G110*COS(O110)+H110*SIN(O110)+F110*$I110,0)","v":-2.9957985471144344},-40.96088579796573,{"$f":"R109+mazalazo*($I110^2*($E110*$P110+$F110*$U110))*DT","v":111.04097039619205},{"$f":"IF(Q110<>0,$J110*COS($O110)+$K110*SIN($Z110)+2*$U110*$I110+$E110*$I110^2+$F110*$N110,0)","v":3.03797814992007},{"$f":"IF(Q110<>0,-$J110*SIN($O110)+$K110*COS($O110)-2*$P110*$I110+$F110*$I110^2-$E110*$N110,0)","v":0.81608106848849982},{"$f":"IF(Q110<>0,-$G110*SIN(O110)+$H110*COS(O110)-$E110*$I110,0)","v":-0.48603598566701578},{"$f":"$G110*COS($O110)+$H110*SIN($O110)+$F110*$I110","v":-2.9957985471144344},{"$f":"-$G110*SIN($O110)+$H110*COS($O110)-$E110*$I110","v":-0.48603598566701578},null,4.2370776599187217,4.202197297866574,-1.2501547544919016,-1.1947148334136219,0.61825159520674189,0.64012018016758032,0.68094703424384073,-3.4487381865789457,4.1808880271633466,4.2542623276488589,-1.2779503442863611,-3.0339265497001779,-2.8468344304697544,false,null,1.3194689145077132,null,null,null,-5.9761381762444286,-56.495329446445076,70,1.3194689145077132,-40.96088579796573,13.816559871384396,{"$f":"1/2*(INERTIA+mazalazo*($C110^2+$D110^2))*$I110^2","v":30.573670979164181},-56.495329446445076,-5.9761381762444286,-40.96088579796573,44.390230850548576,13.584755151781252,57.974986002329828,null,1.3194689145077132,2.9262231217918622,{"$f":"$H110-($I110*$C110)","v":0.8051448042103666},3.0349695079615318,-10.903218054030829,-0.79586776944373683,{"$f":"BL109+mazalazo*($I110*(BM110^2+BN110^2)+BM110*BR110-BN110*BQ110)*$BS110*DT","v":-30.221666741192617},4.2542623276488589,-1.2779503442863611,-4.0923021935460397,1.7277059331993367,1.7961376464272809,-2.9568793513928147,0.66447125058373435,1.0641882299998127,1.0465889067725476]
[0,71,4.2876039712000278,-1.3338242936911022,-4.1480284891559087,1.7194460484242491,1.7414741818726347,-2.9713554973391947,-0.86489227090211773,{"$f":"IF(($G111+$I111*$D111)^2+($H111-$I111*$D111)^2<>0,-mew*($G111+$I111*$D111)/SQRT(($G111+$I111*$D111)^2+($H111-$I111*$C111)^2),0)","v":-2.9072846993392947},{"$f":"-mew*($H111-$C111*$I111)/SQRT(($G111+$D111*$I111)^2+($H111-$I111*$C111)^2)","v":-0.74006464378973547},-0.86489227090211762,{"$f":"($I111-$I110)/DT","v":1.0293623434293151},{"$f":"IF(Q111<>0,mazalazo*(($D111*$J111-$C111*$K111)-2*$I111*($C111*$G111+$D111*$H111))/(INERTIA+mazalazo*($C111^2+$D111^2)),0)","v":1.012319259712265},-3.050229384926654,{"$f":"IF(Q111<>0,G111*COS(O111)+H111*SIN(O111)+F111*$I111,0)","v":-2.9502513431785466},-41.467688789123549,{"$f":"R110+mazalazo*($I111^2*($E111*$P111+$F111*$U111))*DT","v":111.52446687473476},{"$f":"IF(Q111<>0,$J111*COS($O111)+$K111*SIN($Z111)+2*$U111*$I111+$E111*$I111^2+$F111*$N111,0)","v":3.0034960436165559},{"$f":"IF(Q111<>0,-$J111*SIN($O111)+$K111*COS($O111)-2*$P111*$I111+$F111*$I111^2-$E111*$N111,0)","v":0.85377043022625454},{"$f":"IF(Q111<>0,-$G111*SIN(O111)+$H111*COS(O111)-$E111*$I111,0)","v":-0.46974946200391221},{"$f":"$G111*COS($O111)+$H111*SIN($O111)+$F111*$I111","v":-2.9502513431785466},{"$f":"-$G111*SIN($O111)+$H111*COS($O111)-$E111*$I111","v":-0.46974946200391221},null,4.2709331494244438,4.2370776599187217,-1.3058873189887317,-1.2501547544919016,0.59672967288651524,0.61825159520674189,0.70880827277259795,-3.4315129314141064,4.1481331179577454,4.2876039712000278,-1.3338242936911022,-3.050229384926654,-0.20339495445689959,false,null,1.3383184704292519,null,null,null,-6.138091643470343,-56.897267751174134,71,1.3383184704292519,-41.467688789123549,13.386971317469676,{"$f":"1/2*(INERTIA+mazalazo*($C111^2+$D111^2))*$I111^2","v":29.730012254555113},-56.897267751174134,-6.138091643470343,-41.467688789123549,43.116983572024793,13.159510334437073,56.276493906461866,null,1.3383184704292519,2.8950885042275454,{"$f":"$H111-($I111*$C111)","v":0.73696003804093557},2.9874148598712873,-11.78525980292055,-0.74006464378973547,{"$f":"BL110+mazalazo*($I111*(BM111^2+BN111^2)+BM111*BR111-BN111*BQ111)*$BS111*DT","v":-31.344841719125451},4.2876039712000278,-1.3338242936911022,-4.1480284891559087,1.7194460484242491,1.7414741818726347,-2.9713554973391947,0.71303564593624946,1.0293623434293151,1.012319259712265]
[0,72,4.3199126722136416,-1.3899611867006101,-4.2029107093663933,1.7114844916561336,1.6865424829576021,-2.984777937803746,-0.846124948358428,{"$f":"IF(($G112+$I112*$D112)^2+($H112-$I112*$D112)^2<>0,-mew*($G112+$I112*$D112)/SQRT(($G112+$I112*$D112)^2+($H112-$I112*$C112)^2),0)","v":-2.9209666340347025},{"$f":"-mew*($H112-$C112*$I112)/SQRT(($G112+$D112*$I112)^2+($H112-$I112*$C112)^2)","v":-0.68407157728996582},-0.846124948358428,{"$f":"($I112-$I111)/DT","v":0.9956373838093947},{"$f":"IF(Q112<>0,mazalazo*(($D112*$J112-$C112*$K112)-2*$I112*($C112*$G112+$D112*$H112))/(INERTIA+mazalazo*($C112^2+$D112^2)),0)","v":0.97913325000850226},-3.0661784644573453,{"$f":"IF(Q112<>0,G112*COS(O112)+H112*SIN(O112)+F112*$I112,0)","v":-2.9049972410129135},-41.966461284052329,{"$f":"R111+mazalazo*($I112^2*($E112*$P112+$F112*$U112))*DT","v":111.98738730127397},{"$f":"IF(Q112<>0,$J112*COS($O112)+$K112*SIN($Z112)+2*$U112*$I112+$E112*$I112^2+$F112*$N112,0)","v":2.9642391206079268},{"$f":"IF(Q112<>0,-$J112*SIN($O112)+$K112*COS($O112)-2*$P112*$I112+$F112*$I112^2-$E112*$N112,0)","v":0.88658068319603744},{"$f":"IF(Q112<>0,-$G112*SIN(O112)+$H112*COS(O112)-$E112*$I112,0)","v":-0.4528246033712886},{"$f":"$G112*COS($O112)+$H112*SIN($O112)+$F112*$I112","v":-2.9049972410129135},{"$f":"-$G112*SIN($O112)+$H112*COS($O112)-$E112*$I112","v":-0.4528246033712886},null,4.3037583217068347,4.2709331494244438,-1.3618927401958563,-1.3058873189887317,0.57553418583642901,0.59672967288651524,0.73728328166609691,-3.4145210486716477,4.1149747986913683,{"$f":"IF(Q112<>0,C112,(E112*COS(AJ112)-F112*SIN(AJ112)+C112)/2)","v":4.3199126722136416},{"$f":"IF(Q112<>0,D112,(E112*SIN(AJ112)+F112*COS(AJ112)+D112)/2)","v":-1.3899611867006101},-3.0661784644573453,-2.8627835100004457,false,null,1.3571680263507906,null,null,null,-6.3012081173046353,-57.277929597017575,72,1.3571680263507906,-41.966461284052329,12.966088637566505,{"$f":"1/2*(INERTIA+mazalazo*($C112^2+$D112^2))*$I112^2","v":28.916635571468795},-57.277929597017575,-6.3012081173046353,-41.966461284052329,41.882724209035302,12.742996420204065,54.625720629239368,null,1.3571680263507906,2.8626233202748752,{"$f":"$H112-($I112*$C112)","v":0.67040794888594002},2.9400780757848941,-12.809916671029397,-0.68407157728996582,{"$f":"BL111+mazalazo*($I112*(BM112^2+BN112^2)+BM112*BR112-BN112*BQ112)*$BS112*DT","v":-32.564488074661753},4.3199126722136416,-1.3899611867006101,-4.2029107093663933,1.7114844916561336,1.6865424829576021,-2.984777937803746,0.77098967081937575,0.9956373838093947,0.97913325000850226]
[0,73,4.3511835694948218,-1.4463411296247428,-4.2569538526287882,1.7038324492962318,1.631363237587951,-2.9971434004606934,-0.82797322305580723,{"$f":"IF(($G113+$I113*$D113)^2+($H113-$I113*$D113)^2<>0,-mew*($G113+$I113*$D113)/SQRT(($G113+$I113*$D113)^2+($H113-$I113*$C113)^2),0)","v":-2.9335498731518137},{"$f":"-mew*($H113-$C113*$I113)/SQRT(($G113+$D113*$I113)^2+($H113-$I113*$C113)^2)","v":-0.62792128625408061},-0.82797322305580723,{"$f":"($I113-$I112)/DT","v":0.96297893585277505},{"$f":"IF(Q113<>0,mazalazo*(($D113*$J113-$C113*$K113)-2*$I113*($C113*$G113+$D113*$H113))/(INERTIA+mazalazo*($C113^2+$D113^2)),0)","v":0.94699671573887845},-3.0817853920268723,{"$f":"IF(Q113<>0,G113*COS(O113)+H113*SIN(O113)+F113*$I113,0)","v":-2.8600300355013273},-42.457242840719331,{"$f":"R112+mazalazo*($I113^2*($E113*$P113+$F113*$U113))*DT","v":112.43061282647524},{"$f":"IF(Q113<>0,$J113*COS($O113)+$K113*SIN($Z113)+2*$U113*$I113+$E113*$I113^2+$F113*$N113,0)","v":2.9206558758745356},{"$f":"IF(Q113<>0,-$J113*SIN($O113)+$K113*COS($O113)-2*$P113*$I113+$F113*$I113^2-$E113*$N113,0)","v":0.91476506167905747},{"$f":"IF(Q113<>0,-$G113*SIN(O113)+$H113*COS(O113)-$E113*$I113,0)","v":-0.43534984430398538},{"$f":"$G113*COS($O113)+$H113*SIN($O113)+$F113*$I113","v":-2.8600300355013273},{"$f":"-$G113*SIN($O113)+$H113*COS($O113)-$E113*$I113","v":-0.43534984430398538},null,4.3355481208542317,4.3037583217068347,-1.4181511581626765,-1.3618927401958563,0.5546457775464515,0.57553418583642901,0.76636596479723851,-3.3977829703138278,4.0814205512066799,4.3511835694948218,-1.4463411296247428,-3.0817853920268723,-0.21900188202642656,false,null,1.3760175822723295,null,null,null,-6.4654093479329529,-57.638131120945459,73,1.3760175822723295,-42.457242840719331,12.553951936357841,{"$f":"1/2*(INERTIA+mazalazo*($C113^2+$D113^2))*$I113^2","v":28.13252637668209},-57.638131120945459,-6.4654093479329529,-42.457242840719331,40.686478313039927,12.335238864810449,53.021717177850377,null,1.3760175822723295,2.8288949643215267,{"$f":"$H113-($I113*$C113)","v":0.60552008368140608},2.8929744711810415,-14.015529990958717,-0.62792128625408061,{"$f":"BL112+mazalazo*($I113*(BM113^2+BN113^2)+BM113*BR113-BN113*BQ113)*$BS113*DT","v":-33.900081563852368},4.3511835694948218,-1.4463411296247428,-4.2569538526287882,1.7038324492962318,1.631363237587951,-2.9971434004606934,0.84082934771652384,0.96297893585277505,0.94699671573887845]
[0,74,4.3814121921847482,-1.5029441729165047,-4.3101628059048682,1.696499505252834,1.5759571698946762,-3.0084492316681009,-0.81041763034885328,{"$f":"IF(($G114+$I114*$D114)^2+($H114-$I114*$D114)^2<>0,-mew*($G114+$I114*$D114)/SQRT(($G114+$I114*$D114)^2+($H114-$I114*$C114)^2),0)","v":-2.9450331178527049},{"$f":"-mew*($H114-$C114*$I114)/SQRT(($G114+$D114*$I114)^2+($H114-$I114*$C114)^2)","v":-0.57164668699361199},-0.81041763034885339,{"$f":"($I114-$I113)/DT","v":0.93135311940658283},{"$f":"IF(Q114<>0,mazalazo*(($D114*$J114-$C114*$K114)-2*$I114*($C114*$G114+$D114*$H114))/(INERTIA+mazalazo*($C114^2+$D114^2)),0)","v":0.91587607135462212},-3.0970614044699341,{"$f":"IF(Q114<>0,G114*COS(O114)+H114*SIN(O114)+F114*$I114,0)","v":-2.8153422213819264},-42.940075217722416,{"$f":"R113+mazalazo*($I114^2*($E114*$P114+$F114*$U114))*DT","v":112.85498942915045},{"$f":"IF(Q114<>0,$J114*COS($O114)+$K114*SIN($Z114)+2*$U114*$I114+$E114*$I114^2+$F114*$N114,0)","v":2.8731686515768788},{"$f":"IF(Q114<>0,-$J114*SIN($O114)+$K114*COS($O114)-2*$P114*$I114+$F114*$I114^2-$E114*$N114,0)","v":0.93856776169288292},{"$f":"IF(Q114<>0,-$G114*SIN(O114)+$H114*COS(O114)-$E114*$I114,0)","v":-0.4174089797923175},{"$f":"$G114*COS($O114)+$H114*SIN($O114)+$F114*$I114","v":-2.8153422213819264},{"$f":"-$G114*SIN($O114)+$H114*COS($O114)-$E114*$I114","v":-0.4174089797923175},null,4.3662978808397845,4.3355481208542317,-1.4746426512706239,-1.4181511581626765,0.53404589103296407,0.5546457775464515,0.79604920027797277,-3.3813192890905208,4.0474784396030108,4.3814121921847482,-1.5029441729165047,-3.0970614044699341,-2.8780595224435075,false,null,1.3948671381938682,null,null,null,-6.6306149248485857,-57.978677658417404,74,1.3948671381938682,-42.940075217722416,12.150573119860473,{"$f":"1/2*(INERTIA+mazalazo*($C114^2+$D114^2))*$I114^2","v":27.376701157152649},-57.978677658417404,-6.6306149248485857,-42.940075217722416,39.52727427701312,11.93623655301063,51.46351083002375,null,1.3948671381938682,2.7939696250562873,{"$f":"$H114-($I114*$C114)","v":0.5423244547038375},2.8461170179574462,-15.455524460438001,-0.57164668699361199,{"$f":"BL113+mazalazo*($I114*(BM114^2+BN114^2)+BM114*BR114-BN114*BQ114)*$BS114*DT","v":-35.376832769431054},4.3814121921847482,-1.5029441729165047,-4.3101628059048682,1.696499505252834,1.5759571698946762,-3.0084492316681009,0.92603040686156224,0.93135311940658283,0.91587607135462212]
[0,75,4.4105944602216729,-1.5597503228652829,-4.3625423225005981,1.6894937249387916,1.5203450166489496,-3.0186933995665242,-0.79343933267548605,{"$f":"IF(($G115+$I115*$D115)^2+($H115-$I115*$D115)^2<>0,-mew*($G115+$I115*$D115)/SQRT(($G115+$I115*$D115)^2+($H115-$I115*$C115)^2),0)","v":-2.9554163280490715},{"$f":"-mew*($H115-$C115*$I115)/SQRT(($G115+$D115*$I115)^2+($H115-$I115*$C115)^2)","v":-0.51528082430936895},-0.79343933267548605,{"$f":"($I115-$I114)/DT","v":0.90072666666734003},{"$f":"IF(Q115<>0,mazalazo*(($D115*$J115-$C115*$K115)-2*$I115*($C115*$G115+$D115*$H115))/(INERTIA+mazalazo*($C115^2+$D115^2)),0)","v":0.88573837716810011},-3.112017383541549,{"$f":"IF(Q115<>0,G115*COS(O115)+H115*SIN(O115)+F115*$I115,0)","v":-2.7709252607197183},-43.415002005464558,{"$f":"R114+mazalazo*($I115^2*($E115*$P115+$F115*$U115))*DT","v":113.26132885713696},{"$f":"IF(Q115<>0,$J115*COS($O115)+$K115*SIN($Z115)+2*$U115*$I115+$E115*$I115^2+$F115*$N115,0)","v":2.8221737071491355},{"$f":"IF(Q115<>0,-$J115*SIN($O115)+$K115*COS($O115)-2*$P115*$I115+$F115*$I115^2-$E115*$N115,0)","v":0.95822394069721861},{"$f":"IF(Q115<>0,-$G115*SIN(O115)+$H115*COS(O115)-$E115*$I115,0)","v":-0.39908133410648361},{"$f":"$G115*COS($O115)+$H115*SIN($O115)+$F115*$I115","v":-2.7709252607197183},{"$f":"-$G115*SIN($O115)+$H115*COS($O115)-$E115*$I115","v":-0.39908133410648361},null,4.3960033262032105,4.3662978808397845,-1.5313472478908938,-1.4746426512706239,0.5137167025619267,0.53404589103296407,0.82632479420971561,-3.3651507325526913,4.0131571436286952,4.4105944602216729,-1.5597503228652829,-3.112017383541549,-0.23395786109804151,false,null,1.4137166941154069,null,null,null,-6.7967423378915583,-58.30036200452826,75,1.4137166941154069,-43.415002005464558,11.755939067590276,{"$f":"1/2*(INERTIA+mazalazo*($C115^2+$D115^2))*$I115^2","v":26.648206959610711},-58.30036200452826,-6.7967423378915583,-43.415002005464558,38.404146027200987,11.545964847144148,49.950110874345135,null,1.4137166941154069,2.7579122719635536,{"$f":"$H115-($I115*$C115)","v":0.48084572565395556},2.7995165139228684,-17.206634840391452,-0.51528082430936895,{"$f":"BL114+mazalazo*($I115*(BM115^2+BN115^2)+BM115*BR115-BN115*BQ115)*$BS115*DT","v":-37.02818227194787},4.4105944602216729,-1.5597503228652829,-4.3625423225005981,1.6894937249387916,1.5203450166489496,-3.0186933995665242,1.0315828121617183,0.90072666666734003,0.88573837716810011]
[0,76,4.4387266843548394,-1.6167395533356934,-4.4140970045761199,1.682821736226368,1.4645475034240334,-3.0278744958148267,-0.77702010683804923,{"$f":"IF(($G116+$I116*$D116)^2+($H116-$I116*$D116)^2<>0,-mew*($G116+$I116*$D116)/SQRT(($G116+$I116*$D116)^2+($H116-$I116*$C116)^2),0)","v":-2.9647007333785016},{"$f":"-mew*($H116-$C116*$I116)/SQRT(($G116+$D116*$I116)^2+($H116-$I116*$C116)^2)","v":-0.45885679847309063},-0.77702010683804923,{"$f":"($I116-$I115)/DT","v":0.87106698459007847},{"$f":"IF(Q116<>0,mazalazo*(($D116*$J116-$C116*$K116)-2*$I116*($C116*$G116+$D116*$H116))/(INERTIA+mazalazo*($C116^2+$D116^2)),0)","v":0.85655139499039046},-3.1266638674975527,{"$f":"IF(Q116<>0,G116*COS(O116)+H116*SIN(O116)+F116*$I116,0)","v":-2.7267698192169991},-43.882068284452444,{"$f":"R115+mazalazo*($I116^2*($E116*$P116+$F116*$U116))*DT","v":113.65040959824157},{"$f":"IF(Q116<>0,$J116*COS($O116)+$K116*SIN($Z116)+2*$U116*$I116+$E116*$I116^2+$F116*$N116,0)","v":2.7680414140978797},{"$f":"IF(Q116<>0,-$J116*SIN($O116)+$K116*COS($O116)-2*$P116*$I116+$F116*$I116^2-$E116*$N116,0)","v":0.9739597884884672},{"$f":"IF(Q116<>0,-$G116*SIN(O116)+$H116*COS(O116)-$E116*$I116,0)","v":-0.38044192888561978},{"$f":"$G116*COS($O116)+$H116*SIN($O116)+$F116*$I116","v":-2.7267698192169991},{"$f":"-$G116*SIN($O116)+$H116*COS($O116)-$E116*$I116","v":-0.38044192888561978},null,4.4246605722882562,4.3960033262032105,-1.5882449381004882,-1.5313472478908938,0.49364105991522578,0.5137167025619267,0.85718343428098953,-3.3492981337297314,3.9784659921616292,4.4387266843548394,-1.6167395533356934,-3.1266638674975527,-2.8927060063995111,false,null,1.4325662500369456,null,null,null,-6.9637070442653055,-58.603962913200441,76,1.4325662500369456,-43.882068284452444,11.370014562370375,{"$f":"1/2*(INERTIA+mazalazo*($C116^2+$D116^2))*$I116^2","v":25.94612085299298},-58.603962913200441,-6.9637070442653055,-43.882068284452444,37.316135415363355,11.164378400588674,48.48051381595203,null,1.4325662500369456,2.7207866438862336,{"$f":"$H116-($I116*$C116)","v":0.42110538668747077},2.7531817426837115,-19.383176253968248,-0.45885679847309063,{"$f":"BL115+mazalazo*($I116*(BM116^2+BN116^2)+BM116*BR116-BN116*BQ116)*$BS116*DT","v":-38.899823804041951},4.4387266843548394,-1.6167395533356934,-4.4140970045761199,1.682821736226368,1.4645475034240334,-3.0278744958148267,1.1649179606251492,0.87106698459007847,0.85655139499039046]
[0,77,4.4658055657074067,-1.6738918175261042,-4.4648312897827802,1.6764888073771127,1.4085853205972627,-3.0359917359388335,-0.76114233035235501,{"$f":"IF(($G117+$I117*$D117)^2+($H117-$I117*$D117)^2<>0,-mew*($G117+$I117*$D117)/SQRT(($G117+$I117*$D117)^2+($H117-$I117*$C117)^2),0)","v":-2.9728888391787769},{"$f":"-mew*($H117-$C117*$I117)/SQRT(($G117+$D117*$I117)^2+($H117-$I117*$C117)^2)","v":-0.40240769113706915},-0.76114233035235512,{"$f":"($I117-$I116)/DT","v":0.842342204335499},{"$f":"IF(Q117<>0,mazalazo*(($D117*$J117-$C117*$K117)-2*$I117*($C117*$G117+$D117*$H117))/(INERTIA+mazalazo*($C117^2+$D117^2)),0)","v":0.8282836316627965},-3.1410110624177796,{"$f":"IF(Q117<>0,G117*COS(O117)+H117*SIN(O117)+F117*$I117,0)","v":-2.6828659741357495},-44.341320309189641,{"$f":"R116+mazalazo*($I117^2*($E117*$P117+$F117*$U117))*DT","v":114.02297787194411},{"$f":"IF(Q117<>0,$J117*COS($O117)+$K117*SIN($Z117)+2*$U117*$I117+$E117*$I117^2+$F117*$N117,0)","v":2.7111165739836176},{"$f":"IF(Q117<>0,-$J117*SIN($O117)+$K117*COS($O117)-2*$P117*$I117+$F117*$I117^2-$E117*$N117,0)","v":0.98599265456154184},{"$f":"IF(Q117<>0,-$G117*SIN(O117)+$H117*COS(O117)-$E117*$I117,0)","v":-0.36156164931473311},{"$f":"$G117*COS($O117)+$H117*SIN($O117)+$F117*$I117","v":-2.6828659741357495},{"$f":"-$G117*SIN($O117)+$H117*COS($O117)-$E117*$I117","v":-0.36156164931473311},null,4.4522661250311231,4.4246605722882562,-1.6453156854308988,-1.5882449381004882,0.47380242473596901,0.49364105991522578,0.88861464360933229,-3.3337823982424712,3.9434149964828351,4.4658055657074067,-1.6738918175261042,-3.1410110624177796,-0.24830505601826847,false,null,1.4514158059584845,null,null,null,-7.1314225412911592,-58.890243812499712,77,1.4514158059584845,-44.341320309189641,10.99274499214583,{"$f":"1/2*(INERTIA+mazalazo*($C117^2+$D117^2))*$I117^2","v":25.269549345086631},-58.890243812499712,-7.1314225412911592,-44.341320309189641,36.262294337232461,10.791413750254748,47.053708087487209,null,1.4514158059584845,2.682655239346821,{"$f":"$H117-($I117*$C117)","v":0.36312191924421899},2.7071196245143203,-22.163260578681214,-0.40240769113706903,{"$f":"BL116+mazalazo*($I117*(BM117^2+BN117^2)+BM117*BR117-BN117*BQ117)*$BS117*DT","v":-41.056534500731786},4.4658055657074067,-1.6738918175261042,-4.4648312897827802,1.6764888073771127,1.4085853205972627,-3.0359917359388335,1.3376120613379341,0.842342204335499,0.8282836316627965]
[0,78,4.4918281948862644,-1.7311870597205241,-4.514749441527024,1.6704989219842119,1.3524790992873001,-3.0430449582768269,-0.74578896707789599,{"$f":"IF(($G118+$I118*$D118)^2+($H118-$I118*$D118)^2<>0,-mew*($G118+$I118*$D118)/SQRT(($G118+$I118*$D118)^2+($H118-$I118*$C118)^2),0)","v":-2.979984427369978},{"$f":"-mew*($H118-$C118*$I118)/SQRT(($G118+$D118*$I118)^2+($H118-$I118*$C118)^2)","v":-0.34596649062073032},-0.74578896707789599,{"$f":"($I118-$I117)/DT","v":0.81452121940524036},{"$f":"IF(Q118<>0,mazalazo*(($D118*$J118-$C118*$K118)-2*$I118*($C118*$G118+$D118*$H118))/(INERTIA+mazalazo*($C118^2+$D118^2)),0)","v":0.80090437204123588},-3.1550688532583808,{"$f":"IF(Q118<>0,G118*COS(O118)+H118*SIN(O118)+F118*$I118,0)","v":-2.6392033964128681},-44.792805216228487,{"$f":"R117+mazalazo*($I118^2*($E118*$P118+$F118*$U118))*DT","v":114.37974863382983},{"$f":"IF(Q118<>0,$J118*COS($O118)+$K118*SIN($Z118)+2*$U118*$I118+$E118*$I118^2+$F118*$N118,0)","v":2.6517188560627529},{"$f":"IF(Q118<>0,-$J118*SIN($O118)+$K118*COS($O118)-2*$P118*$I118+$F118*$I118^2-$E118*$N118,0)","v":0.99453121945016942},{"$f":"IF(Q118<>0,-$G118*SIN(O118)+$H118*COS(O118)-$E118*$I118,0)","v":-0.34250740746478003},{"$f":"$G118*COS($O118)+$H118*SIN($O118)+$F118*$I118","v":-2.6392033964128681},{"$f":"-$G118*SIN($O118)+$H118*COS($O118)-$E118*$I118","v":-0.34250740746478003},null,4.4788168802968356,4.4522661250311231,-1.7025394386233141,-1.6453156854308988,0.45418481853266424,0.47380242473596901,0.92060673516086444,-3.3186244676929801,3.9080148831413344,4.4918281948862644,-1.7311870597205241,-3.1550688532583808,null,false,null,1.4702653618800232,null,null,null,-7.2998004446237461,-59.159951715831419,78,1.4702653618800232,-44.792805216228487,10.624058837708194,{"$f":"1/2*(INERTIA+mazalazo*($C118^2+$D118^2))*$I118^2","v":24.617627763262295},-59.159951715831419,-7.2998004446237461,-44.792805216228487,35.241686600970489,10.426991701769921,45.66867830274041,null,1.4702653618800232,2.64357930837489,{"$f":"$H118-($I118*$C118)","v":0.30691095147877023},2.6613353587636164,-25.840517866542335,-0.34596649062073032,{"$f":"BL117+mazalazo*($I118*(BM118^2+BN118^2)+BM118*BR118-BN118*BQ118)*$BS118*DT","v":-43.594543164336493},4.4918281948862644,-1.7311870597205241,-4.514749441527024,1.6704989219842119,1.3524790992873001,-3.0430449582768269,1.5687466663666061,0.81452121940524036,0.80090437204123588]
[0,79,4.5167920506384185,-1.7886052270073254,-4.5638555424066345,1.6648548509802836,1.296249387323158,-3.049034621514457,-0.73094355231466823,{"$f":"IF(($G119+$I119*$D119)^2+($H119-$I119*$D119)^2<>0,-mew*($G119+$I119*$D119)/SQRT(($G119+$I119*$D119)^2+($H119-$I119*$C119)^2),0)","v":-2.985992552197569},{"$f":"-mew*($H119-$C119*$I119)/SQRT(($G119+$D119*$I119)^2+($H119-$I119*$C119)^2)","v":-0.28956601703350149},-0.73094355231466812,{"$f":"($I119-$I118)/DT","v":0.7875737139390323},{"$f":"IF(Q119<>0,mazalazo*(($D119*$J119-$C119*$K119)-2*$I119*($C119*$G119+$D119*$H119))/(INERTIA+mazalazo*($C119^2+$D119^2)),0)","v":0.77438370282482027},-3.1688468146232243,{"$f":"IF(Q119<>0,G119*COS(O119)+H119*SIN(O119)+F119*$I119,0)","v":-2.59577150936253},-45.236570755032375,{"$f":"R118+mazalazo*($I119^2*($E119*$P119+$F119*$U119))*DT","v":114.72140658584777},{"$f":"IF(Q119<>0,$J119*COS($O119)+$K119*SIN($Z119)+2*$U119*$I119+$E119*$I119^2+$F119*$N119,0)","v":2.5901433493175325},{"$f":"IF(Q119<>0,-$J119*SIN($O119)+$K119*COS($O119)-2*$P119*$I119+$F119*$I119^2-$E119*$N119,0)","v":0.99977569951394019},{"$f":"IF(Q119<>0,-$G119*SIN(O119)+$H119*COS(O119)-$E119*$I119,0)","v":-0.32334230208431025},{"$f":"$G119*COS($O119)+$H119*SIN($O119)+$F119*$I119","v":-2.59577150936253},{"$f":"-$G119*SIN($O119)+$H119*COS($O119)-$E119*$I119","v":-0.32334230208431025},null,4.504310122762341,4.4788168802968356,-1.7598961433639246,-1.7025394386233141,0.4347727719601483,0.45418481853266424,0.95314676726041636,-3.3038452791187982,3.8722771260284543,4.5167920506384185,-1.7886052270073254,-3.1688468146232243,null,false,null,1.4891149178015619,null,null,null,-7.4687505716152156,-59.413816310372958,79,1.4891149178015619,-45.236570755032375,10.263869959703113,{"$f":"1/2*(INERTIA+mazalazo*($C119^2+$D119^2))*$I119^2","v":23.989519607848131},-59.413816310372958,-7.4687505716152156,-45.236570755032375,34.253389567551245,10.071019520442434,44.324409087993679,null,1.4891149178015619,2.6036188456404759,{"$f":"$H119-($I119*$C119)","v":0.2524854050458436},2.6158325583139699,-30.935873443865859,-0.28956601703350149,{"$f":"BL118+mazalazo*($I119*(BM119^2+BN119^2)+BM119*BR119-BN119*BQ119)*$BS119*DT","v":-46.66586692976518},4.5167920506384185,-1.7886052270073254,-4.5638555424066345,1.6648548509802836,1.296249387323158,-3.049034621514457,1.8921712325117861,0.7875737139390323,0.77438370282482027]
[0,80,4.5406949980554669,-1.8461262809382091,-4.6121534904070645,1.6595582217754843,1.2399166253419496,-3.05396180081036,-0.71659017752728016,{"$f":"IF(($G120+$I120*$D120)^2+($H120-$I120*$D120)^2<>0,-mew*($G120+$I120*$D120)/SQRT(($G120+$I120*$D120)^2+($H120-$I120*$C120)^2),0)","v":-2.9909195308339886},{"$f":"-mew*($H120-$C120*$I120)/SQRT(($G120+$D120*$I120)^2+($H120-$I120*$C120)^2)","v":-0.23323884769864126},-0.71659017752728016,{"$f":"($I120-$I119)/DT","v":0.76147018248779808},{"$f":"IF(Q120<>0,mazalazo*(($D120*$J120-$C120*$K120)-2*$I120*($C120*$G120+$D120*$H120))/(INERTIA+mazalazo*($C120^2+$D120^2)),0)","v":0.74869252846840528},-3.1823542212473499,{"$f":"IF(Q120<>0,G120*COS(O120)+H120*SIN(O120)+F120*$I120,0)","v":-2.5525596261811678},-45.672665040381489,{"$f":"R119+mazalazo*($I120^2*($E120*$P120+$F120*$U120))*DT","v":115.04860718648931},{"$f":"IF(Q120<>0,$J120*COS($O120)+$K120*SIN($Z120)+2*$U120*$I120+$E120*$I120^2+$F120*$N120,0)","v":2.5266612221144644},{"$f":"IF(Q120<>0,-$J120*SIN($O120)+$K120*COS($O120)-2*$P120*$I120+$F120*$I120^2-$E120*$N120,0)","v":1.0019180763496536},{"$f":"IF(Q120<>0,-$G120*SIN(O120)+$H120*COS(O120)-$E120*$I120,0)","v":-0.30412577431014398},{"$f":"$G120*COS($O120)+$H120*SIN($O120)+$F120*$I120","v":-2.5525596261811678},{"$f":"-$G120*SIN($O120)+$H120*COS($O120)-$E120*$I120","v":-0.30412577431014398},null,4.5287435243469432,4.504310122762341,-1.8173657539727672,-1.7598961433639246,0.41555127702927397,0.4347727719601483,0.98622050056159105,-3.2894657204123754,3.8362139774612145,4.5406949980554669,-1.8461262809382091,-3.1823542212473499,null,false,null,1.5079644737231006,null,null,null,-7.6381810294833645,-59.652549205609759,80,1.5079644737231006,-45.672665040381489,9.9120796977148302,{"$f":"1/2*(INERTIA+mazalazo*($C120^2+$D120^2))*$I120^2","v":23.384415885517335},-59.652549205609759,-7.6381810294833645,-45.672665040381489,33.296495583232165,9.7233929404980586,43.019888523730224,null,1.5079644737231006,2.5628325847372384,{"$f":"$H120-($I120*$C120)","v":0.1998556339434403},2.5706133765718038,-38.470257768102655,-0.23323884769864126,{"$f":"BL119+mazalazo*($I120*(BM120^2+BN120^2)+BM120*BR120-BN120*BQ120)*$BS120*DT","v":-50.531848000716806},4.5406949980554669,-1.8461262809382091,-4.6121534904070645,1.6595582217754843,1.2399166253419496,-3.05396180081036,2.3742220567862073,0.76147018248779808,0.74869252846840528]
[0,81,4.5635352863295013,-1.9037302091009298,-4.6596469974847974,1.6546095845996021,1.1835011231119572,-3.0578281825225324,-0.70271347483496127,{"$f":"IF(($G121+$I121*$D121)^2+($H121-$I121*$D121)^2<>0,-mew*($G121+$I121*$D121)/SQRT(($G121+$I121*$D121)^2+($H121-$I121*$C121)^2),0)","v":-2.9947729288811407},{"$f":"-mew*($H121-$C121*$I121)/SQRT(($G121+$D121*$I121)^2+($H121-$I121*$C121)^2)","v":-0.17701724334276883},-0.70271347483496127,{"$f":"($I121-$I120)/DT","v":0.73618194243305446},{"$f":"IF(Q121<>0,mazalazo*(($D121*$J121-$C121*$K121)-2*$I121*($C121*$G121+$D121*$H121))/(INERTIA+mazalazo*($C121^2+$D121^2)),0)","v":0.72380258028204547},-3.1956000581880701,{"$f":"IF(Q121<>0,G121*COS(O121)+H121*SIN(O121)+F121*$I121,0)","v":-2.5095570683006523},-46.101136325130341,{"$f":"R120+mazalazo*($I121^2*($E121*$P121+$F121*$U121))*DT","v":115.3619776558596},{"$f":"IF(Q121<>0,$J121*COS($O121)+$K121*SIN($Z121)+2*$U121*$I121+$E121*$I121^2+$F121*$N121,0)","v":2.4615204815117759},{"$f":"IF(Q121<>0,-$J121*SIN($O121)+$K121*COS($O121)-2*$P121*$I121+$F121*$I121^2-$E121*$N121,0)","v":1.0011423434915034},{"$f":"IF(Q121<>0,-$G121*SIN(O121)+$H121*COS(O121)-$E121*$I121,0)","v":-0.28491375891408},{"$f":"$G121*COS($O121)+$H121*SIN($O121)+$F121*$I121","v":-2.5095570683006523},{"$f":"-$G121*SIN($O121)+$H121*COS($O121)-$E121*$I121","v":-0.28491375891408},null,4.5521151421924841,4.5287435243469432,-1.8749282450195695,-1.8173657539727672,0.39650574192639571,0.41555127702927397,1.0198123570326196,-3.2755065815580555,3.7998384978865838,4.5635352863295013,-1.9037302091009298,-3.1956000581880701,null,false,null,1.5268140296446395,null,null,null,-7.8079983079086155,-59.876843326262019,81,1.5268140296446395,-46.101136325130341,9.5685787936144742,{"$f":"1/2*(INERTIA+mazalazo*($C121^2+$D121^2))*$I121^2","v":22.801534429015025},-59.876843326262019,-7.8079983079086155,-46.101136325130341,32.370113222629499,9.3839980044672444,41.754111227096743,null,1.5268140296446395,2.5212779934975593,{"$f":"$H121-($I121*$C121)","v":0.14902955606603152},2.5256786274338858,-50.753918753816322,-0.17701724334276883,{"$f":"BL120+mazalazo*($I121*(BM121^2+BN121^2)+BM121*BR121-BN121*BQ121)*$BS121*DT","v":-55.701205009452138},4.5635352863295013,-1.9037302091009298,-4.6596469974847974,1.6546095845996021,1.1835011231119572,-3.0578281825225324,3.1650067128520813,0.73618194243305446,0.72380258028204547]
[0,82,4.5853115460655838,-1.9613970365795683,-4.7063395902007281,1.6500084761281419,1.1270230361763791,-3.0606360575542499,-0.68929860138647425,{"$f":"IF(($G122+$I122*$D122)^2+($H122-$I122*$D122)^2<>0,-mew*($G122+$I122*$D122)/SQRT(($G122+$I122*$D122)^2+($H122-$I122*$C122)^2),0)","v":-2.9975615408607621},{"$f":"-mew*($H122-$C122*$I122)/SQRT(($G122+$D122*$I122)^2+($H122-$I122*$C122)^2)","v":-0.12093307551060624},-0.68929860138647414,{"$f":"($I122-$I121)/DT","v":0.71168114009297645},{"$f":"IF(Q122<>0,mazalazo*(($D122*$J122-$C122*$K122)-2*$I122*($C122*$G122+$D122*$H122))/(INERTIA+mazalazo*($C122^2+$D122^2)),0)","v":0.69968641969695766},-3.2085930307215431,{"$f":"IF(Q122<>0,G122*COS(O122)+H122*SIN(O122)+F122*$I122,0)","v":-2.4667532664745311},-46.522032792194977,{"$f":"R121+mazalazo*($I122^2*($E122*$P122+$F122*$U122))*DT","v":115.66211797138872},{"$f":"IF(Q122<>0,$J122*COS($O122)+$K122*SIN($Z122)+2*$U122*$I122+$E122*$I122^2+$F122*$N122,0)","v":2.3949468232794393},{"$f":"IF(Q122<>0,-$J122*SIN($O122)+$K122*COS($O122)-2*$P122*$I122+$F122*$I122^2-$E122*$N122,0)","v":0.99762476435333047},{"$f":"IF(Q122<>0,-$G122*SIN(O122)+$H122*COS(O122)-$E122*$I122,0)","v":-0.26575883082619756},{"$f":"$G122*COS($O122)+$H122*SIN($O122)+$F122*$I122","v":-2.4667532664745311},{"$f":"-$G122*SIN($O122)+$H122*COS($O122)-$E122*$I122","v":-0.26575883082619756},null,4.5744234161975426,4.5521151421924841,-1.9325636228402492,-1.8749282450195695,0.37762194814946271,0.39650574192639571,1.0539053814496409,-3.2619885016170693,3.7631645839092425,4.5853115460655838,-1.9613970365795683,-3.2085930307215431,null,false,null,1.5456635855661782,null,null,null,-7.9781073756577552,-60.087372435217418,82,1.5456635855661782,-46.522032792194977,9.2332491507373149,{"$f":"1/2*(INERTIA+mazalazo*($C122^2+$D122^2))*$I122^2","v":22.240119208623799},-60.087372435217418,-7.9781073756577552,-46.522032792194977,31.473368359361114,9.0527127439763291,40.526081103337447,null,1.5456635855661782,2.4790112702542508,{"$f":"$H122-($I122*$C122)","v":0.10001277807000886},2.4810278986389642,-74.360836227915158,-0.12093307551060624,{"$f":"BL121+mazalazo*($I122*(BM122^2+BN122^2)+BM122*BR122-BN122*BQ122)*$BS122*DT","v":-63.386566031886971},4.5853115460655838,-1.9613970365795683,-4.7063395902007281,1.6500084761281419,1.1270230361763791,-3.0606360575542499,4.6916623501539769,0.71168114009297645,0.69968641969695766]
[0,83,4.6060227861577232,-2.0191068372765746,-4.7522346120998984,1.6457534804766176,1.07050234291107,-3.0623883133468675,-0.67633122372154542,{"$f":"IF(($G123+$I123*$D123)^2+($H123-$I123*$D123)^2<>0,-mew*($G123+$I123*$D123)/SQRT(($G123+$I123*$D123)^2+($H123-$I123*$C123)^2),0)","v":-2.9992953658233956},{"$f":"-mew*($H123-$C123*$I123)/SQRT(($G123+$D123*$I123)^2+($H123-$I123*$C123)^2)","v":-6.5017755654162263E-2},-0.67633122372154542,{"$f":"($I123-$I122)/DT","v":0.68794075143762123},{"$f":"IF(Q123<>0,mazalazo*(($D123*$J123-$C123*$K123)-2*$I123*($C123*$G123+$D123*$H123))/(INERTIA+mazalazo*($C123^2+$D123^2)),0)","v":0.67631743656657162},-3.221341573944565,{"$f":"IF(Q123<>0,G123*COS(O123)+H123*SIN(O123)+F123*$I123,0)","v":-2.4241378463310621},-46.935402364711607,{"$f":"R122+mazalazo*($I123^2*($E123*$P123+$F123*$U123))*DT","v":115.94960185060812},{"$f":"IF(Q123<>0,$J123*COS($O123)+$K123*SIN($Z123)+2*$U123*$I123+$E123*$I123^2+$F123*$N123,0)","v":2.3271445629917755},{"$f":"IF(Q123<>0,-$J123*SIN($O123)+$K123*COS($O123)-2*$P123*$I123+$F123*$I123^2-$E123*$N123,0)","v":0.99153413647862942},{"$f":"IF(Q123<>0,-$G123*SIN(O123)+$H123*COS(O123)-$E123*$I123,0)","v":-0.24671034677686743},{"$f":"$G123*COS($O123)+$H123*SIN($O123)+$F123*$I123","v":-2.4241378463310621},{"$f":"-$G123*SIN($O123)+$H123*COS($O123)-$E123*$I123","v":-0.24671034677686743},null,4.595667166111653,4.5744234161975426,-1.9902519369280713,-1.9325636228402492,0.35888600968975165,0.37762194814946271,1.0884812059480167,-3.2489319114111188,3.7262069942978675,4.6060227861577232,-2.0191068372765746,-3.221341573944565,null,false,null,1.5645131414877169,null,null,null,-8.1484117808086403,-60.28479077332063,83,1.5645131414877169,-46.935402364711607,8.9059654398320429,{"$f":"1/2*(INERTIA+mazalazo*($C123^2+$D123^2))*$I123^2","v":21.699439639950242},-60.28479077332063,-8.1484117808086403,-46.935402364711607,30.605405079782287,8.729408712575875,39.334813792358162,null,1.5645131414877169,2.4360873409908752,{"$f":"$H123-($I123*$C123)","v":5.2808714104507715E-2},2.4366596588816756,-138.39121339916886,-6.5017755654162263E-2,{"$f":"BL122+mazalazo*($I123*(BM123^2+BN123^2)+BM123*BR123-BN123*BQ123)*$BS123*DT","v":-77.91643466067606},4.6060227861577232,-2.0191068372765746,-4.7522346120998984,1.6457534804766176,1.07050234291107,-3.0623883133468675,8.8449347718410021,0.68794075143762123,0.67631743656657162]
[0,84,4.6256683902370161,-2.0768397450714007,-4.7973352275644894,1.6418422876497358,1.0139588220867222,-3.0630884245551866,-0.66379750220499989,{"$f":"IF(($G124+$I124*$D124)^2+($H124-$I124*$D124)^2<>0,-mew*($G124+$I124*$D124)/SQRT(($G124+$I124*$D124)^2+($H124-$I124*$C124)^2),0)","v":-2.9999855782489298},{"$f":"-mew*($H124-$C124*$I124)/SQRT(($G124+$D124*$I124)^2+($H124-$I124*$C124)^2)","v":-9.3021663300701229E-3},-0.66379750220499989,{"$f":"($I124-$I123)/DT","v":0.66493457823182245},{"$f":"IF(Q124<>0,mazalazo*(($D124*$J124-$C124*$K124)-2*$I124*($C124*$G124+$D124*$H124))/(INERTIA+mazalazo*($C124^2+$D124^2)),0)","v":0.65366984327139521},-3.233853862082956,{"$f":"IF(Q124<>0,G124*COS(O124)+H124*SIN(O124)+F124*$I124,0)","v":-2.3817006999851338},-47.341292533367174,{"$f":"R123+mazalazo*($I124^2*($E124*$P124+$F124*$U124))*DT","v":116.22497771801437},{"$f":"IF(Q124<>0,$J124*COS($O124)+$K124*SIN($Z124)+2*$U124*$I124+$E124*$I124^2+$F124*$N124,0)","v":2.2582976380869857},{"$f":"IF(Q124<>0,-$J124*SIN($O124)+$K124*COS($O124)-2*$P124*$I124+$F124*$I124^2-$E124*$N124,0)","v":0.98303205811964212},{"$f":"IF(Q124<>0,-$G124*SIN(O124)+$H124*COS(O124)-$E124*$I124,0)","v":-0.22781458198171256},{"$f":"$G124*COS($O124)+$H124*SIN($O124)+$F124*$I124","v":-2.3817006999851338},{"$f":"-$G124*SIN($O124)+$H124*COS($O124)-$E124*$I124","v":-0.22781458198171256},null,4.6158455881973701,4.595667166111653,-2.0479732911739879,-1.9902519369280713,0.34028433400774494,0.35888600968975165,1.1235200181449159,-3.2363569719175054,3.6889813736802153,4.6256683902370161,-2.0768397450714007,-3.233853862082956,null,false,null,1.5833626974092558,null,null,null,-8.3188137541299874,-60.469732804015948,84,1.5833626974092558,-47.341292533367174,8.5865965621097686,{"$f":"1/2*(INERTIA+mazalazo*($C124^2+$D124^2))*$I124^2","v":21.178789891893906},-60.469732804015948,-8.3188137541299874,-47.341292533367174,29.765386454003675,8.4139523806312582,38.179338834634933,null,1.5833626974092558,2.3925598573451867,{"$f":"$H124-($I124*$C124)","v":7.4186989127675851E-3},2.3925713590347057,-967.51191232235738,-9.3021663300701229E-3,{"$f":"BL123+mazalazo*($I124*(BM124^2+BN124^2)+BM124*BR124-BN124*BQ124)*$BS124*DT","v":-181.2121047142428},4.6256683902370161,-2.0768397450714007,-4.7973352275644894,1.6418422876497358,1.0139588220867222,-3.0630884245551866,62.709011100947393,0.66493457823182245,0.65366984327139521]
[0,85,4.6442481127022868,-2.1345759647912881,-4.8416444268950976,1.6382717495333476,0.95741203102228856,-3.0627404424490599,-0.65168407560616559,{"$f":"IF(($G125+$I125*$D125)^2+($H125-$I125*$D125)^2<>0,-mew*($G125+$I125*$D125)/SQRT(($G125+$I125*$D125)^2+($H125-$I125*$C125)^2),0)","v":-2.9996444944518159},{"$f":"-mew*($H125-$C125*$I125)/SQRT(($G125+$D125*$I125)^2+($H125-$I125*$C125)^2)","v":4.6183405081382876E-2},-0.6516840756061657,{"$f":"($I125-$I124)/DT","v":0.64263724032844138},{"$f":"IF(Q125<>0,mazalazo*(($D125*$J125-$C125*$K125)-2*$I125*($C125*$G125+$D125*$H125))/(INERTIA+mazalazo*($C125^2+$D125^2)),0)","v":0.6317186653067377},-3.2461378175092706,{"$f":"IF(Q125<>0,G125*COS(O125)+H125*SIN(O125)+F125*$I125,0)","v":-2.339432045168909},-47.739750199956156,{"$f":"R124+mazalazo*($I125^2*($E125*$P125+$F125*$U125))*DT","v":116.48876965356308},{"$f":"IF(Q125<>0,$J125*COS($O125)+$K125*SIN($Z125)+2*$U125*$I125+$E125*$I125^2+$F125*$N125,0)","v":2.1885706705421546},{"$f":"IF(Q125<>0,-$J125*SIN($O125)+$K125*COS($O125)-2*$P125*$I125+$F125*$I125^2-$E125*$N125,0)","v":0.97227319398431833},{"$f":"IF(Q125<>0,-$G125*SIN(O125)+$H125*COS(O125)-$E125*$I125,0)","v":-0.20911486185958239},{"$f":"$G125*COS($O125)+$H125*SIN($O125)+$F125*$I125","v":-2.339432045168909},{"$f":"-$G125*SIN($O125)+$H125*COS($O125)-$E125*$I125","v":-0.20911486185958239},null,4.6349582514696515,4.6158455881973701,-2.1057078549313442,-2.0479732911739879,0.32180358456809016,0.34028433400774494,1.1590005334216682,-3.224283508406304,3.6515042735689578,4.6442481127022868,-2.1345759647912881,-3.2461378175092706,null,false,null,1.6022122533307945,null,null,null,-8.4892143151540793,-60.642813051897292,85,1.6022122533307945,-47.739750199956156,8.2750069791206045,{"$f":"1/2*(INERTIA+mazalazo*($C125^2+$D125^2))*$I125^2","v":20.677488198028509},-60.642813051897292,-8.4892143151540793,-47.739750199956156,28.952495177149114,8.1062064017096418,37.058701578858759,null,1.6022122533307945,2.3484811954484384,{"$f":"$H125-($I125*$C125)","v":-3.6157904236990834E-2},2.3487595277962656,194.8521003918577,4.6183405081382876E-2,{"$f":"BL124+mazalazo*($I125*(BM125^2+BN125^2)+BM125*BR125-BN125*BQ125)*$BS125*DT","v":-160.03811125820366},4.6442481127022868,-2.1345759647912881,-4.8416444268950976,1.6382717495333476,0.95741203102228856,-3.0627404424490599,-12.82059860199168,0.64263724032844138,0.6317186653067377]
[0,86,4.6617620743451482,-2.192295782970672,-4.8851650324010851,1.6350379335169809,0.90088128441208115,-3.0613489830924685,-0.63997804588408491,{"$f":"IF(($G126+$I126*$D126)^2+($H126-$I126*$D126)^2<>0,-mew*($G126+$I126*$D126)/SQRT(($G126+$I126*$D126)^2+($H126-$I126*$C126)^2),0)","v":-2.9982855347415338},{"$f":"-mew*($H126-$C126*$I126)/SQRT(($G126+$D126*$I126)^2+($H126-$I126*$C126)^2)","v":0.10140932974669185},-0.63997804588408491,{"$f":"($I126-$I125)/DT","v":0.62102416474992872},{"$f":"IF(Q126<>0,mazalazo*(($D126*$J126-$C126*$K126)-2*$I126*($C126*$G126+$D126*$H126))/(INERTIA+mazalazo*($C126^2+$D126^2)),0)","v":0.61043972895186893},-3.2582011194737195,{"$f":"IF(Q126<>0,G126*COS(O126)+H126*SIN(O126)+F126*$I126,0)","v":-2.2973224732179345},-48.130821536267064,{"$f":"R125+mazalazo*($I126^2*($E126*$P126+$F126*$U126))*DT","v":116.7414783207907},{"$f":"IF(Q126<>0,$J126*COS($O126)+$K126*SIN($Z126)+2*$U126*$I126+$E126*$I126^2+$F126*$N126,0)","v":2.1181100797648433},{"$f":"IF(Q126<>0,-$J126*SIN($O126)+$K126*COS($O126)-2*$P126*$I126+$F126*$I126^2-$E126*$N126,0)","v":0.95940553768518688},{"$f":"IF(Q126<>0,-$G126*SIN(O126)+$H126*COS(O126)-$E126*$I126,0)","v":-0.19065168882544237},{"$f":"$G126*COS($O126)+$H126*SIN($O126)+$F126*$I126","v":-2.2973224732179345},{"$f":"-$G126*SIN($O126)+$H126*COS($O126)-$E126*$I126","v":-0.19065168882544237},null,4.6530050935237171,4.6349582514696515,-2.1634358738809798,-2.1057078549313442,0.30343064471254722,0.32180358456809016,1.1948999719527709,-3.2127309404030133,3.6137931703737354,4.6617620743451482,-2.192295782970672,-3.2582011194737195,null,false,null,1.6210618092523332,null,null,null,-8.6595133804678373,-60.804626025193969,86,1.6210618092523332,-48.130821536267064,7.9710579186062418,{"$f":"1/2*(INERTIA+mazalazo*($C126^2+$D126^2))*$I126^2","v":20.194876174072053},-60.804626025193969,-8.6595133804678373,-48.130821536267064,28.165934092678295,7.8060307593296727,35.971964852007972,null,1.6210618092523332,2.3039024555975716,{"$f":"$H126-($I126*$C126)","v":-7.7923600376522462E-2},2.3052198620531104,88.698511534319934,0.10140932974669185,{"$f":"BL125+mazalazo*($I126*(BM126^2+BN126^2)+BM126*BR126-BN126*BQ126)*$BS126*DT","v":-150.21959723161177},4.6617620743451482,-2.192295782970672,-4.8851650324010851,1.6350379335169809,0.90088128441208115,-3.0613489830924685,-5.929939361393334,0.62102416474992872,0.61043972895186893]
[0,87,4.678210757582927,-2.2499795783766969,-4.9278997053044131,1.6321361738339979,0.84438563390391985,-3.0589192143583794,-0.62866696322847437,{"$f":"IF(($G127+$I127*$D127)^2+($H127-$I127*$D127)^2<>0,-mew*($G127+$I127*$D127)/SQRT(($G127+$I127*$D127)^2+($H127-$I127*$C127)^2),0)","v":-2.9959231816232221},{"$f":"-mew*($H127-$C127*$I127)/SQRT(($G127+$D127*$I127)^2+($H127-$I127*$C127)^2)","v":0.15634669747899665},-0.62866696322847437,{"$f":"($I127-$I126)/DT","v":0.60007157212047324},{"$f":"IF(Q127<>0,mazalazo*(($D127*$J127-$C127*$K127)-2*$I127*($C127*$G127+$D127*$H127))/(INERTIA+mazalazo*($C127^2+$D127^2)),0)","v":0.58980964654701928},-3.2700512125531187,{"$f":"IF(Q127<>0,G127*COS(O127)+H127*SIN(O127)+F127*$I127,0)","v":-2.255362987135022},-48.514551857447245,{"$f":"R126+mazalazo*($I127^2*($E127*$P127+$F127*$U127))*DT","v":116.98358187295872},{"$f":"IF(Q127<>0,$J127*COS($O127)+$K127*SIN($Z127)+2*$U127*$I127+$E127*$I127^2+$F127*$N127,0)","v":2.0470452354303021},{"$f":"IF(Q127<>0,-$J127*SIN($O127)+$K127*COS($O127)-2*$P127*$I127+$F127*$I127^2-$E127*$N127,0)","v":0.94457066901204279},{"$f":"IF(Q127<>0,-$G127*SIN(O127)+$H127*COS(O127)-$E127*$I127,0)","v":-0.17246286423987067},{"$f":"$G127*COS($O127)+$H127*SIN($O127)+$F127*$I127","v":-2.255362987135022},{"$f":"-$G127*SIN($O127)+$H127*COS($O127)-$E127*$I127","v":-0.17246286423987067},null,4.6699864159640381,4.6530050935237171,-2.2211376806736842,-2.1634358738809798,0.28515258266207599,0.30343064471254722,1.2311940409692173,-3.2017182076421116,3.575866480167373,4.678210757582927,-2.2499795783766969,-3.2700512125531187,null,false,null,1.6399113651738719,null,null,null,-8.8296098737393667,-60.955746213114779,87,1.6399113651738719,-48.514551857447245,7.6746084649206434,{"$f":"1/2*(INERTIA+mazalazo*($C127^2+$D127^2))*$I127^2","v":19.730318143639476},-60.955746213114779,-8.8296098737393667,-48.514551857447245,27.404926608560118,7.5132838023966997,34.918210410956817,null,1.6399113651738719,2.2588734627680811,{"$f":"$H127-($I127*$C127)","v":-0.11788266404594028},2.2619473122246747,57.486148986786674,0.15634669747899665,{"$f":"BL126+mazalazo*($I127*(BM127^2+BN127^2)+BM127*BR127-BN127*BQ127)*$BS127*DT","v":-143.7325660547049},4.678210757582927,-2.2499795783766969,-4.9278997053044131,1.6321361738339979,0.84438563390391985,-3.0589192143583794,-3.9083119851235955,0.60007157212047324,0.58980964654701928]
[0,88,4.6935950013142911,-2.3076078322794999,-4.9698509532829291,1.629561120704883,0.78794384850004506,-3.0554568418441748,-0.61773881139707987,{"$f":"IF(($G128+$I128*$D128)^2+($H128-$I128*$D128)^2<>0,-mew*($G128+$I128*$D128)/SQRT(($G128+$I128*$D128)^2+($H128-$I128*$C128)^2),0)","v":-2.9925729343540421},{"$f":"-mew*($H128-$C128*$I128)/SQRT(($G128+$D128*$I128)^2+($H128-$I128*$C128)^2)","v":0.21096737323964973},-0.61773881139707987,{"$f":"($I128-$I127)/DT","v":0.57975646094172817},{"$f":"IF(Q128<>0,mazalazo*(($D128*$J128-$C128*$K128)-2*$I128*($C128*$G128+$D128*$H128))/(INERTIA+mazalazo*($C128^2+$D128^2)),0)","v":0.56980579983999746},-3.2816953148234527,{"$f":"IF(Q128<>0,G128*COS(O128)+H128*SIN(O128)+F128*$I128,0)","v":-2.2135450308481968},-48.890985509035794,{"$f":"R127+mazalazo*($I128^2*($E128*$P128+$F128*$U128))*DT","v":117.21553683595891},{"$f":"IF(Q128<>0,$J128*COS($O128)+$K128*SIN($Z128)+2*$U128*$I128+$E128*$I128^2+$F128*$N128,0)","v":1.9754896402729236},{"$f":"IF(Q128<>0,-$J128*SIN($O128)+$K128*COS($O128)-2*$P128*$I128+$F128*$I128^2-$E128*$N128,0)","v":0.92790400464406964},{"$f":"IF(Q128<>0,-$G128*SIN(O128)+$H128*COS(O128)-$E128*$I128,0)","v":-0.15458360562681817},{"$f":"$G128*COS($O128)+$H128*SIN($O128)+$F128*$I128","v":-2.2135450308481968},{"$f":"-$G128*SIN($O128)+$H128*COS($O128)-$E128*$I128","v":-0.15458360562681817},null,4.6859028794486086,4.6699864159640381,-2.2787937053280984,-2.2211376806736842,0.26695661744864635,0.28515258266207599,1.2678569228657175,-3.1912636921814901,3.5377435698497823,4.6935950013142911,-2.3076078322794999,-3.2816953148234527,null,false,null,1.6587609210954108,null,null,null,-8.9994018369927087,-61.096728149792057,88,1.6587609210954108,-48.890985509035794,7.3855165420819988,{"$f":"1/2*(INERTIA+mazalazo*($C128^2+$D128^2))*$I128^2","v":19.283200474052485},-61.096728149792057,-8.9994018369927087,-48.890985509035794,26.668717016134483,7.2278231771310573,33.896540193265537,null,1.6587609210954108,2.2134427679829756,{"$f":"$H128-($I128*$C128)","v":-0.15604104455300893},2.2189361628314885,42.555010593338672,0.21096737323964973,{"$f":"BL127+mazalazo*($I128*(BM128^2+BN128^2)+BM128*BR128-BN128*BQ128)*$BS128*DT","v":-138.83397149493507},4.6935950013142911,-2.3076078322794999,-4.9698509532829291,1.629561120704883,0.78794384850004506,-3.0554568418441748,-2.9443665291779477,0.57975646094172817,0.56980579983999746]
[0,89,4.7079159954137184,-2.3651611384471933,-5.0110211384988119,1.6273067873671629,0.73157439584629802,-3.0509680937582875,-0.60718199338191758,{"$f":"IF(($G129+$I129*$D129)^2+($H129-$I129*$D129)^2<>0,-mew*($G129+$I129*$D129)/SQRT(($G129+$I129*$D129)^2+($H129-$I129*$C129)^2),0)","v":-2.9882512601976141},{"$f":"-mew*($H129-$C129*$I129)/SQRT(($G129+$D129*$I129)^2+($H129-$I129*$C129)^2)","v":0.26524404974922755},-0.60718199338191758,{"$f":"($I129-$I128)/DT","v":0.56005659014488296},{"$f":"IF(Q129<>0,mazalazo*(($D129*$J129-$C129*$K129)-2*$I129*($C129*$G129+$D129*$H129))/(INERTIA+mazalazo*($C129^2+$D129^2)),0)","v":0.55040632180634164},-3.2931404257622563,{"$f":"IF(Q129<>0,G129*COS(O129)+H129*SIN(O129)+F129*$I129,0)","v":-2.1718605106808111},-49.260165766892221,{"$f":"R128+mazalazo*($I129^2*($E129*$P129+$F129*$U129))*DT","v":117.4377789670171},{"$f":"IF(Q129<>0,$J129*COS($O129)+$K129*SIN($Z129)+2*$U129*$I129+$E129*$I129^2+$F129*$N129,0)","v":1.9035421332476448},{"$f":"IF(Q129<>0,-$J129*SIN($O129)+$K129*COS($O129)-2*$P129*$I129+$F129*$I129^2-$E129*$N129,0)","v":0.90953504132841445},{"$f":"IF(Q129<>0,-$G129*SIN(O129)+$H129*COS(O129)-$E129*$I129,0)","v":-0.13704665929272064},{"$f":"$G129*COS($O129)+$H129*SIN($O129)+$F129*$I129","v":-2.1718605106808111},{"$f":"-$G129*SIN($O129)+$H129*COS($O129)-$E129*$I129","v":-0.13704665929272064},null,4.7007554983640052,4.6859028794486086,-2.3363844853633466,-2.2787937053280984,0.2488300855853558,0.26695661744864635,1.3048612696495903,-3.1813851369331703,3.4994447644732483,4.7079159954137184,-2.3651611384471933,-3.2931404257622563,null,false,null,1.6776104770169495,null,null,null,-9.1687865426431987,-61.228106537315568,89,1.6776104770169495,-49.260165766892221,7.1036397970170135,{"$f":"1/2*(INERTIA+mazalazo*($C129^2+$D129^2))*$I129^2","v":18.852930923618036},-61.228106537315568,-9.1687865426431987,-49.260165766892221,25.95657072063505,6.9495066628093127,32.906077383444362,null,1.6776104770169495,2.1676576505581102,{"$f":"$H129-($I129*$C129)","v":-0.19240627498837126},2.1761801085107839,33.798133413618451,0.26524404974922755,{"$f":"BL128+mazalazo*($I129*(BM129^2+BN129^2)+BM129*BR129-BN129*BQ129)*$BS129*DT","v":-134.8629621760781},4.7079159954137184,-2.3651611384471933,-5.0110211384988119,1.6273067873671629,0.73157439584629802,-3.0509680937582875,-2.3814170484745212,0.56005659014488296,0.55040632180634164]
[0,90,4.7211752748821132,-2.4226202128468648,-5.05141248597584,1.6253665950731766,0.67529542446840374,-3.0454597048538421,-0.59698531742978034,{"$f":"IF(($G130+$I130*$D130)^2+($H130-$I130*$D130)^2<>0,-mew*($G130+$I130*$D130)/SQRT(($G130+$I130*$D130)^2+($H130-$I130*$C130)^2),0)","v":-2.9829755427412943},{"$f":"-mew*($H130-$C130*$I130)/SQRT(($G130+$D130*$I130)^2+($H130-$I130*$C130)^2)","v":0.31915029595361682},-0.59698531742978045,{"$f":"($I130-$I129)/DT","v":0.54095046029630034},{"$f":"IF(Q130<>0,mazalazo*(($D130*$J130-$C130*$K130)-2*$I130*($C130*$G130+$D130*$H130))/(INERTIA+mazalazo*($C130^2+$D130^2)),0)","v":0.53159007729519392},-3.3043933338874867,{"$f":"IF(Q130<>0,G130*COS(O130)+H130*SIN(O130)+F130*$I130,0)","v":-2.1303018099611983},-49.622134749283227,{"$f":"R129+mazalazo*($I130^2*($E130*$P130+$F130*$U130))*DT","v":117.65072408849115},{"$f":"IF(Q130<>0,$J130*COS($O130)+$K130*SIN($Z130)+2*$U130*$I130+$E130*$I130^2+$F130*$N130,0)","v":1.8312881039879001},{"$f":"IF(Q130<>0,-$J130*SIN($O130)+$K130*COS($O130)-2*$P130*$I130+$F130*$I130^2-$E130*$N130,0)","v":0.88958759089184181},{"$f":"IF(Q130<>0,-$G130*SIN(O130)+$H130*COS(O130)-$E130*$I130,0)","v":-0.11988240849464527},{"$f":"$G130*COS($O130)+$H130*SIN($O130)+$F130*$I130","v":-2.1303018099611983},{"$f":"-$G130*SIN($O130)+$H130*COS($O130)-$E130*$I130","v":-0.11988240849464527},null,4.7145456351479158,4.7007554983640052,-2.3938906756470288,-2.3363844853633466,0.23076040828932312,0.2488300855853558,1.3421782042566308,-3.1720995609011173,3.4609913504622796,4.7211752748821132,-2.4226202128468648,-3.3043933338874867,null,false,null,1.6964600329384882,null,null,null,-9.3376606058093081,-61.350396421028854,90,1.6964600329384882,-49.622134749283227,6.8288363900856517,{"$f":"1/2*(INERTIA+mazalazo*($C130^2+$D130^2))*$I130^2","v":18.438938001474352},-61.350396421028854,-9.3376606058093081,-49.622134749283227,25.267774391560003,6.6781929181790645,31.945967309739068,null,1.6964600329384882,2.1215641212465917,{"$f":"$H130-($I130*$C130)","v":-0.22698738473671343},2.1336723256841563,28.039850633647731,0.31915029595361677,{"$f":"BL129+mazalazo*($I130*(BM130^2+BN130^2)+BM130*BR130-BN130*BQ130)*$BS130*DT","v":-131.49872130715718},4.7211752748821132,-2.4226202128468648,-5.05141248597584,1.6253665950731766,0.67529542446840374,-3.0454597048538421,-2.0131287968987395,0.54095046029630034,0.53159007729519392]
[0,91,4.7333747136719238,-2.479965903034377,-5.0910270922055361,1.623733416134288,0.61912474700713671,-3.0389388994895121,-0.5871379834361915,{"$f":"IF(($G131+$I131*$D131)^2+($H131-$I131*$D131)^2<>0,-mew*($G131+$I131*$D131)/SQRT(($G131+$I131*$D131)^2+($H131-$I131*$C131)^2),0)","v":-2.9767640276590561},{"$f":"-mew*($H131-$C131*$I131)/SQRT(($G131+$D131*$I131)^2+($H131-$I131*$C131)^2)","v":0.37266060113061816},-0.58713798343619139,{"$f":"($I131-$I130)/DT","v":0.52241729378550583},{"$f":"IF(Q131<>0,mazalazo*(($D131*$J131-$C131*$K131)-2*$I131*($C131*$G131+$D131*$H131))/(INERTIA+mazalazo*($C131^2+$D131^2)),0)","v":0.51333664280687141},-3.3154606241399267,{"$f":"IF(Q131<>0,G131*COS(O131)+H131*SIN(O131)+F131*$I131,0)","v":-2.0888617976154107},-49.976933340422065,{"$f":"R130+mazalazo*($I131^2*($E131*$P131+$F131*$U131))*DT","v":117.85476889628153},{"$f":"IF(Q131<>0,$J131*COS($O131)+$K131*SIN($Z131)+2*$U131*$I131+$E131*$I131^2+$F131*$N131,0)","v":1.7588007100785832},{"$f":"IF(Q131<>0,-$J131*SIN($O131)+$K131*COS($O131)-2*$P131*$I131+$F131*$I131^2-$E131*$N131,0)","v":0.86818000672953222},{"$f":"IF(Q131<>0,-$G131*SIN(O131)+$H131*COS(O131)-$E131*$I131,0)","v":-0.10311897731397934},{"$f":"$G131*COS($O131)+$H131*SIN($O131)+$F131*$I131","v":-2.0888617976154107},{"$f":"-$G131*SIN($O131)+$H131*COS($O131)-$E131*$I131","v":-0.10311897731397934},null,4.7272749942770185,4.7145456351479158,-2.4512930579406209,-2.3938906756470288,0.2127350590762816,0.23076040828932312,1.3797773291649957,-3.1634231714859418,3.4224055745542876,4.7333747136719238,-2.479965903034377,-3.3154606241399267,null,false,null,1.7153095888600272,null,null,null,-9.5059200964240844,-61.464093410882207,{"$f":"AT130+1","v":91},1.7153095888600272,-49.976933340422065,6.5609656995290493,{"$f":"1/2*(INERTIA+mazalazo*($C131^2+$D131^2))*$I131^2","v":18.040670340835284},-61.464093410882207,-9.5059200964240844,-49.976933340422065,24.601636040364333,6.4137421449772631,31.015378185341596,null,1.7153095888600272,2.0752069263052544,{"$f":"$H131-($I131*$C131)","v":-0.25979481525631831},2.0914055400661455,23.963606713141878,0.37266060113061816,{"$f":"BL130+mazalazo*($I131*(BM131^2+BN131^2)+BM131*BR131-BN131*BQ131)*$BS131*DT","v":-128.56140416898401},4.7333747136719238,-2.479965903034377,-5.0910270922055361,1.623733416134288,0.61912474700713671,-3.0389388994895121,-1.7539603174171274,0.52241729378550583,0.51333664280687141]
[0,92,4.7445165182060176,-2.5371791972173026,-5.1298669338771461,1.6223996150874409,0.56307982449680305,-3.0314133739014735,-0.57762956972661517,{"$f":"IF(($G132+$I132*$D132)^2+($H132-$I132*$D132)^2<>0,-mew*($G132+$I132*$D132)/SQRT(($G132+$I132*$D132)^2+($H132-$I132*$C132)^2),0)","v":-2.9696357663161441},{"$f":"-mew*($H132-$C132*$I132)/SQRT(($G132+$D132*$I132)^2+($H132-$I132*$C132)^2)","v":0.42575041446359629},-0.57762956972661506,{"$f":"($I132-$I131)/DT","v":0.50443701428060639},{"$f":"IF(Q132<>0,mazalazo*(($D132*$J132-$C132*$K132)-2*$I132*($C132*$G132+$D132*$H132))/(INERTIA+mazalazo*($C132^2+$D132^2)),0)","v":0.4956262856668619},-3.326348685016423,{"$f":"IF(Q132<>0,G132*COS(O132)+H132*SIN(O132)+F132*$I132,0)","v":-2.0475338315092912},-50.324601124784529,{"$f":"R131+mazalazo*($I132^2*($E132*$P132+$F132*$U132))*DT","v":118.05029174256384},{"$f":"IF(Q132<>0,$J132*COS($O132)+$K132*SIN($Z132)+2*$U132*$I132+$E132*$I132^2+$F132*$N132,0)","v":1.686142089313583},{"$f":"IF(Q132<>0,-$J132*SIN($O132)+$K132*COS($O132)-2*$P132*$I132+$F132*$I132^2-$E132*$N132,0)","v":0.84542540163859159},{"$f":"IF(Q132<>0,-$G132*SIN(O132)+$H132*COS(O132)-$E132*$I132,0)","v":-8.6782330396411478E-2},{"$f":"$G132*COS($O132)+$H132*SIN($O132)+$F132*$I132","v":-2.0475338315092912},{"$f":"-$G132*SIN($O132)+$H132*COS($O132)-$E132*$I132","v":-8.6782330396411478E-2},null,4.7389456159389702,4.7272749942770185,-2.50857255012584,-2.4512930579406209,0.19474153154808144,0.2127350590762816,1.4176267427902984,-3.1553712742423605,3.3837106382253994,4.7445165182060176,-2.5371791972173026,-3.326348685016423,null,false,null,1.7341591447815659,null,null,null,-9.6734606506800436,-61.569673943201956,92,1.7341591447815659,-50.324601124784529,6.2998889460662255,{"$f":"1/2*(INERTIA+mazalazo*($C132^2+$D132^2))*$I132^2","v":17.657596086235301},-61.569673943201956,-9.6734606506800436,-50.324601124784529,23.957485032301527,6.1560166745773586,30.113501706878885,null,1.7341591447815659,2.0286295525047522,{"$f":"$H132-($I132*$C132)","v":-0.29084033892931327},2.0493720901886388,20.925187612965168,0.4257504144635964,{"$f":"BL131+mazalazo*($I132*(BM132^2+BN132^2)+BM132*BR132-BN132*BQ132)*$BS132*DT","v":-125.94014748086104},4.7445165182060176,-2.5371791972173026,-5.1298669338771461,1.6223996150874409,0.56307982449680305,-3.0314133739014735,-1.5620547791153294,0.50443701428060639,0.4956262856668619]
[0,93,4.7546032206103446,-2.594241232976938,-5.1679338766399239,1.6213570880572279,0.50717775172391311,-3.0228912777732013,-0.56845002023409996,{"$f":"IF(($G133+$I133*$D133)^2+($H133-$I133*$D133)^2<>0,-mew*($G133+$I133*$D133)/SQRT(($G133+$I133*$D133)^2+($H133-$I133*$C133)^2),0)","v":-2.9616105576204483},{"$f":"-mew*($H133-$C133*$I133)/SQRT(($G133+$D133*$I133)^2+($H133-$I133*$C133)^2)","v":0.47839617995036254},-0.56845002023409996,{"$f":"($I133-$I132)/DT","v":0.48699022569683137},{"$f":"IF(Q133<>0,mazalazo*(($D133*$J133-$C133*$K133)-2*$I133*($C133*$G133+$D133*$H133))/(INERTIA+mazalazo*($C133^2+$D133^2)),0)","v":0.47843994282423807},-3.3370637154614253,{"$f":"IF(Q133<>0,G133*COS(O133)+H133*SIN(O133)+F133*$I133,0)","v":-2.0063117572348297},-50.665176331553361,{"$f":"R132+mazalazo*($I133^2*($E133*$P133+$F133*$U133))*DT","v":118.23765339271705},{"$f":"IF(Q133<>0,$J133*COS($O133)+$K133*SIN($Z133)+2*$U133*$I133+$E133*$I133^2+$F133*$N133,0)","v":1.6133645597979469},{"$f":"IF(Q133<>0,-$J133*SIN($O133)+$K133*COS($O133)-2*$P133*$I133+$F133*$I133^2-$E133*$N133,0)","v":0.82143185704124555},{"$f":"IF(Q133<>0,-$G133*SIN(O133)+$H133*COS(O133)-$E133*$I133,0)","v":-7.0896368719473468E-2},{"$f":"$G133*COS($O133)+$H133*SIN($O133)+$F133*$I133","v":-2.0063117572348297},{"$f":"-$G133*SIN($O133)+$H133*COS($O133)-$E133*$I133","v":-7.0896368719473468E-2},null,4.7495598694081806,4.7389456159389702,-2.5657102150971203,-2.50857255012584,0.17676730719555053,0.19474153154808144,1.4556930639803694,-3.1479581805534047,3.3449306875240206,4.7546032206103446,-2.594241232976938,-3.3370637154614253,null,false,null,1.7530087007031045,null,null,null,-9.8401775813553858,-61.667595577749552,93,1.7530087007031045,-50.665176331553361,6.0454697434744773,{"$f":"1/2*(INERTIA+mazalazo*($C133^2+$D133^2))*$I133^2","v":17.289202295184118},-61.667595577749552,-9.8401775813553858,-50.665176331553361,23.334672038658596,5.9048814834141297,29.239553522072725,null,1.7530087007031045,1.98187423310179,{"$f":"$H133-($I133*$C133)","v":-0.32013698081213393},2.0075639871038522,18.572120859709244,0.47839617995036254,{"$f":"BL132+mazalazo*($I133*(BM133^2+BN133^2)+BM133*BR133-BN133*BQ133)*$BS133*DT","v":-123.56183103804061},4.7546032206103446,-2.594241232976938,-5.1679338766399239,1.6213570880572279,0.50717775172391311,-3.0228912777732013,-1.4145110376914569,0.48699022569683137,0.47843994282423807]
[0,94,4.7636376716810327,-2.651133305636995,-5.2052296838184846,1.6205973003838277,0.45143524369524068,-3.0133811951919554,-0.55958963207854451,{"$f":"IF(($G134+$I134*$D134)^2+($H134-$I134*$D134)^2<>0,-mew*($G134+$I134*$D134)/SQRT(($G134+$I134*$D134)^2+($H134-$I134*$C134)^2),0)","v":-2.9527088885297523},{"$f":"-mew*($H134-$C134*$I134)/SQRT(($G134+$D134*$I134)^2+($H134-$I134*$C134)^2)","v":0.53057536655728055},-0.5595896320785444,{"$f":"($I134-$I133)/DT","v":0.47005819088984396},{"$f":"IF(Q134<>0,mazalazo*(($D134*$J134-$C134*$K134)-2*$I134*($C134*$G134+$D134*$H134))/(INERTIA+mazalazo*($C134^2+$D134^2)),0)","v":0.46175919946976074},-3.3476117315244029,{"$f":"IF(Q134<>0,G134*COS(O134)+H134*SIN(O134)+F134*$I134,0)","v":-1.9651899029700839},-50.998695788568568,{"$f":"R133+mazalazo*($I134^2*($E134*$P134+$F134*$U134))*DT","v":118.41719775646034},{"$f":"IF(Q134<>0,$J134*COS($O134)+$K134*SIN($Z134)+2*$U134*$I134+$E134*$I134^2+$F134*$N134,0)","v":1.5405118014657955},{"$f":"IF(Q134<>0,-$J134*SIN($O134)+$K134*COS($O134)-2*$P134*$I134+$F134*$I134^2-$E134*$N134,0)","v":0.79630262378028327},{"$f":"IF(Q134<>0,-$G134*SIN(O134)+$H134*COS(O134)-$E134*$I134,0)","v":-5.548302154655449E-2},{"$f":"$G134*COS($O134)+$H134*SIN($O134)+$F134*$I134","v":-1.9651899029700839},{"$f":"-$G134*SIN($O134)+$H134*COS($O134)-$E134*$I134","v":-5.548302154655449E-2},null,4.7591204461456886,4.7495598694081806,-2.6226872693069665,-2.5657102150971203,0.15879982303810594,0.17676730719555053,1.4939414649991258,-3.1411971137007839,3.3060907981468723,4.7636376716810327,-2.651133305636995,-3.3476117315244029,null,false,null,1.7718582566246432,null,null,null,-10.005965986586366,-61.75829732541068,94,1.7718582566246432,-50.998695788568568,5.7975745806232553,{"$f":"1/2*(INERTIA+mazalazo*($C134^2+$D134^2))*$I134^2","v":16.934994354476931},-61.75829732541068,-10.005965986586366,-50.998695788568568,22.732568935100186,5.6602046424810908,28.392773577581277,null,1.7718582566246432,1.934981954787822,{"$f":"$H134-($I134*$C134)","v":-0.34769894314047178},1.9659729704183377,16.695322142576213,0.53057536655728066,{"$f":"BL133+mazalazo*($I134*(BM134^2+BN134^2)+BM134*BR134-BN134*BQ134)*$BS134*DT","v":-121.37572411842575},4.7636376716810327,-2.651133305636995,-5.2052296838184846,1.6205973003838277,0.45143524369524068,-3.0133811951919554,-1.2977445795195366,0.47005819088984396,0.46175919946976074]
[0,95,4.7716230336070415,-2.7078368762682561,-5.2417560250130837,1.6201113225845092,0.39586862323674649,-3.0028921250821061,-0.5510390435493735,{"$f":"IF(($G135+$I135*$D135)^2+($H135-$I135*$D135)^2<>0,-mew*($G135+$I135*$D135)/SQRT(($G135+$I135*$D135)^2+($H135-$I135*$C135)^2),0)","v":-2.9429518736238318},{"$f":"-mew*($H135-$C135*$I135)/SQRT(($G135+$D135*$I135)^2+($H135-$I135*$C135)^2)","v":0.58226649356972049},-0.5510390435493735,{"$f":"($I135-$I134)/DT","v":0.45362281025414175},{"$f":"IF(Q135<>0,mazalazo*(($D135*$J135-$C135*$K135)-2*$I135*($C135*$G135+$D135*$H135))/(INERTIA+mazalazo*($C135^2+$D135^2)),0)","v":0.44556626763990181},-3.3579985727907382,{"$f":"IF(Q135<>0,G135*COS(O135)+H135*SIN(O135)+F135*$I135,0)","v":-1.9241630709814532},-51.325194885185638,{"$f":"R134+mazalazo*($I135^2*($E135*$P135+$F135*$U135))*DT","v":118.58925259333058},{"$f":"IF(Q135<>0,$J135*COS($O135)+$K135*SIN($Z135)+2*$U135*$I135+$E135*$I135^2+$F135*$N135,0)","v":1.4676200133008781},{"$f":"IF(Q135<>0,-$J135*SIN($O135)+$K135*COS($O135)-2*$P135*$I135+$F135*$I135^2-$E135*$N135,0)","v":0.77013631477352229},{"$f":"IF(Q135<>0,-$G135*SIN(O135)+$H135*COS(O135)-$E135*$I135,0)","v":-4.0562334721686799E-2},{"$f":"$G135*COS($O135)+$H135*SIN($O135)+$F135*$I135","v":-1.9241630709814532},{"$f":"-$G135*SIN($O135)+$H135*COS($O135)-$E135*$I135","v":-4.0562334721686799E-2},null,4.7676303526440371,4.7591204461456886,-2.6794850909526255,-2.6226872693069665,0.1408264389192885,0.15879982303810594,1.532335713233993,-3.1351001138754055,3.2672169557332311,4.7716230336070415,-2.7078368762682561,-3.3579985727907382,null,false,null,1.7907078125461822,null,null,null,-10.170720856670346,-61.842200002278325,95,1.7907078125461822,-51.325194885185638,5.556073240090277,{"$f":"1/2*(INERTIA+mazalazo*($C135^2+$D135^2))*$I135^2","v":16.594495411270859},-61.842200002278325,-10.170720856670346,-51.325194885185638,22.150568651361137,5.4218577058666284,27.572426357227766,null,1.7907078125461822,1.8879924656233296,{"$f":"$H135-($I135*$C135)","v":-0.37354153246512167},1.9245905608016607,15.162912031472285,0.58226649356972049,{"$f":"BL134+mazalazo*($I135*(BM135^2+BN135^2)+BM135*BR135-BN135*BQ135)*$BS135*DT","v":-119.34521839780201},4.7716230336070415,-2.7078368762682561,-5.2417560250130837,1.6201113225845092,0.39586862323674649,-3.0028921250821061,-1.2031873506971791,0.45362281025414175,0.44556626763990181]
[0,96,4.7785627724698365,-2.7643335793201897,-5.2775144845267308,1.6198898647137525,0.34049380973716986,-2.9914334612059887,-0.54278922249053141,{"$f":"IF(($G136+$I136*$D136)^2+($H136-$I136*$D136)^2<>0,-mew*($G136+$I136*$D136)/SQRT(($G136+$I136*$D136)^2+($H136-$I136*$C136)^2),0)","v":-2.9323611941458831},{"$f":"-mew*($H136-$C136*$I136)/SQRT(($G136+$D136*$I136)^2+($H136-$I136*$C136)^2)","v":0.63344915113000999},-0.54278922249053141,{"$f":"($I136-$I135)/DT","v":0.4376666003794441},{"$f":"IF(Q136<>0,mazalazo*(($D136*$J136-$C136*$K136)-2*$I136*($C136*$G136+$D136*$H136))/(INERTIA+mazalazo*($C136^2+$D136^2)),0)","v":0.42984396494726035},-3.368229908593682,{"$f":"IF(Q136<>0,G136*COS(O136)+H136*SIN(O136)+F136*$I136,0)","v":-1.8832265262814363},-51.644707543466723,{"$f":"R135+mazalazo*($I136^2*($E136*$P136+$F136*$U136))*DT","v":118.75413019273229},{"$f":"IF(Q136<>0,$J136*COS($O136)+$K136*SIN($Z136)+2*$U136*$I136+$E136*$I136^2+$F136*$N136,0)","v":1.3947190412522308},{"$f":"IF(Q136<>0,-$J136*SIN($O136)+$K136*COS($O136)-2*$P136*$I136+$F136*$I136^2-$E136*$N136,0)","v":0.74302708988981703},{"$f":"IF(Q136<>0,-$G136*SIN(O136)+$H136*COS(O136)-$E136*$I136,0)","v":-2.6152555453220483E-2},{"$f":"$G136*COS($O136)+$H136*SIN($O136)+$F136*$I136","v":-1.8832265262814363},{"$f":"-$G136*SIN($O136)+$H136*COS($O136)-$E136*$I136","v":-2.6152555453220483E-2},null,4.7750929030384395,4.7676303526440371,-2.7360852277942227,-2.6794850909526255,0.12283440427339158,0.1408264389192885,1.5708382218123886,-3.1296779427028509,3.2283360313812053,4.7785627724698365,-2.7643335793201897,-3.368229908593682,null,false,null,1.8095573684677209,null,null,null,-10.334337178505928,-61.919706606278595,96,1.8095573684677209,-51.644707543466723,5.3208391581701688,{"$f":"1/2*(INERTIA+mazalazo*($C136^2+$D136^2))*$I136^2","v":16.267245818925954},-61.919706606278595,-10.334337178505928,-51.644707543466723,21.588084977096123,5.1897160429869729,26.777801020083096,null,1.8095573684677209,1.8409442839608434,{"$f":"$H136-($I136*$C136)","v":-0.39768108931488788},1.8834081091061432,13.887592345406938,0.63344915113000999,{"$f":"BL135+mazalazo*($I136*(BM136^2+BN136^2)+BM136*BR136-BN136*BQ136)*$BS136*DT","v":-117.44305401718917},4.7785627724698365,-2.7643335793201897,-5.2775144845267308,1.6198898647137525,0.34049380973716986,-2.9914334612059887,-1.1251680757808362,0.4376666003794441,0.42984396494726035]
[0,97,4.7844606505417246,-2.8206052298722253,-5.3125065695700933,1.6199233091845102,0.28532630904254208,-2.9790149718227834,-0.53483145508426344,{"$f":"IF(($G137+$I137*$D137)^2+($H137-$I137*$D137)^2<>0,-mew*($G137+$I137*$D137)/SQRT(($G137+$I137*$D137)^2+($H137-$I137*$C137)^2),0)","v":-2.9209590369094385},{"$f":"-mew*($H137-$C137*$I137)/SQRT(($G137+$D137*$I137)^2+($H137-$I137*$C137)^2)","v":0.68410401599251458},-0.53483145508426344,{"$f":"($I137-$I136)/DT","v":0.42217267289437271},{"$f":"IF(Q137<>0,mazalazo*(($D137*$J137-$C137*$K137)-2*$I137*($C137*$G137+$D137*$H137))/(INERTIA+mazalazo*($C137^2+$D137^2)),0)","v":0.41457569355506124},-3.3783112440148906,{"$f":"IF(Q137<>0,G137*COS(O137)+H137*SIN(O137)+F137*$I137,0)","v":-1.8423759829037771},-51.957266197151988,{"$f":"R136+mazalazo*($I137^2*($E137*$P137+$F137*$U137))*DT","v":118.91212802887613},{"$f":"IF(Q137<>0,$J137*COS($O137)+$K137*SIN($Z137)+2*$U137*$I137+$E137*$I137^2+$F137*$N137,0)","v":1.3218334725204681},{"$f":"IF(Q137<>0,-$J137*SIN($O137)+$K137*COS($O137)-2*$P137*$I137+$F137*$I137^2-$E137*$N137,0)","v":0.71506483346123817},{"$f":"IF(Q137<>0,-$G137*SIN(O137)+$H137*COS(O137)-$E137*$I137,0)","v":-1.2270213727047619E-2},{"$f":"$G137*COS($O137)+$H137*SIN($O137)+$F137*$I137","v":-1.8423759829037771},{"$f":"-$G137*SIN($O137)+$H137*COS($O137)-$E137*$I137","v":-1.2270213727047619E-2},null,4.7815117115057806,4.7750929030384395,-2.7924694045962077,-2.7360852277942227,0.10481082417218671,0.12283440427339158,1.6094101093166608,-3.1249399878795634,3.1894757523623145,4.7844606505417246,-2.8206052298722253,-3.3783112440148906,null,false,null,1.8284069243892596,null,null,null,-10.496710037300538,-61.991202712837598,97,1.8284069243892596,-51.957266197151988,5.091749730788349,{"$f":"1/2*(INERTIA+mazalazo*($C137^2+$D137^2))*$I137^2","v":15.952802597517405},-61.991202712837598,-10.496710037300538,-51.957266197151988,21.044552328305755,4.9636591188865395,26.008211447192295,null,1.8284069243892596,1.7938747083533877,{"$f":"$H137-($I137*$C137)","v":-0.4201349203001512},1.8424168422280465,12.809275937395167,0.68410401599251458,{"$f":"BL136+mazalazo*($I137*(BM137^2+BN137^2)+BM137*BR137-BN137*BQ137)*$BS137*DT","v":-115.64840556254973},4.7844606505417246,-2.8206052298722253,-5.3125065695700933,1.6199233091845102,0.28532630904254208,-2.9790149718227834,-1.059783645063451,0.42217267289437271,0.41457569355506124]
[0,98,4.7893207184045554,-2.8766338304990873,-5.3467337182032999,1.6202017421108073,0.23038120450051436,-2.9656467790950085,-0.52715733502813644,{"$f":"IF(($G138+$I138*$D138)^2+($H138-$I138*$D138)^2<>0,-mew*($G138+$I138*$D138)/SQRT(($G138+$I138*$D138)^2+($H138-$I138*$C138)^2),0)","v":-2.9087680334548742},{"$f":"-mew*($H138-$C138*$I138)/SQRT(($G138+$D138*$I138)^2+($H138-$I138*$C138)^2)","v":0.73421286256171225},-0.52715733502813644,{"$f":"($I138-$I137)/DT","v":0.40712471360442171},{"$f":"IF(Q138<>0,mazalazo*(($D138*$J138-$C138*$K138)-2*$I138*($C138*$G138+$D138*$H138))/(INERTIA+mazalazo*($C138^2+$D138^2)),0)","v":0.39974541949334091},-3.3882479256809526,{"$f":"IF(Q138<>0,G138*COS(O138)+H138*SIN(O138)+F138*$I138,0)","v":-1.8016075882108264},-52.26290177787962,{"$f":"R137+mazalazo*($I138^2*($E138*$P138+$F138*$U138))*DT","v":119.0635293909922},{"$f":"IF(Q138<>0,$J138*COS($O138)+$K138*SIN($Z138)+2*$U138*$I138+$E138*$I138^2+$F138*$N138,0)","v":1.2489836925406452},{"$f":"IF(Q138<>0,-$J138*SIN($O138)+$K138*COS($O138)-2*$P138*$I138+$F138*$I138^2-$E138*$N138,0)","v":0.68633532487868032},{"$f":"IF(Q138<>0,-$G138*SIN(O138)+$H138*COS(O138)-$E138*$I138,0)","v":1.0697995180861675E-3},{"$f":"$G138*COS($O138)+$H138*SIN($O138)+$F138*$I138","v":-1.8016075882108264},{"$f":"-$G138*SIN($O138)+$H138*COS($O138)-$E138*$I138","v":1.0697995180861675E-3},null,4.78689068447314,4.7815117115057806,-2.8486195301856565,-2.7924694045962077,8.6742624453495551E-2,0.10481082417218671,1.6480112685738153,-3.1208941685638192,3.1506646681997128,4.7893207184045554,-2.8766338304990873,-3.3882479256809526,null,false,null,1.8472564803107985,null,null,null,-10.657734715201233,-62.057056886405462,98,1.8472564803107985,-52.26290177787962,4.8686865695547601,{"$f":"1/2*(INERTIA+mazalazo*($C138^2+$D138^2))*$I138^2","v":15.650738908851842},-62.057056886405462,-10.657734715201233,-52.26290177787962,20.519425478406603,4.7435707267071194,25.262996205113723,null,1.8472564803107985,1.7468198284381931,{"$f":"$H138-($I138*$C138)","v":-0.44092123258582339},1.8016079058357397,11.885250920173245,0.73421286256171225,{"$f":"BL137+mazalazo*($I138*(BM138^2+BN138^2)+BM138*BR138-BN138*BQ138)*$BS138*DT","v":-113.94502121653699},4.7893207184045554,-2.8766338304990873,-5.3467337182032999,1.6202017421108073,0.23038120450051436,-2.9656467790950085,-1.0042600410961073,0.40712471360442171,0.39974541949334091]
[0,99,4.7931473069103836,-2.9324015777462673,-5.3801973069810494,1.6207149832296026,0.17567314914629273,-2.9513393383306523,-0.51975875309808028,{"$f":"IF(($G139+$I139*$D139)^2+($H139-$I139*$D139)^2<>0,-mew*($G139+$I139*$D139)/SQRT(($G139+$I139*$D139)^2+($H139-$I139*$C139)^2),0)","v":-2.8958111998244154},{"$f":"-mew*($H139-$C139*$I139)/SQRT(($G139+$D139*$I139)^2+($H139-$I139*$C139)^2)","v":0.7837585693129473},-0.51975875309808028,{"$f":"($I139-$I138)/DT","v":0.39250696201293767},{"$f":"IF(Q139<>0,mazalazo*(($D139*$J139-$C139*$K139)-2*$I139*($C139*$G139+$D139*$H139))/(INERTIA+mazalazo*($C139^2+$D139^2)),0)","v":0.38533765239677992},-3.3980451473631841,{"$f":"IF(Q139<>0,G139*COS(O139)+H139*SIN(O139)+F139*$I139,0)","v":-1.7609179056046653},-52.561643708143663,{"$f":"R138+mazalazo*($I139^2*($E139*$P139+$F139*$U139))*DT","v":119.20860398926207},{"$f":"IF(Q139<>0,$J139*COS($O139)+$K139*SIN($Z139)+2*$U139*$I139+$E139*$I139^2+$F139*$N139,0)","v":1.1761869015965858},{"$f":"IF(Q139<>0,-$J139*SIN($O139)+$K139*COS($O139)-2*$P139*$I139+$F139*$I139^2-$E139*$N139,0)","v":0.65692040273498797},{"$f":"IF(Q139<>0,-$G139*SIN(O139)+$H139*COS(O139)-$E139*$I139,0)","v":1.3854157329240113E-2},{"$f":"$G139*COS($O139)+$H139*SIN($O139)+$F139*$I139","v":-1.7609179056046653},{"$f":"-$G139*SIN($O139)+$H139*COS($O139)-$E139*$I139","v":1.3854157329240113E-2},null,4.7912340126574691,4.78689068447314,-2.9045177041226773,-2.8486195301856565,6.8616515723103247E-2,8.6742624453495551E-2,1.686600444602383,-3.1175468421596033,3.1119321121392431,4.7931473069103836,-2.9324015777462673,-3.3980451473631841,null,false,null,1.8661060362323372,null,null,null,-10.817306786531093,-62.117621104942764,99,1.8661060362323372,-52.561643708143663,4.6515357119316363,{"$f":"1/2*(INERTIA+mazalazo*($C139^2+$D139^2))*$I139^2","v":15.360643545761953},-62.117621104942764,-10.817306786531093,-52.561643708143663,20.012179257693589,4.5293391761756396,24.541518433869228,null,1.8661060362323372,1.6998145367785358,{"$f":"$H139-($I139*$C139)","v":-0.46005907067548968},1.7609724040865671,11.084323590986394,0.7837585693129473,{"$f":"BL138+mazalazo*($I139*(BM139^2+BN139^2)+BM139*BR139-BN139*BQ139)*$BS139*DT","v":-112.31998906842621},4.7931473069103836,-2.9324015777462673,-5.3801973069810494,1.6207149832296026,0.17567314914629273,-2.9513393383306523,-0.95657177528616844,0.39250696201293767,0.38533765239677992]
[0,100,4.7959450190054929,-2.9878908682133436,-5.4128986582739902,1.6214526144577663,0.12121635901518339,-2.9361034171467959,-0.51262788708886764,{"$f":"IF(($G140+$I140*$D140)^2+($H140-$I140*$D140)^2<>0,-mew*($G140+$I140*$D140)/SQRT(($G140+$I140*$D140)^2+($H140-$I140*$C140)^2),0)","v":-2.8821118773064658},{"$f":"-mew*($H140-$C140*$I140)/SQRT(($G140+$D140*$I140)^2+($H140-$I140*$C140)^2)","v":0.83272512072652227},-0.51262788708886753,{"$f":"($I140-$I139)/DT","v":0.37830419129738974},{"$f":"IF(Q140<>0,mazalazo*(($D140*$J140-$C140*$K140)-2*$I140*($C140*$G140+$D140*$H140))/(INERTIA+mazalazo*($C140^2+$D140^2)),0)","v":0.37133742572866829},-3.407707955387806,{"$f":"IF(Q140<>0,G140*COS(O140)+H140*SIN(O140)+F140*$I140,0)","v":-1.7203038959737853},-52.853519900498917,{"$f":"R139+mazalazo*($I140^2*($E140*$P140+$F140*$U140))*DT","v":119.34760853696065},{"$f":"IF(Q140<>0,$J140*COS($O140)+$K140*SIN($Z140)+2*$U140*$I140+$E140*$I140^2+$F140*$N140,0)","v":1.1034580885627565},{"$f":"IF(Q140<>0,-$J140*SIN($O140)+$K140*COS($O140)-2*$P140*$I140+$F140*$I140^2-$E140*$N140,0)","v":0.62689812298365188},{"$f":"IF(Q140<>0,-$G140*SIN(O140)+$H140*COS(O140)-$E140*$I140,0)","v":2.6071024676765475E-2},{"$f":"$G140*COS($O140)+$H140*SIN($O140)+$F140*$I140","v":-1.7203038959737853},{"$f":"-$G140*SIN($O140)+$H140*COS($O140)-$E140*$I140","v":2.6071024676765475E-2},null,4.7945461629579382,4.7912340126574691,-2.9601462229798052,-2.9045177041226773,5.0418956010425842E-2,6.8616515723103247E-2,1.725135321493013,-3.1149027131735494,3.0733081583195858,4.7959450190054929,-2.9878908682133436,-3.407707955387806,null,false,null,1.8849555921538759,null,null,null,-10.975322209341019,-62.173231194738165,100,1.8849555921538759,-52.853519900498917,4.4401877892454209,{"$f":"1/2*(INERTIA+mazalazo*($C140^2+$D140^2))*$I140^2","v":15.082120435407527},-62.173231194738165,-10.975322209341019,-52.853519900498917,19.522308224652946,4.3208574417235752,23.843165666376521,null,1.8849555921538759,1.6528925416395117,{"$f":"$H140-($I140*$C140)","v":-0.477568255459631},1.7205014364510947,10.383180976185495,0.83272512072652238,{"$f":"BL139+mazalazo*($I140*(BM140^2+BN140^2)+BM140*BR140-BN140*BQ140)*$BS140*DT","v":-110.76289291948039},4.7959450190054929,-2.9878908682133436,-5.4128986582739902,1.6214526144577663,0.12121635901518339,-2.9361034171467959,-0.91520554096294737,0.37830419129738974,0.37133742572866829]
[0,101,4.7977187214388159,-3.0430843042444611,-5.4448390472451749,1.6224040071380987,6.7024607560328936E-2,-2.919950074637844,-0.50575719212237158,{"$f":"IF(($G141+$I141*$D141)^2+($H141-$I141*$D141)^2<>0,-mew*($G141+$I141*$D141)/SQRT(($G141+$I141*$D141)^2+($H141-$I141*$C141)^2),0)","v":-2.8676936744797077},{"$f":"-mew*($H141-$C141*$I141)/SQRT(($G141+$D141*$I141)^2+($H141-$I141*$C141)^2)","v":0.88109760489350553},-0.50575719212237147,{"$f":"($I141-$I140)/DT","v":0.36450168879815076},{"$f":"IF(Q141<>0,mazalazo*(($D141*$J141-$C141*$K141)-2*$I141*($C141*$G141+$D141*$H141))/(INERTIA+mazalazo*($C141^2+$D141^2)),0)","v":0.35773027754205317},-3.4172412538634371,{"$f":"IF(Q141<>0,G141*COS(O141)+H141*SIN(O141)+F141*$I141,0)","v":-1.6797628981706658},-53.138556762541953,{"$f":"R140+mazalazo*($I141^2*($E141*$P141+$F141*$U141))*DT","v":119.48078730933734},{"$f":"IF(Q141<>0,$J141*COS($O141)+$K141*SIN($Z141)+2*$U141*$I141+$E141*$I141^2+$F141*$N141,0)","v":1.0308109597784945},{"$f":"IF(Q141<>0,-$J141*SIN($O141)+$K141*COS($O141)-2*$P141*$I141+$F141*$I141^2-$E141*$N141,0)","v":0.5963429115755452},{"$f":"IF(Q141<>0,-$G141*SIN(O141)+$H141*COS(O141)-$E141*$I141,0)","v":3.7709989284176793E-2},{"$f":"$G141*COS($O141)+$H141*SIN($O141)+$F141*$I141","v":-1.6797628981706658},{"$f":"-$G141*SIN($O141)+$H141*COS($O141)-$E141*$I141","v":3.7709989284176793E-2},null,4.7968318702221548,4.7945461629579382,-3.0154875862289021,-2.9601462229798052,3.2136111843500612E-2,5.0418956010425842E-2,1.7635726181727114,-3.1129647448030959,3.0348235747404133,4.7977187214388159,-3.0430843042444611,-3.4172412538634371,null,false,null,1.9038051480754146,null,null,null,-11.131677413014442,-62.224207273166506,101,1.9038051480754146,-53.138556762541953,4.2345381560437909,{"$f":"1/2*(INERTIA+mazalazo*($C141^2+$D141^2))*$I141^2","v":14.81478815627667},-62.224207273166506,-11.131677413014442,-53.138556762541953,19.04932631232046,4.1180232736288787,23.167349585949339,null,1.9038051480754146,1.6060863806666679,{"$f":"$H141-($I141*$C141)","v":-0.49346932549001377},1.6801861317611588,9.7640499482221816,0.88109760489350575,{"$f":"BL140+mazalazo*($I141*(BM141^2+BN141^2)+BM141*BR141-BN141*BQ141)*$BS141*DT","v":-109.26521875506052},4.7977187214388159,-3.0430843042444611,-5.4448390472451749,1.6224040071380987,6.7024607560328936E-2,-2.919950074637844,-0.87900810926884598,0.36450168879815076,0.35773027754205317]
[0,102,4.7984735363753366,-3.0979646992268153,-5.4760197084655644,1.6235583480265325,1.3111221148193741E-2,-2.9028906406282657,-0.49913939131308516,{"$f":"IF(($G142+$I142*$D142)^2+($H142-$I142*$D142)^2<>0,-mew*($G142+$I142*$D142)/SQRT(($G142+$I142*$D142)^2+($H142-$I142*$C142)^2),0)","v":-2.8525804108651145},{"$f":"-mew*($H142-$C142*$I142)/SQRT(($G142+$D142*$I142)^2+($H142-$I142*$C142)^2)","v":0.92886220697615463},-0.49913939131308516,{"$f":"($I142-$I141)/DT","v":0.35108523706515982},{"$f":"IF(Q142<>0,mazalazo*(($D142*$J142-$C142*$K142)-2*$I142*($C142*$G142+$D142*$H142))/(INERTIA+mazalazo*($C142^2+$D142^2)),0)","v":0.34450223181744377},-3.4266498097326359,{"$f":"IF(Q142<>0,G142*COS(O142)+H142*SIN(O142)+F142*$I142,0)","v":-1.6392926087821125},-53.416779207216727,{"$f":"R141+mazalazo*($I142^2*($E142*$P142+$F142*$U142))*DT","v":119.60837267979566},{"$f":"IF(Q142<>0,$J142*COS($O142)+$K142*SIN($Z142)+2*$U142*$I142+$E142*$I142^2+$F142*$N142,0)","v":0.95825882151235664},{"$f":"IF(Q142<>0,-$J142*SIN($O142)+$K142*COS($O142)-2*$P142*$I142+$F142*$I142^2-$E142*$N142,0)","v":0.5653257120228834},{"$f":"IF(Q142<>0,-$G142*SIN(O142)+$H142*COS(O142)-$E142*$I142,0)","v":4.876199525253222E-2},{"$f":"$G142*COS($O142)+$H142*SIN($O142)+$F142*$I142","v":-1.6392926087821125},{"$f":"-$G142*SIN($O142)+$H142*COS($O142)-$E142*$I142","v":4.876199525253222E-2},null,4.7980961289070763,4.7968318702221548,-3.0705245017356382,-3.0154875862289021,1.375381749281011E-2,3.2136111843500612E-2,1.8018681926938311,-3.1117340739371744,2.9965097724035803,4.7984735363753366,-3.0979646992268153,-3.4266498097326359,null,false,null,1.9226547039969535,null,null,null,-11.286269381690287,-62.270854197216615,102,1.9226547039969535,-53.416779207216727,4.0344869840830082,{"$f":"1/2*(INERTIA+mazalazo*($C142^2+$D142^2))*$I142^2","v":14.55827946855484},-62.270854197216615,-11.286269381690287,-53.416779207216727,18.592766452637846,3.9207392753623225,22.513505728000169,null,1.9226547039969535,1.5594274354296913,{"$f":"$H142-($I142*$C142)","v":-0.50778348044993304},1.640017679596373,9.2131439607759109,0.92886220697615463,{"$f":"BL141+mazalazo*($I142*(BM142^2+BN142^2)+BM142*BR142-BN142*BQ142)*$BS142*DT","v":-107.81992755034953},4.7984735363753366,-3.0979646992268153,-5.4760197084655644,1.6235583480265325,1.3111221148193741E-2,-2.9028906406282657,-0.84708539934055005,0.35108523706515982,0.34450223181744377]
[0,103,4.7982148329344874,-3.1525150824994563,-5.5064418421571748,1.6249046640710287,-4.0510924401229505E-2,-2.884936695086092,-0.49276746677974453,{"$f":"IF(($G143+$I143*$D143)^2+($H143-$I143*$D143)^2<>0,-mew*($G143+$I143*$D143)/SQRT(($G143+$I143*$D143)^2+($H143-$I143*$C143)^2),0)","v":-2.8367960624703077},{"$f":"-mew*($H143-$C143*$I143)/SQRT(($G143+$D143*$I143)^2+($H143-$I143*$C143)^2)","v":0.9760061987267078},-0.49276746677974459,{"$f":"($I143-$I142)/DT","v":0.33804109549655953},{"$f":"IF(Q143<>0,mazalazo*(($D143*$J143-$C143*$K143)-2*$I143*($C143*$G143+$D143*$H143))/(INERTIA+mazalazo*($C143^2+$D143^2)),0)","v":0.33163978040643721},-3.4359382576540156,{"$f":"IF(Q143<>0,G143*COS(O143)+H143*SIN(O143)+F143*$I143,0)","v":-1.5988910614235952},-53.688210668012537,{"$f":"R142+mazalazo*($I143^2*($E143*$P143+$F143*$U143))*DT","v":119.73058563395379},{"$f":"IF(Q143<>0,$J143*COS($O143)+$K143*SIN($Z143)+2*$U143*$I143+$E143*$I143^2+$F143*$N143,0)","v":0.88581541487013682},{"$f":"IF(Q143<>0,-$J143*SIN($O143)+$K143*COS($O143)-2*$P143*$I143+$F143*$I143^2-$E143*$N143,0)","v":0.53391412832124296},{"$f":"IF(Q143<>0,-$G143*SIN(O143)+$H143*COS(O143)-$E143*$I143,0)","v":5.9219279389663537E-2},{"$f":"$G143*COS($O143)+$H143*SIN($O143)+$F143*$I143","v":-1.5988910614235952},{"$f":"-$G143*SIN($O143)+$H143*COS($O143)-$E143*$I143","v":5.9219279389663537E-2},null,4.798344184654912,4.7980961289070763,-3.1252398908631358,-3.0705245017356382,-4.7424678861782837E-3,1.375381749281011E-2,1.8399771547462227,-3.1112099302282652,2.9583987509093643,4.7982148329344874,-3.1525150824994563,-3.4359382576540156,null,false,null,1.9415042599184922,null,null,null,-11.438995733296927,-62.313462015819397,103,1.9415042599184922,-53.688210668012537,3.839939324027553,{"$f":"1/2*(INERTIA+mazalazo*($C143^2+$D143^2))*$I143^2","v":14.312240857511284},-62.313462015819397,-11.438995733296927,-53.688210668012537,18.152180181538839,3.7289129501218525,21.881093131660691,null,1.9415042599184922,1.512945946786965,{"$f":"$H143-($I143*$C143)","v":-0.52053252679596929},1.599987359122472,8.7196046485294119,0.9760061987267078,{"$f":"BL142+mazalazo*($I143*(BM143^2+BN143^2)+BM143*BR143-BN143*BQ143)*$BS143*DT","v":-106.42114142269519},4.7982148329344874,-3.1525150824994563,-5.5064418421571748,1.6249046640710287,-4.0510924401229505E-2,-2.884936695086092,-0.81873370157986436,0.33804109549655953,0.33163978040643721]
[0,104,4.7969482186728829,-3.206718703876132,-5.5361066200565139,1.6264318460311831,-9.3829406267651586E-2,-2.8661000477694123,-0.48663465099142428,{"$f":"IF(($G144+$I144*$D144)^2+($H144-$I144*$D144)^2<>0,-mew*($G144+$I144*$D144)/SQRT(($G144+$I144*$D144)^2+($H144-$I144*$C144)^2),0)","v":-2.8203647094860811},{"$f":"-mew*($H144-$C144*$I144)/SQRT(($G144+$D144*$I144)^2+($H144-$I144*$C144)^2)","v":1.0225179242856788},-0.48663465099142428,{"$f":"($I144-$I143)/DT","v":0.32535598259439585},{"$f":"IF(Q144<>0,mazalazo*(($D144*$J144-$C144*$K144)-2*$I144*($C144*$G144+$D144*$H144))/(INERTIA+mazalazo*($C144^2+$D144^2)),0)","v":0.31912986560208317},-3.4451111047212368,{"$f":"IF(Q144<>0,G144*COS(O144)+H144*SIN(O144)+F144*$I144,0)","v":-1.5585566057607654},-53.952873118641008,{"$f":"R143+mazalazo*($I144^2*($E144*$P144+$F144*$U144))*DT","v":119.84763626218582},{"$f":"IF(Q144<>0,$J144*COS($O144)+$K144*SIN($Z144)+2*$U144*$I144+$E144*$I144^2+$F144*$N144,0)","v":0.81349570233838475},{"$f":"IF(Q144<>0,-$J144*SIN($O144)+$K144*COS($O144)-2*$P144*$I144+$F144*$I144^2-$E144*$N144,0)","v":0.50217256363851703},{"$f":"IF(Q144<>0,-$G144*SIN(O144)+$H144*COS(O144)-$E144*$I144,0)","v":6.9075310162468817E-2},{"$f":"$G144*COS($O144)+$H144*SIN($O144)+$F144*$I144","v":-1.5585566057607654},{"$f":"-$G144*SIN($O144)+$H144*COS($O144)-$E144*$I144","v":6.9075310162468817E-2},null,4.7975815258036851,4.798344184654912,-3.1796168931877942,-3.1252398908631358,-2.3367705504442469E-2,-4.7424678861782837E-3,1.8778539859820205,-3.1113895598840311,2.9205230408631695,4.7969482186728829,-3.206718703876132,-3.4451111047212368,null,false,null,1.9603538158400309,null,null,null,-11.589754794016546,-62.352306424191958,104,1.9603538158400309,-53.952873118641008,3.6508051377518385,{"$f":"1/2*(INERTIA+mazalazo*($C144^2+$D144^2))*$I144^2","v":14.076332089540132},-62.352306424191958,-11.589754794016546,-53.952873118641008,17.727137227291969,3.5424567193528418,21.269593946644811,null,1.9603538158400309,1.4666710310207822,{"$f":"$H144-($I144*$C144)","v":-0.53173882555159935},1.5600865654939018,8.274763627609838,1.0225179242856788,{"$f":"BL143+mazalazo*($I144*(BM144^2+BN144^2)+BM144*BR144-BN144*BQ144)*$BS144*DT","v":-105.06390884542905},4.7969482186728829,-3.206718703876132,-5.5361066200565139,1.6264318460311831,-9.3829406267651586E-2,-2.8661000477694123,-0.79339170550907023,0.32535598259439585,0.31912986560208317]
[0,105,4.7946795310299644,-3.26055903778721,-5.5650151908944787,1.6281286709861911,-0.14683225611997774,-2.8463927181738047,-0.48073441843615333,{"$f":"IF(($G145+$I145*$D145)^2+($H145-$I145*$D145)^2<>0,-mew*($G145+$I145*$D145)/SQRT(($G145+$I145*$D145)^2+($H145-$I145*$C145)^2),0)","v":-2.8033104863698726},{"$f":"-mew*($H145-$C145*$I145)/SQRT(($G145+$D145*$I145)^2+($H145-$I145*$C145)^2)","v":1.0683867824943865},-0.48073441843615333,{"$f":"($I145-$I144)/DT","v":0.3130170588543652},{"$f":"IF(Q145<>0,mazalazo*(($D145*$J145-$C145*$K145)-2*$I145*($C145*$G145+$D145*$H145))/(INERTIA+mazalazo*($C145^2+$D145^2)),0)","v":0.30695986334961689},-3.4541727350249576,{"$f":"IF(Q145<>0,G145*COS(O145)+H145*SIN(O145)+F145*$I145,0)","v":-1.5182878864356861},-54.210787096797951,{"$f":"R144+mazalazo*($I145^2*($E145*$P145+$F145*$U145))*DT","v":119.95972423125522},{"$f":"IF(Q145<>0,$J145*COS($O145)+$K145*SIN($Z145)+2*$U145*$I145+$E145*$I145^2+$F145*$N145,0)","v":0.74131660543719735},{"$f":"IF(Q145<>0,-$J145*SIN($O145)+$K145*COS($O145)-2*$P145*$I145+$F145*$I145^2-$E145*$N145,0)","v":0.47016235515603277},{"$f":"IF(Q145<>0,-$G145*SIN(O145)+$H145*COS(O145)-$E145*$I145,0)","v":7.832472919783795E-2},{"$f":"$G145*COS($O145)+$H145*SIN($O145)+$F145*$I145","v":-1.5182878864356861},{"$f":"-$G145*SIN($O145)+$H145*COS($O145)-$E145*$I145","v":7.832472919783795E-2},null,4.7958138748514241,4.7975815258036851,-3.2336388708316708,-3.1796168931877942,-4.2137324903398221E-2,-2.3367705504442469E-2,1.9154526676459389,-3.112268154804509,2.8829156435087544,4.7946795310299644,-3.26055903778721,-3.4541727350249576,null,false,null,1.9792033717615698,null,null,null,-11.738445668025003,-62.387649218583562,105,1.9792033717615698,-54.210787096797951,3.4669993039518863,{"$f":"1/2*(INERTIA+mazalazo*($C145^2+$D145^2))*$I145^2","v":13.8502257804863},-62.387649218583562,-11.738445668025003,-54.210787096797951,17.317225084438185,3.361287915873703,20.678513000311888,null,1.9792033717615698,1.4206306966874003,{"$f":"$H145-($I145*$C145)","v":-0.54142524223638633},1.5203068339323014,7.8716169058875503,1.0683867824943865,{"$f":"BL144+mazalazo*($I145*(BM145^2+BN145^2)+BM145*BR145-BN145*BQ145)*$BS145*DT","v":-103.74402615809818},4.7946795310299644,-3.26055903778721,-5.5650151908944787,1.6281286709861911,-0.14683225611997774,-2.8463927181738047,-0.77060634168820186,0.3130170588543652,0.30695986334961689]
[0,106,4.791414828754287,-3.3140197870469539,-5.5931686854920217,1.6299838237776021,-0.19950796068906898,-2.8258269158441158,-0.47506047759989928,{"$f":"IF(($G146+$I146*$D146)^2+($H146-$I146*$D146)^2<>0,-mew*($G146+$I146*$D146)/SQRT(($G146+$I146*$D146)^2+($H146-$I146*$C146)^2),0)","v":-2.7856575345259253},{"$f":"-mew*($H146-$C146*$I146)/SQRT(($G146+$D146*$I146)^2+($H146-$I146*$C146)^2)","v":1.1136032059665344},-0.47506047759989933,{"$f":"($I146-$I145)/DT","v":0.30101191030026503},{"$f":"IF(Q146<>0,mazalazo*(($D146*$J146-$C146*$K146)-2*$I146*($C146*$G146+$D146*$H146))/(INERTIA+mazalazo*($C146^2+$D146^2)),0)","v":0.29511756710521231},-3.4631274140635897,{"$f":"IF(Q146<>0,G146*COS(O146)+H146*SIN(O146)+F146*$I146,0)","v":-1.4780838220519128},-54.461971731634577,{"$f":"R145+mazalazo*($I146^2*($E146*$P146+$F146*$U146))*DT","v":120.06703923566023},{"$f":"IF(Q146<>0,$J146*COS($O146)+$K146*SIN($Z146)+2*$U146*$I146+$E146*$I146^2+$F146*$N146,0)","v":0.66929769318335008},{"$f":"IF(Q146<>0,-$J146*SIN($O146)+$K146*COS($O146)-2*$P146*$I146+$F146*$I146^2-$E146*$N146,0)","v":0.43794190542273226},{"$f":"IF(Q146<>0,-$G146*SIN(O146)+$H146*COS(O146)-$E146*$I146,0)","v":8.696329526479607E-2},{"$f":"$G146*COS($O146)+$H146*SIN($O146)+$F146*$I146","v":-1.4780838220519128},{"$f":"-$G146*SIN($O146)+$H146*COS($O146)-$E146*$I146","v":8.696329526479607E-2},null,4.7930471798921257,4.7958138748514241,-3.2872894124170822,-3.2336388708316708,-6.1067274979919796E-2,-4.2137324903398221E-2,1.9527268149427128,-3.1138387876596503,2.8456099680294176,4.791414828754287,-3.3140197870469539,-3.4631274140635897,null,false,null,1.9980529276831085,null,null,null,-11.884968302376532,-62.419738749966307,106,1.9980529276831085,-54.461971731634577,3.2884415996023542,{"$f":"1/2*(INERTIA+mazalazo*($C146^2+$D146^2))*$I146^2","v":13.633606975882312},-62.419738749966307,-11.884968302376532,-54.461971731634577,16.922048575484666,3.1853287540593413,20.107377329544008,null,1.9980529276831085,1.3748518621209735,{"$f":"$H146-($I146*$C146)","v":-0.54961509891686466},1.4806398615919076,7.504443736155082,1.1136032059665344,{"$f":"BL145+mazalazo*($I146*(BM146^2+BN146^2)+BM146*BR146-BN146*BQ146)*$BS146*DT","v":-102.4578999068695},4.791414828754287,-3.3140197870469539,-5.5931686854920217,1.6299838237776021,-0.19950796068906898,-2.8258269158441158,-0.75000800867746142,0.30101191030026503,0.29511756710521231]
[0,107,4.7871603833272536,-3.3670848862535845,-5.6205682214735546,1.6319859174321494,-0.2518454614745062,-2.8044150211093202,-0.46960676324367301,{"$f":"IF(($G147+$I147*$D147)^2+($H147-$I147*$D147)^2<>0,-mew*($G147+$I147*$D147)/SQRT(($G147+$I147*$D147)^2+($H147-$I147*$C147)^2),0)","v":-2.7674299577673942},{"$f":"-mew*($H147-$C147*$I147)/SQRT(($G147+$D147*$I147)^2+($H147-$I147*$C147)^2)","v":1.1581586371700374},-0.46960676324367301,{"$f":"($I147-$I146)/DT","v":0.28932853266821484},{"$f":"IF(Q147<>0,mazalazo*(($D147*$J147-$C147*$K147)-2*$I147*($C147*$G147+$D147*$H147))/(INERTIA+mazalazo*($C147^2+$D147^2)),0)","v":0.28359117234555459},-3.4719792930084843,{"$f":"IF(Q147<>0,G147*COS(O147)+H147*SIN(O147)+F147*$I147,0)","v":-1.437943584351193},-54.706444774581392,{"$f":"R146+mazalazo*($I147^2*($E147*$P147+$F147*$U147))*DT","v":120.16976142931414},{"$f":"IF(Q147<>0,$J147*COS($O147)+$K147*SIN($Z147)+2*$U147*$I147+$E147*$I147^2+$F147*$N147,0)","v":0.59746182124089309},{"$f":"IF(Q147<>0,-$J147*SIN($O147)+$K147*COS($O147)-2*$P147*$I147+$F147*$I147^2-$E147*$N147,0)","v":0.40556681055985488},{"$f":"IF(Q147<>0,-$G147*SIN(O147)+$H147*COS(O147)-$E147*$I147,0)","v":9.4987830676881657E-2},{"$f":"$G147*COS($O147)+$H147*SIN($O147)+$F147*$I147","v":-1.437943584351193},{"$f":"-$G147*SIN($O147)+$H147*COS($O147)-$E147*$I147","v":9.4987830676881657E-2},null,4.7892876060407703,4.7930471798921257,-3.3405523366502692,-3.2872894124170822,-8.0174078455352391E-2,-6.1067274979919796E-2,1.9896298175386078,-3.1160923534667586,2.8086397669580903,4.7871603833272536,-3.3670848862535845,-3.4719792930084843,null,false,null,2.0169024836046474,null,null,null,-12.029223546925218,-62.448810375358555,107,2.0169024836046474,-54.706444774581392,3.1150566596301843,{"$f":"1/2*(INERTIA+mazalazo*($C147^2+$D147^2))*$I147^2","v":13.426172742721345},-62.448810375358555,-12.029223546925218,-54.706444774581392,16.541229402351529,3.0145062793741886,19.555735681725718,null,2.0169024836046474,1.3293603735257304,{"$f":"$H147-($I147*$C147)","v":-0.55633212836666779},1.4410775273223353,7.1685256292599435,1.1581586371700374,{"$f":"BL146+mazalazo*($I147*(BM147^2+BN147^2)+BM147*BR147-BN147*BQ147)*$BS147*DT","v":-101.20243929033965},4.7871603833272536,-3.3670848862535845,-5.6205682214735546,1.6319859174321494,-0.2518454614745062,-2.8044150211093202,-0.73129230785865984,0.28932853266821484,0.28359117234555459]
[0,108,4.7819226704001192,-3.4197385048306144,-5.6472149076023523,1.634123512608973,-0.30383415363935912,-2.7821695662944252,-0.46436742896648886,{"$f":"IF(($G148+$I148*$D148)^2+($H148-$I148*$D148)^2<>0,-mew*($G148+$I148*$D148)/SQRT(($G148+$I148*$D148)^2+($H148-$I148*$C148)^2),0)","v":-2.7486517807220823},{"$f":"-mew*($H148-$C148*$I148)/SQRT(($G148+$D148*$I148)^2+($H148-$I148*$C148)^2)","v":1.2020455017732588},-0.46436742896648892,{"$f":"($I148-$I147)/DT","v":0.27795531624155329},{"$f":"IF(Q148<>0,mazalazo*(($D148*$J148-$C148*$K148)-2*$I148*($C148*$G148+$D148*$H148))/(INERTIA+mazalazo*($C148^2+$D148^2)),0)","v":0.27236926172718201},-3.4807324128289294,{"$f":"IF(Q148<>0,G148*COS(O148)+H148*SIN(O148)+F148*$I148,0)","v":-1.397866577695134},-54.944222633186705,{"$f":"R147+mazalazo*($I148^2*($E148*$P148+$F148*$U148))*DT","v":120.26806183818458},{"$f":"IF(Q148<>0,$J148*COS($O148)+$K148*SIN($Z148)+2*$U148*$I148+$E148*$I148^2+$F148*$N148,0)","v":0.52583572176440385},{"$f":"IF(Q148<>0,-$J148*SIN($O148)+$K148*COS($O148)-2*$P148*$I148+$F148*$I148^2-$E148*$N148,0)","v":0.37308998563160189},{"$f":"IF(Q148<>0,-$G148*SIN(O148)+$H148*COS(O148)-$E148*$I148,0)","v":0.10239617005991208},{"$f":"$G148*COS($O148)+$H148*SIN($O148)+$F148*$I148","v":-1.397866577695134},{"$f":"-$G148*SIN($O148)+$H148*COS($O148)-$E148*$I148","v":0.10239617005991208},null,4.7845415268636859,4.7892876060407703,-3.3934116955420994,-3.3405523366502692,-9.947489021047691E-2,-8.0174078455352391E-2,2.0261149854518439,-3.119017518181491,2.7720390702452717,4.7819226704001192,-3.4197385048306144,-3.4807324128289294,null,false,null,2.0357520395261859,null,null,null,-12.171113209195827,-62.475086905603497,108,2.0357520395261859,-54.944222633186705,2.9467739170200664,{"$f":"1/2*(INERTIA+mazalazo*($C148^2+$D148^2))*$I148^2","v":13.227631772392321},-62.475086905603497,-12.171113209195827,-54.944222633186705,16.174405689412389,2.848752299394377,19.023157988806766,null,2.0357520395261859,1.2841810235865381,{"$f":"$H148-($I148*$C148)","v":-0.5616004303241553},1.4016119094385739,6.8599361089091921,1.2020455017732588,{"$f":"BL147+mazalazo*($I148*(BM148^2+BN148^2)+BM148*BR148-BN148*BQ148)*$BS148*DT","v":-99.97497113584464},4.7819226704001192,-3.4197385048306144,-5.6472149076023523,1.634123512608973,-0.30383415363935912,-2.7821695662944252,-0.71420637473695958,0.27795531624155329,0.27236926172718201]
[0,109,4.7757083612590367,-3.4719650497189209,-5.6731098477442119,1.6363851361146085,-0.3554638841497984,-2.7591032174585979,-0.45933684004196684,{"$f":"IF(($G149+$I149*$D149)^2+($H149-$I149*$D149)^2<>0,-mew*($G149+$I149*$D149)/SQRT(($G149+$I149*$D149)^2+($H149-$I149*$C149)^2),0)","v":-2.7293469103213175},{"$f":"-mew*($H149-$C149*$I149)/SQRT(($G149+$D149*$I149)^2+($H149-$I149*$C149)^2)","v":1.2452571795093095},-0.45933684004196684,{"$f":"($I149-$I148)/DT","v":0.26688103133367352},{"$f":"IF(Q149<>0,mazalazo*(($D149*$J149-$C149*$K149)-2*$I149*($C149*$G149+$D149*$H149))/(INERTIA+mazalazo*($C149^2+$D149^2)),0)","v":0.26144079089164962},-3.4893907082821234,{"$f":"IF(Q149<>0,G149*COS(O149)+H149*SIN(O149)+F149*$I149,0)","v":-1.3578524189475178},-55.17532040765019,{"$f":"R148+mazalazo*($I149^2*($E149*$P149+$F149*$U149))*DT","v":120.36210275451366},{"$f":"IF(Q149<>0,$J149*COS($O149)+$K149*SIN($Z149)+2*$U149*$I149+$E149*$I149^2+$F149*$N149,0)","v":0.454450544024814},{"$f":"IF(Q149<>0,-$J149*SIN($O149)+$K149*COS($O149)-2*$P149*$I149+$F149*$I149^2-$E149*$N149,0)","v":0.34056178747808219},{"$f":"IF(Q149<>0,-$G149*SIN(O149)+$H149*COS(O149)-$E149*$I149,0)","v":0.1091871114359062},{"$f":"$G149*COS($O149)+$H149*SIN($O149)+$F149*$I149","v":-1.3578524189475178},{"$f":"-$G149*SIN($O149)+$H149*COS($O149)-$E149*$I149","v":0.1091871114359062},null,4.778815515829578,4.7845415268636859,-3.4458517772747674,-3.3934116955420994,-0.11898755995390045,-9.947489021047691E-2,2.0621356996554763,-3.1226006747722002,2.7358421184322115,4.7757083612590367,-3.4719650497189209,-3.4893907082821234,null,false,null,2.0546015954477248,null,null,null,-12.310540104134928,-62.498779048550141,109,2.0546015954477248,-55.17532040765019,2.7835275254180138,{"$f":"1/2*(INERTIA+mazalazo*($C149^2+$D149^2))*$I149^2","v":13.037703994404785},-62.498779048550141,-12.310540104134928,-55.17532040765019,15.821231519822799,2.6880032983133191,18.509234818136118,null,2.0546015954477248,1.2393375705242411,{"$f":"$H149-($I149*$C149)","v":-0.56544442983587206},1.3622353016073774,6.5753812671776197,1.2452571795093095,{"$f":"BL148+mazalazo*($I149*(BM149^2+BN149^2)+BM149*BR149-BN149*BQ149)*$BS149*DT","v":-98.773171966458264},4.7757083612590367,-3.4719650497189209,-5.6731098477442119,1.6363851361146085,-0.3554638841497984,-2.7591032174585979,-0.69853851111732435,0.26688103133367352,0.26144079089164962]
[0,110,4.7685243143318266,-3.5237491677299015,-5.6982541444672234,1.638759298528341,-0.40672494921882568,-2.7352287567039339,-0.45450956651645402,{"$f":"IF(($G150+$I150*$D150)^2+($H150-$I150*$D150)^2<>0,-mew*($G150+$I150*$D150)/SQRT(($G150+$I150*$D150)^2+($H150-$I150*$C150)^2),0)","v":-2.7095391004911047},{"$f":"-mew*($H150-$C150*$I150)/SQRT(($G150+$D150*$I150)^2+($H150-$I150*$C150)^2)","v":1.2877879728083561},-0.45450956651645408,{"$f":"($I150-$I149)/DT","v":0.256094814414002},{"$f":"IF(Q150<>0,mazalazo*(($D150*$J150-$C150*$K150)-2*$I150*($C150*$G150+$D150*$H150))/(INERTIA+mazalazo*($C150^2+$D150^2)),0)","v":0.250795074910514},-3.4979580117730498,{"$f":"IF(Q150<>0,G150*COS(O150)+H150*SIN(O150)+F150*$I150,0)","v":-1.3179009178368912},-55.399751929750344,{"$f":"R149+mazalazo*($I150^2*($E150*$P150+$F150*$U150))*DT","v":120.45203811323621},{"$f":"IF(Q150<>0,$J150*COS($O150)+$K150*SIN($Z150)+2*$U150*$I150+$E150*$I150^2+$F150*$N150,0)","v":0.38334234595370581},{"$f":"IF(Q150<>0,-$J150*SIN($O150)+$K150*COS($O150)-2*$P150*$I150+$F150*$I150^2-$E150*$N150,0)","v":0.30803013529085077},{"$f":"IF(Q150<>0,-$G150*SIN(O150)+$H150*COS(O150)-$E150*$I150,0)","v":0.11536036957933904},{"$f":"$G150*COS($O150)+$H150*SIN($O150)+$F150*$I150","v":-1.3179009178368912},{"$f":"-$G150*SIN($O150)+$H150*COS($O150)-$E150*$I150","v":0.11536036957933904},null,4.7721163377954312,4.778815515829578,-3.4978571087244115,-3.4458517772747674,-0.13873069974247415,-0.11898755995390045,2.0976455665261464,-3.1268259071854292,2.7000832955362739,4.7685243143318266,-3.5237491677299015,-3.4979580117730498,null,false,null,2.0734511513692633,null,null,null,-12.447408098689174,-62.520085846699963,110,2.0734511513692633,-55.399751929750344,2.6252562661572032,{"$f":"1/2*(INERTIA+mazalazo*($C150^2+$D150^2))*$I150^2","v":12.856120200533022},-62.520085846699963,-12.447408098689174,-55.399751929750344,15.481376466690225,2.5322003367859054,18.013576803476131,null,2.0734511513692633,1.1948527575188077,{"$f":"$H150-($I150*$C150)","v":-0.56788883767380449},1.3229402269584229,6.3120773552083698,1.2877879728083557,{"$f":"BL149+mazalazo*($I150*(BM150^2+BN150^2)+BM150*BR150-BN150*BQ150)*$BS150*DT","v":-97.595013192736985},4.7685243143318266,-3.5237491677299015,-5.6982541444672234,1.638759298528341,-0.40672494921882568,-2.7352287567039339,-0.68411022378960318,0.256094814414002,0.250795074910514]
[0,111,4.7603775667490096,-3.5750757475708501,-5.7226489022868918,1.6412345109798088,-0.45760809111546769,-2.7105590650946492,-0.44988037655667301,{"$f":"IF(($G151+$I151*$D151)^2+($H151-$I151*$D151)^2<>0,-mew*($G151+$I151*$D151)/SQRT(($G151+$I151*$D151)^2+($H151-$I151*$C151)^2),0)","v":-2.6892519201465701},{"$f":"-mew*($H151-$C151*$I151)/SQRT(($G151+$D151*$I151)^2+($H151-$I151*$C151)^2)","v":1.3296330734409338},-0.44988037655667307,{"$f":"($I151-$I150)/DT","v":0.24558615487017332},{"$f":"IF(Q151<>0,mazalazo*(($D151*$J151-$C151*$K151)-2*$I151*($C151*$G151+$D151*$H151))/(INERTIA+mazalazo*($C151^2+$D151^2)),0)","v":0.24042177536291562},-3.5064380570889577,{"$f":"IF(Q151<>0,G151*COS(O151)+H151*SIN(O151)+F151*$I151,0)","v":-1.2780120578645486},-55.617529803882938,{"$f":"R150+mazalazo*($I151^2*($E151*$P151+$F151*$U151))*DT","v":120.53801385120734},{"$f":"IF(Q151<>0,$J151*COS($O151)+$K151*SIN($Z151)+2*$U151*$I151+$E151*$I151^2+$F151*$N151,0)","v":0.31255253675458772},{"$f":"IF(Q151<>0,-$J151*SIN($O151)+$K151*COS($O151)-2*$P151*$I151+$F151*$I151^2-$E151*$N151,0)","v":0.27554062919963562},{"$f":"IF(Q151<>0,-$G151*SIN(O151)+$H151*COS(O151)-$E151*$I151,0)","v":0.12091653160695692},{"$f":"$G151*COS($O151)+$H151*SIN($O151)+$F151*$I151","v":-1.2780120578645486},{"$f":"-$G151*SIN($O151)+$H151*COS($O151)-$E151*$I151","v":0.12091653160695692},null,4.7644509405404181,4.7721163377954312,-3.5494124576503756,-3.4978571087244115,-0.15872375693183163,-0.13873069974247415,2.1325985753620875,-3.1316749625593441,2.6647970621364734,4.7603775667490096,-3.5750757475708501,-3.5064380570889577,null,false,null,2.0923007072908022,null,null,null,-12.581622151170656,-62.539195108490638,111,2.0923007072908022,-55.617529803882938,2.4719034414945518,{"$f":"1/2*(INERTIA+mazalazo*($C151^2+$D151^2))*$I151^2","v":12.682621679010841},-62.539195108490638,-12.581622151170656,-55.617529803882938,15.154525120505394,2.3812889388337624,17.535814059339156,null,2.0923007072908022,1.1507483324203358,{"$f":"$H151-($I151*$C151)","v":-0.56895861281366589},1.283719450527659,6.0676557477329531,1.3296330734409336,{"$f":"BL150+mazalazo*($I151*(BM151^2+BN151^2)+BM151*BR151-BN151*BQ151)*$BS151*DT","v":-96.438716497696163},4.7603775667490096,-3.5750757475708501,-5.7226489022868918,1.6412345109798088,-0.45760809111546769,-2.7105590650946492,-0.6707700420146151,0.24558615487017332,0.24042177536291562]
[0,112,4.7512753259704743,-3.6259299215543979,-5.7462952305669468,1.6437993011200853,-0.50810449440253758,-2.6851071062219738,-0.44544423003504147,{"$f":"IF(($G152+$I152*$D152)^2+($H152-$I152*$D152)^2<>0,-mew*($G152+$I152*$D152)/SQRT(($G152+$I152*$D152)^2+($H152-$I152*$C152)^2),0)","v":-2.6685087245751555},{"$f":"-mew*($H152-$C152*$I152)/SQRT(($G152+$D152*$I152)^2+($H152-$I152*$C152)^2)","v":1.3707885274054048},-0.44544423003504152,{"$f":"($I152-$I151)/DT","v":0.23534488239919268},{"$f":"IF(Q152<>0,mazalazo*(($D152*$J152-$C152*$K152)-2*$I152*($C152*$G152+$D152*$H152))/(INERTIA+mazalazo*($C152^2+$D152^2)),0)","v":0.23031088803805072},-3.5148344830129301,{"$f":"IF(Q152<>0,G152*COS(O152)+H152*SIN(O152)+F152*$I152,0)","v":-1.2381859778098367},-55.828665449945497,{"$f":"R151+mazalazo*($I152^2*($E152*$P152+$F152*$U152))*DT","v":120.6201682498421},{"$f":"IF(Q152<>0,$J152*COS($O152)+$K152*SIN($Z152)+2*$U152*$I152+$E152*$I152^2+$F152*$N152,0)","v":0.24212827071405357},{"$f":"IF(Q152<>0,-$J152*SIN($O152)+$K152*COS($O152)-2*$P152*$I152+$F152*$I152^2-$E152*$N152,0)","v":0.24313666713176896},{"$f":"IF(Q152<>0,-$G152*SIN(O152)+$H152*COS(O152)-$E152*$I152,0)","v":0.12585701476732059},{"$f":"$G152*COS($O152)+$H152*SIN($O152)+$F152*$I152","v":-1.2381859778098367},{"$f":"-$G152*SIN($O152)+$H152*COS($O152)-$E152*$I152","v":0.12585701476732059},null,4.7558264463597419,4.7644509405404181,-3.600502834562624,-3.5494124576503756,-0.17898709320261533,-0.15872375693183163,2.1669492580618122,-3.1371272319706178,2.6300178892534167,4.7512753259704743,-3.6259299215543979,-3.5148344830129301,null,false,null,2.1111502632123411,null,null,null,-12.713088345379353,-62.556283832489136,112,2.1111502632123411,-55.828665449945497,2.3234167557165644,{"$f":"1/2*(INERTIA+mazalazo*($C152^2+$D152^2))*$I152^2","v":12.516959858408788},-62.556283832489136,-12.713088345379353,-55.828665449945497,14.840376614125352,2.2352189674074623,17.075595581532816,null,2.1111502632123411,1.1070450676652799,{"$f":"$H152-($I152*$C152)","v":-0.56867892696056499},1.2445659901391504,5.8400883970616055,1.3707885274054044,{"$f":"BL151+mazalazo*($I152*(BM152^2+BN152^2)+BM152*BR152-BN152*BQ152)*$BS152*DT","v":-95.302717220588065},4.7512753259704743,-3.6259299215543979,-5.7462952305669468,1.6437993011200853,-0.50810449440253758,-2.6851071062219738,-0.65838866653462302,0.23534488239919268,0.23031088803805072]
[0,113,4.7412249614879434,-3.6762970670044912,-5.7691942460870429,1.6464422283269866,-0.5582057816675563,-2.6588859104457621,-0.44119627234095465,{"$f":"IF(($G153+$I153*$D153)^2+($H153-$I153*$D153)^2<>0,-mew*($G153+$I153*$D153)/SQRT(($G153+$I153*$D153)^2+($H153-$I153*$C153)^2),0)","v":-2.6473326302816513},{"$f":"-mew*($H153-$C153*$I153)/SQRT(($G153+$D153*$I153)^2+($H153-$I153*$C153)^2)","v":1.4112511982797511},-0.4411962723409546,{"$f":"($I153-$I152)/DT","v":0.22536115501972187},{"$f":"IF(Q153<>0,mazalazo*(($D153*$J153-$C153*$K153)-2*$I153*($C153*$G153+$D153*$H153))/(INERTIA+mazalazo*($C153^2+$D153^2)),0)","v":0.22045273125511333},-3.5231508368207956,{"$f":"IF(Q153<>0,G153*COS(O153)+H153*SIN(O153)+F153*$I153,0)","v":-1.1984229538728446},-56.033169147820765,{"$f":"R152+mazalazo*($I153^2*($E153*$P153+$F153*$U153))*DT","v":120.69863226176096},{"$f":"IF(Q153<>0,$J153*COS($O153)+$K153*SIN($Z153)+2*$U153*$I153+$E153*$I153^2+$F153*$N153,0)","v":0.17212279230810607},{"$f":"IF(Q153<>0,-$J153*SIN($O153)+$K153*COS($O153)-2*$P153*$I153+$F153*$I153^2-$E153*$N153,0)","v":0.21085956020453178},{"$f":"IF(Q153<>0,-$G153*SIN(O153)+$H153*COS(O153)-$E153*$I153,0)","v":0.13018402640107407},{"$f":"$G153*COS($O153)+$H153*SIN($O153)+$F153*$I153","v":-1.1984229538728446},{"$f":"-$G153*SIN($O153)+$H153*COS($O153)-$E153*$I153","v":0.13018402640107407},null,4.7462501437292088,4.7558264463597419,-3.6511134942794445,-3.600502834562624,-0.19954207038573218,-0.17898709320261533,2.200652850083662,-3.1431597399370954,2.5957801935657208,4.7412249614879434,-3.6762970670044912,-3.5231508368207956,null,false,null,2.1299998191338796,null,null,null,-12.841713919459373,-62.571518623860683,113,2.1299998191338796,-56.033169147820765,2.1797481856489647,{"$f":"1/2*(INERTIA+mazalazo*($C153^2+$D153^2))*$I153^2","v":12.358895960825025},-62.571518623860683,-12.841713919459373,-56.033169147820765,14.53864414647399,2.0939444900795081,16.6325886365535,null,2.1299998191338796,1.0637627803128098,{"$f":"$H153-($I153*$C153)","v":-0.56707513110739516},1.2054731258303972,5.6276288023888839,1.4112511982797513,{"$f":"BL152+mazalazo*($I153*(BM153^2+BN153^2)+BM153*BR153-BN153*BQ153)*$BS153*DT","v":-94.185634077609649},4.7412249614879434,-3.6762970670044912,-5.7691942460870429,1.6464422283269866,-0.5582057816675563,-2.6588859104457621,-0.64685512694155178,0.22536115501972187,0.22045273125511333]
[0,114,4.7302339966121743,-3.7261628073719186,-5.7913470752891891,1.6491518981848585,-0.60790400881272,-2.6319085598398244,-0.43713182840644971,{"$f":"IF(($G154+$I154*$D154)^2+($H154-$I154*$D154)^2<>0,-mew*($G154+$I154*$D154)/SQRT(($G154+$I154*$D154)^2+($H154-$I154*$C154)^2),0)","v":-2.6257464933592298},{"$f":"-mew*($H154-$C154*$I154)/SQRT(($G154+$D154*$I154)^2+($H154-$I154*$C154)^2)","v":1.4510187292422212},-0.43713182840644976,{"$f":"($I154-$I153)/DT","v":0.21562544769877798},{"$f":"IF(Q154<>0,mazalazo*(($D154*$J154-$C154*$K154)-2*$I154*($C154*$G154+$D154*$H154))/(INERTIA+mazalazo*($C154^2+$D154^2)),0)","v":0.21083793479427712},-3.5313905776654275,{"$f":"IF(Q154<>0,G154*COS(O154)+H154*SIN(O154)+F154*$I154,0)","v":-1.1587233824837493},-56.231050083229604,{"$f":"R153+mazalazo*($I154^2*($E154*$P154+$F154*$U154))*DT","v":120.77352982202414},{"$f":"IF(Q154<>0,$J154*COS($O154)+$K154*SIN($Z154)+2*$U154*$I154+$E154*$I154^2+$F154*$N154,0)","v":0.10259573264438615},{"$f":"IF(Q154<>0,-$J154*SIN($O154)+$K154*COS($O154)-2*$P154*$I154+$F154*$I154^2-$E154*$N154,0)","v":0.17874864691542514},{"$f":"IF(Q154<>0,-$G154*SIN(O154)+$H154*COS(O154)-$E154*$I154,0)","v":0.13390052604782987},{"$f":"$G154*COS($O154)+$H154*SIN($O154)+$F154*$I154","v":-1.1587233824837493},{"$f":"-$G154*SIN($O154)+$H154*COS($O154)-$E154*$I154","v":0.13390052604782987},null,4.7357294790500593,4.7462501437292088,-3.7012299371882049,-3.6511134942794445,-0.22041114389927874,-0.19954207038573218,2.2336654517813068,-3.1497471428286632,2.5621182745099809,4.7302339966121743,-3.7261628073719186,-3.5313905776654275,null,false,null,2.1488493750554185,null,null,null,-12.967407289468765,-62.585056102568146,114,2.1488493750554185,-56.231050083229604,2.0408538419857001,{"$f":"1/2*(INERTIA+mazalazo*($C154^2+$D154^2))*$I154^2","v":12.20820066401809},-62.585056102568146,-12.967407289468765,-56.231050083229604,14.249054506003791,1.9574236362263946,16.206478142230186,null,2.1488493750554185,1.0209203521138766,{"$f":"$H154-($I154*$C154)","v":-0.56417272411039665},1.1664344079246236,5.4287648541873006,1.4510187292422212,{"$f":"BL153+mazalazo*($I154*(BM154^2+BN154^2)+BM154*BR154-BN154*BQ154)*$BS154*DT","v":-93.0862439474014},4.7302339966121743,-3.7261628073719186,-5.7913470752891891,1.6491518981848585,-0.60790400881272,-2.6319085598398244,-0.6360737109042347,0.21562544769877798,0.21083793479427712]
[0,115,4.7183101003525749,-3.7755130130728793,-5.8127548562152347,1.6519169762787675,-0.65719165997096052,-2.6041881738643053,-0.43324639693478112,{"$f":"IF(($G155+$I155*$D155)^2+($H155-$I155*$D155)^2<>0,-mew*($G155+$I155*$D155)/SQRT(($G155+$I155*$D155)^2+($H155-$I155*$C155)^2),0)","v":-2.6037728914458267},{"$f":"-mew*($H155-$C155*$I155)/SQRT(($G155+$D155*$I155)^2+($H155-$I155*$C155)^2)","v":1.490089503946604},-0.43324639693478123,{"$f":"($I155-$I154)/DT","v":0.20612854158695776},{"$f":"IF(Q155<>0,mazalazo*(($D155*$J155-$C155*$K155)-2*$I155*($C155*$G155+$D155*$H155))/(INERTIA+mazalazo*($C155^2+$D155^2)),0)","v":0.20145742943405151},-3.5395570798522549,{"$f":"IF(Q155<>0,G155*COS(O155)+H155*SIN(O155)+F155*$I155,0)","v":-1.1190877637984027},-56.422316394741038,{"$f":"R154+mazalazo*($I155^2*($E155*$P155+$F155*$U155))*DT","v":120.84497814452635},{"$f":"IF(Q155<>0,$J155*COS($O155)+$K155*SIN($Z155)+2*$U155*$I155+$E155*$I155^2+$F155*$N155,0)","v":3.3613357216148165E-2},{"$f":"IF(Q155<>0,-$J155*SIN($O155)+$K155*COS($O155)-2*$P155*$I155+$F155*$I155^2-$E155*$N155,0)","v":0.14684140640770593},{"$f":"IF(Q155<>0,-$G155*SIN(O155)+$H155*COS(O155)-$E155*$I155,0)","v":0.13701018968057355},{"$f":"$G155*COS($O155)+$H155*SIN($O155)+$F155*$I155","v":-1.1190877637984027},{"$f":"-$G155*SIN($O155)+$H155*COS($O155)-$E155*$I155","v":0.13701018968057355},null,4.7242720484823746,4.7357294790500593,-3.750837910222399,-3.7012299371882049,-0.24161796471229716,-0.22041114389927874,2.265944189185308,-3.1568617362635032,2.5290662538198379,4.7183101003525749,-3.7755130130728793,-3.5395570798522549,null,false,null,2.1676989309769574,null,null,null,-13.090078067641647,-62.597043302838955,115,2.1676989309769574,-56.422316394741038,1.9066938227394241,{"$f":"1/2*(INERTIA+mazalazo*($C155^2+$D155^2))*$I155^2","v":12.064653772104537},-62.597043302838955,-13.090078067641647,-56.422316394741038,13.97134759484396,1.8256184469463506,15.796966041790311,null,2.1676989309769574,0.97853574952324396,{"$f":"$H155-($I155*$C155)","v":-0.55999732326556684},1.1274436638518204,5.2421808580281066,1.4900895039466038,{"$f":"BL154+mazalazo*($I155*(BM155^2+BN155^2)+BM155*BR155-BN155*BQ155)*$BS155*DT","v":-92.003460737797482},4.7183101003525749,-3.7755130130728793,-5.8127548562152347,1.6519169762787675,-0.65719165997096052,-2.6041881738643053,-0.62596149012578595,0.20612854158695776,0.20145742943405151]
[0,116,4.7054610793956479,-3.8243338020644901,-5.8334187401480166,1.6547262013427562,-0.70606164211626288,-2.5757378957851458,-0.42953564482049139,{"$f":"IF(($G156+$I156*$D156)^2+($H156-$I156*$D156)^2<>0,-mew*($G156+$I156*$D156)/SQRT(($G156+$I156*$D156)^2+($H156-$I156*$C156)^2),0)","v":-2.5814341093250426},{"$f":"-mew*($H156-$C156*$I156)/SQRT(($G156+$D156*$I156)^2+($H156-$I156*$C156)^2)","v":1.5284626064164024},-0.42953564482049145,{"$f":"($I156-$I155)/DT","v":0.196861513859304},{"$f":"IF(Q156<>0,mazalazo*(($D156*$J156-$C156*$K156)-2*$I156*($C156*$G156+$D156*$H156))/(INERTIA+mazalazo*($C156^2+$D156^2)),0)","v":0.19230243709286343},-3.5476536360095929,{"$f":"IF(Q156<>0,G156*COS(O156)+H156*SIN(O156)+F156*$I156,0)","v":-1.0795166858908831},-56.606975221744165,{"$f":"R155+mazalazo*($I156^2*($E156*$P156+$F156*$U156))*DT","v":120.91308800411171},{"$f":"IF(Q156<>0,$J156*COS($O156)+$K156*SIN($Z156)+2*$U156*$I156+$E156*$I156^2+$F156*$N156,0)","v":-3.4751235126192548E-2},{"$f":"IF(Q156<>0,-$J156*SIN($O156)+$K156*COS($O156)-2*$P156*$I156+$F156*$I156^2-$E156*$N156,0)","v":0.11517357110894388},{"$f":"IF(Q156<>0,-$G156*SIN(O156)+$H156*COS(O156)-$E156*$I156,0)","v":0.13951737605390369},{"$f":"$G156*COS($O156)+$H156*SIN($O156)+$F156*$I156","v":-1.0795166858908831},{"$f":"-$G156*SIN($O156)+$H156*COS($O156)-$E156*$I156","v":0.13951737605390369},null,4.711885589874111,4.7242720484823746,-3.7999234075686847,-3.750837910222399,-0.26318749086859095,-0.24161796471229716,2.2974473732973646,-3.1644734714906155,2.4966580180505433,4.7054610793956479,-3.8243338020644901,-3.5476536360095929,null,false,null,2.1865484868984959,null,null,null,-13.209637075315971,-62.607618063513826,116,2.1865484868984959,-56.606975221744165,1.7772320600067029,{"$f":"1/2*(INERTIA+mazalazo*($C156^2+$D156^2))*$I156^2","v":11.928043894435437},-62.607618063513826,-13.209637075315971,-56.606975221744165,13.70527595444214,1.6984947188537234,15.403770673295863,null,2.1865484868984959,0.9366260435623095,{"$f":"$H156-($I156*$C156)","v":-0.55457463686921082},1.0884950038184844,5.0667267196887718,1.5284626064164024,{"$f":"BL155+mazalazo*($I156*(BM156^2+BN156^2)+BM156*BR156-BN156*BQ156)*$BS156*DT","v":-90.936317566345622},4.7054610793956479,-3.8243338020644901,-5.8334187401480166,1.6547262013427562,-0.70606164211626288,-2.5757378957851458,-0.61644631192119526,0.196861513859304,0.19230243709286343]
[0,117,4.6916948701873711,-3.8726115401714734,-5.8533398929688802,1.6575683978016753,-0.75450727943756934,-2.5465708798577946,-0.42599540174958045,{"$f":"IF(($G157+$I157*$D157)^2+($H157-$I157*$D157)^2<>0,-mew*($G157+$I157*$D157)/SQRT(($G157+$I157*$D157)^2+($H157-$I157*$C157)^2),0)","v":-2.55875212823599},{"$f":"-mew*($H157-$C157*$I157)/SQRT(($G157+$D157*$I157)^2+($H157-$I157*$C157)^2)","v":1.5661377800972023},-0.42599540174958039,{"$f":"($I157-$I156)/DT","v":0.18781572816076927},{"$f":"IF(Q157<>0,mazalazo*(($D157*$J157-$C157*$K157)-2*$I157*($C157*$G157+$D157*$H157))/(INERTIA+mazalazo*($C157^2+$D157^2)),0)","v":0.18336446157613673},-3.5556834601571898,{"$f":"IF(Q157<>0,G157*COS(O157)+H157*SIN(O157)+F157*$I157,0)","v":-1.0400108096457763},-56.785032753203204,{"$f":"R156+mazalazo*($I157^2*($E157*$P157+$F157*$U157))*DT","v":120.97796400495571},{"$f":"IF(Q157<>0,$J157*COS($O157)+$K157*SIN($Z157)+2*$U157*$I157+$E157*$I157^2+$F157*$N157,0)","v":-0.10241796214859122},{"$f":"IF(Q157<>0,-$J157*SIN($O157)+$K157*COS($O157)-2*$P157*$I157+$F157*$I157^2-$E157*$N157,0)","v":8.377923907107121E-2},{"$f":"IF(Q157<>0,-$G157*SIN(O157)+$H157*COS(O157)-$E157*$I157,0)","v":0.14142709515822061},{"$f":"$G157*COS($O157)+$H157*SIN($O157)+$F157*$I157","v":-1.0400108096457763},{"$f":"-$G157*SIN($O157)+$H157*COS($O157)-$E157*$I157","v":0.14142709515822061},null,4.69857797479151,4.711885589874111,-3.8484726711179817,-3.7999234075686847,-0.28514610974049825,-0.26318749086859095,2.3281346570232855,-3.1725499806960129,2.4649271645655455,4.6916948701873711,-3.8726115401714734,-3.5556834601571898,null,false,null,2.2053980428200348,null,null,null,-13.325996350489719,-62.61690940896402,117,2.2053980428200348,-56.785032753203204,1.6524361611374334,{"$f":"1/2*(INERTIA+mazalazo*($C157^2+$D157^2))*$I157^2","v":11.798168132253824},-62.61690940896402,-13.325996350489719,-56.785032753203204,13.450604293391258,1.5760218427884922,15.02662613617975,null,2.2053980428200348,0.89520742943783871,{"$f":"$H157-($I157*$C157)","v":-0.54793043874587988},1.0495828254239659,4.9013927652211686,1.5661377800972025,{"$f":"BL156+mazalazo*($I157*(BM157^2+BN157^2)+BM157*BR157-BN157*BQ157)*$BS157*DT","v":-89.883951650515613},4.6916948701873711,-3.8726115401714734,-5.8533398929688802,1.6575683978016753,-0.75450727943756934,-2.5465708798577946,-0.60746515725846995,0.18781572816076927,0.18336446157613673]
[0,118,4.6770195311233103,-3.9203328411785781,-5.8725194962443226,1.6604324877460512,-0.80252230754692611,-2.5167002792899948,-0.42262165496830223,{"$f":"IF(($G158+$I158*$D158)^2+($H158-$I158*$D158)^2<>0,-mew*($G158+$I158*$D158)/SQRT(($G158+$I158*$D158)^2+($H158-$I158*$C158)^2),0)","v":-2.5357486189680576},{"$f":"-mew*($H158-$C158*$I158)/SQRT(($G158+$D158*$I158)^2+($H158-$I158*$C158)^2)","v":1.6031153861782961},-0.42262165496830234,{"$f":"($I158-$I157)/DT","v":0.17898282566026671},{"$f":"IF(Q158<>0,mazalazo*(($D158*$J158-$C158*$K158)-2*$I158*($C158*$G158+$D158*$H158))/(INERTIA+mazalazo*($C158^2+$D158^2)),0)","v":0.17463527993448633},-3.5636496906761681,{"$f":"IF(Q158<>0,G158*COS(O158)+H158*SIN(O158)+F158*$I158,0)","v":-1.0005708543455754},-56.956494277033237,{"$f":"R157+mazalazo*($I158^2*($E158*$P158+$F158*$U158))*DT","v":121.03970483574811},{"$f":"IF(Q158<>0,$J158*COS($O158)+$K158*SIN($Z158)+2*$U158*$I158+$E158*$I158^2+$F158*$N158,0)","v":-0.16929965737625502},{"$f":"IF(Q158<>0,-$J158*SIN($O158)+$K158*COS($O158)-2*$P158*$I158+$F158*$I158^2-$E158*$N158,0)","v":5.2690986382377458E-2},{"$f":"IF(Q158<>0,-$G158*SIN(O158)+$H158*COS(O158)-$E158*$I158,0)","v":0.14274497877854442},{"$f":"$G158*COS($O158)+$H158*SIN($O158)+$F158*$I158","v":-1.0005708543455754},{"$f":"-$G158*SIN($O158)+$H158*COS($O158)-$E158*$I158","v":0.14274497877854442},null,4.6843572006553407,4.69857797479151,-3.8964721906750257,-3.8484726711179817,-0.30752177233969319,-0.28514610974049825,2.3579671887973741,-3.1810566110751042,2.4339069515318874,4.6770195311233103,-3.9203328411785781,-3.5636496906761681,null,false,null,2.2242475987415737,null,null,null,-13.439069149952138,-62.625037920331593,118,2.2242475987415737,-56.956494277033237,1.5322772452984825,{"$f":"1/2*(INERTIA+mazalazo*($C158^2+$D158^2))*$I158^2","v":11.674831772717644},-62.625037920331593,-13.439069149952138,-56.956494277033237,13.207109018016126,1.4581726383832887,14.665281656399415,null,2.2242475987415737,0.85429524581855132,{"$f":"$H158-($I158*$C158)","v":-0.54009054472758855},1.0107018173191944,4.7452890306537858,1.6031153861782959,{"$f":"BL157+mazalazo*($I158*(BM158^2+BN158^2)+BM158*BR158-BN158*BQ158)*$BS158*DT","v":-88.845591428266005},4.6770195311233103,-3.9203328411785781,-5.8725194962443226,1.6604324877460512,-0.80252230754692611,-2.5167002792899948,-0.59896278956056892,0.17898282566026671,0.17463527993448633]
[0,119,4.6614432348489201,-3.9674845667035403,-5.8909587480542873,1.6633075023795822,-0.8501008675941466,-2.4861392349966871,-0.41941054420896245,{"$f":"IF(($G159+$I159*$D159)^2+($H159-$I159*$D159)^2<>0,-mew*($G159+$I159*$D159)/SQRT(($G159+$I159*$D159)^2+($H159-$I159*$C159)^2),0)","v":-2.5124449388356052},{"$f":"-mew*($H159-$C159*$I159)/SQRT(($G159+$D159*$I159)^2+($H159-$I159*$C159)^2)","v":1.6393963612620812},-0.41941054420896245,{"$f":"($I159-$I158)/DT","v":0.17035471672149824},{"$f":"IF(Q159<>0,mazalazo*(($D159*$J159-$C159*$K159)-2*$I159*($C159*$G159+$D159*$H159))/(INERTIA+mazalazo*($C159^2+$D159^2)),0)","v":0.16610693444415664},-3.5715553931833179,{"$f":"IF(Q159<>0,G159*COS(O159)+H159*SIN(O159)+F159*$I159,0)","v":-0.96119758394184451},-57.121364229950025,{"$f":"R158+mazalazo*($I159^2*($E159*$P159+$F159*$U159))*DT","v":121.09840351219786},{"$f":"IF(Q159<>0,$J159*COS($O159)+$K159*SIN($Z159)+2*$U159*$I159+$E159*$I159^2+$F159*$N159,0)","v":-0.23530201867826456},{"$f":"IF(Q159<>0,-$J159*SIN($O159)+$K159*COS($O159)-2*$P159*$I159+$F159*$I159^2-$E159*$N159,0)","v":2.193998007833764E-2},{"$f":"IF(Q159<>0,-$G159*SIN(O159)+$H159*COS(O159)-$E159*$I159,0)","v":0.14347725316413262},{"$f":"$G159*COS($O159)+$H159*SIN($O159)+$F159*$I159","v":-0.96119758394184451},{"$f":"-$G159*SIN($O159)+$H159*COS($O159)-$E159*$I159","v":0.14347725316413262},null,4.6692313829861156,4.6843572006553407,-3.9439087039410592,-3.8964721906750257,-0.33034414119466371,-0.30752177233969319,2.3869077620349026,-3.1899564674496355,2.4036302523853501,4.6614432348489201,-3.9674845667035403,-3.5715553931833179,null,false,null,2.2430971546631122,null,null,null,-13.548769945913838,-62.632116096911005,119,2.2430971546631122,-57.121364229950025,1.4167297763267457,{"$f":"1/2*(INERTIA+mazalazo*($C159^2+$D159^2))*$I159^2","v":11.557847989850464},-62.632116096911005,-13.548769945913838,-57.121364229950025,12.974577766177209,1.3449231853368389,14.319500951514048,null,2.2430971546631122,0.81390399366764488,{"$f":"$H159-($I159*$C159)","v":-0.53108079106951522},0.97184696200130383,4.5976281237468619,1.6393963612620812,{"$f":"BL158+mazalazo*($I159*(BM159^2+BN159^2)+BM159*BR159-BN159*BQ159)*$BS159*DT","v":-87.820545525721897},4.6614432348489201,-3.9674845667035403,-5.8909587480542873,1.6633075023795822,-0.8501008675941466,-2.4861392349966871,-0.59089063596057445,0.17035471672149824,0.16610693444415664]
[0,120,4.6449742606710904,-4.0140538258656218,-5.908658863574451,1.6661825929790712,-0.89723750036233507,-2.4549008651589657,-0.41635835676080996,{"$f":"IF(($G160+$I160*$D160)^2+($H160-$I160*$D160)^2<>0,-mew*($G160+$I160*$D160)/SQRT(($G160+$I160*$D160)^2+($H160-$I160*$C160)^2),0)","v":-2.4888621326556275},{"$f":"-mew*($H160-$C160*$I160)/SQRT(($G160+$D160*$I160)^2+($H160-$I160*$C160)^2)","v":1.6749821744224265},-0.41635835676080996,{"$f":"($I160-$I159)/DT","v":0.16192357320550274},{"$f":"IF(Q160<>0,mazalazo*(($D160*$J160-$C160*$K160)-2*$I160*($C160*$G160+$D160*$H160))/(INERTIA+mazalazo*($C160^2+$D160^2)),0)","v":0.1577717252276892},-3.5794035633124808,{"$f":"IF(Q160<>0,G160*COS(O160)+H160*SIN(O160)+F160*$I160,0)","v":-0.92189179399242549},-57.279646247662853,{"$f":"R159+mazalazo*($I160^2*($E160*$P160+$F160*$U160))*DT","v":121.15414760736728},{"$f":"IF(Q160<>0,$J160*COS($O160)+$K160*SIN($Z160)+2*$U160*$I160+$E160*$I160^2+$F160*$N160,0)","v":-0.30032360659498752},{"$f":"IF(Q160<>0,-$J160*SIN($O160)+$K160*COS($O160)-2*$P160*$I160+$F160*$I160^2-$E160*$N160,0)","v":-8.4439079481920531E-3},{"$f":"IF(Q160<>0,-$G160*SIN(O160)+$H160*COS(O160)-$E160*$I160,0)","v":0.14363071382379156},{"$f":"$G160*COS($O160)+$H160*SIN($O160)+$F160*$I160","v":-0.92189179399242549},{"$f":"-$G160*SIN($O160)+$H160*COS($O160)-$E160*$I160","v":0.14363071382379156},null,4.6532087477600053,4.6692313829861156,-3.9907691962845808,-3.9439087039410592,-0.35364475351670116,-0.33034414119466371,2.4149209596043133,-3.1992104631428191,2.3741295151730526,4.6449742606710904,-4.0140538258656218,-3.5794035633124808,{"$f":"(AJ160-AJ159)/DT","v":-0.41635835676080796},false,null,2.2619467105846511,null,null,null,-13.655014417029147,-62.638248707550019,120,2.2619467105846511,-57.279646247662853,1.3057713926761569,{"$f":"1/2*(INERTIA+mazalazo*($C160^2+$D160^2))*$I160^2","v":11.447037551952819},-62.638248707550019,-13.655014417029147,-57.279646247662853,12.752808944628976,1.2362526521544055,13.989061596783381,null,2.2619467105846511,0.77404735452451756,{"$f":"$H160-($I160*$C160)","v":-0.52092701478969228},0.93301353783538665,4.4577109607399485,1.6749821744224265,{"$f":"BL159+mazalazo*($I160*(BM160^2+BN160^2)+BM160*BR160-BN160*BQ160)*$BS160*DT","v":-86.808193263332072},4.6449742606710904,-4.0140538258656218,-5.908658863574451,1.6661825929790712,-0.89723750036233507,-2.4549008651589657,-0.58320585573025274,0.16192357320550274,0.1577717252276892]
[0,121,4.6276209870805927,-4.0600279747649877,-5.9256210754243615,1.6690470414070664,-0.94392714042132564,-2.4229982555986798,-0.41346152267369651,{"$f":"IF(($G161+$I161*$D161)^2+($H161-$I161*$D161)^2<>0,-mew*($G161+$I161*$D161)/SQRT(($G161+$I161*$D161)^2+($H161-$I161*$C161)^2),0)","v":-2.4650209378906665},{"$f":"-mew*($H161-$C161*$I161)/SQRT(($G161+$D161*$I161)^2+($H161-$I161*$C161)^2)","v":1.7098747836495563},-0.41346152267369646,{"$f":"($I161-$I160)/DT","v":0.15368182142706749},{"$f":"IF(Q161<>0,mazalazo*(($D161*$J161-$C161*$K161)-2*$I161*($C161*$G161+$D161*$H161))/(INERTIA+mazalazo*($C161^2+$D161^2)),0)","v":0.14962220354139338},-3.5871971294055234,{"$f":"IF(Q161<>0,G161*COS(O161)+H161*SIN(O161)+F161*$I161,0)","v":-0.88265429924088767},-57.43134321529427,{"$f":"R160+mazalazo*($I161^2*($E161*$P161+$F161*$U161))*DT","v":121.20701947033005},{"$f":"IF(Q161<>0,$J161*COS($O161)+$K161*SIN($Z161)+2*$U161*$I161+$E161*$I161^2+$F161*$N161,0)","v":-0.36425589271123815},{"$f":"IF(Q161<>0,-$J161*SIN($O161)+$K161*COS($O161)-2*$P161*$I161+$F161*$I161^2-$E161*$N161,0)","v":-3.8431985441025773E-2},{"$f":"IF(Q161<>0,-$G161*SIN(O161)+$H161*COS(O161)-$E161*$I161,0)","v":0.14321270247210949},{"$f":"$G161*COS($O161)+$H161*SIN($O161)+$F161*$I161","v":-0.88265429924088767},{"$f":"-$G161*SIN($O161)+$H161*COS($O161)-$E161*$I161","v":0.14321270247210949},null,4.6362976238758415,4.6532087477600053,-4.0370409003153043,-3.9907691962845808,-0.37745720162178154,-0.35364475351670116,2.4419732924232931,-3.2087773787146388,2.3454367272822556,4.6276209870805927,-4.0600279747649877,-3.5871971294055234,-0.41346152267370689,false,null,2.2807962665061901,null,null,null,-13.75771943366442,-62.643533132004215,121,2.2807962665061901,-57.43134321529427,1.1993827351766813,{"$f":"1/2*(INERTIA+mazalazo*($C161^2+$D161^2))*$I161^2","v":11.342228534969895},-62.643533132004215,-13.75771943366442,-57.43134321529427,12.541611270146575,1.1321431230315682,13.673754393178143,null,2.2807962665061901,0.73473820812281021,{"$f":"$H161-($I161*$C161)","v":-0.50965503592358341},0.89419712039224719,4.3249148325867344,1.7098747836495567,{"$f":"BL160+mazalazo*($I161*(BM161^2+BN161^2)+BM161*BR161-BN161*BQ161)*$BS161*DT","v":-85.807976450261194},4.6276209870805927,-4.0600279747649877,-5.9256210754243615,1.6690470414070664,-0.94392714042132564,-2.4229982555986798,-0.57587056044887663,0.15368182142706749,0.14962220354139338]
[0,122,4.6093918843835846,-4.1053946157884091,-5.9418466337928626,1.6718902702181559,-0.99016511041968869,-2.3904444509808487,-0.41071661008156085,{"$f":"IF(($G162+$I162*$D162)^2+($H162-$I162*$D162)^2<>0,-mew*($G162+$I162*$D162)/SQRT(($G162+$I162*$D162)^2+($H162-$I162*$C162)^2),0)","v":-2.4409417941720992},{"$f":"-mew*($H162-$C162*$I162)/SQRT(($G162+$D162*$I162)^2+($H162-$I162*$C162)^2)","v":1.7440765916277572},-0.4107166100815608,{"$f":"($I162-$I161)/DT","v":0.1456221357978594},{"$f":"IF(Q162<>0,mazalazo*(($D162*$J162-$C162*$K162)-2*$I162*($C162*$G162+$D162*$H162))/(INERTIA+mazalazo*($C162^2+$D162^2)),0)","v":0.14165116576687239},-3.5949389551151607,{"$f":"IF(Q162<>0,G162*COS(O162)+H162*SIN(O162)+F162*$I162,0)","v":-0.84348592180842541},-57.576457317925446,{"$f":"R161+mazalazo*($I162^2*($E162*$P162+$F162*$U162))*DT","v":121.25709643363425},{"$f":"IF(Q162<>0,$J162*COS($O162)+$K162*SIN($Z162)+2*$U162*$I162+$E162*$I162^2+$F162*$N162,0)","v":-0.42698335834685641},{"$f":"IF(Q162<>0,-$J162*SIN($O162)+$K162*COS($O162)-2*$P162*$I162+$F162*$I162^2-$E162*$N162,0)","v":-6.7996621959451553E-2},{"$f":"IF(Q162<>0,-$G162*SIN(O162)+$H162*COS(O162)-$E162*$I162,0)","v":0.14223108616433011},{"$f":"$G162*COS($O162)+$H162*SIN($O162)+$F162*$I162","v":-0.84348592180842541},{"$f":"-$G162*SIN($O162)+$H162*COS($O162)-$E162*$I162","v":0.14223108616433011},null,4.6185064357320886,4.6362976238758415,-4.0827112952766988,-4.0370409003153043,-0.401817332863522,-0.37745720162178154,2.4680333314698153,-3.2186139281272936,2.317583385884495,4.6093918843835846,-4.1053946157884091,-3.5949389551151607,-0.41071661008156712,false,null,2.2996458224277285,null,null,null,-13.856803037215357,-62.64805969223233,122,2.2996458224277285,-57.576457317925446,1.0975472732407412,{"$f":"1/2*(INERTIA+mazalazo*($C162^2+$D162^2))*$I162^2","v":11.243256041263642},-62.64805969223233,-13.856803037215357,-57.576457317925446,12.340803314504383,1.0325794234764771,13.37338273798086,null,2.2996458224277285,0.69598864922401837,{"$f":"$H162-($I162*$C162)","v":-0.49729064168936499},0.85539358318875303,4.1986833707124394,1.7440765916277574,{"$f":"BL161+mazalazo*($I162*(BM162^2+BN162^2)+BM162*BR162-BN162*BQ162)*$BS162*DT","v":-84.819392262788796},4.6093918843835846,-4.1053946157884091,-5.9418466337928626,1.6718902702181559,-0.99016511041968869,-2.3904444509808487,-0.56885115798639629,0.1456221357978594,0.14165116576687239]
[0,123,4.5902955074387748,-4.1501415967570061,-5.9573368063515506,1.6747018524007464,-1.0359471156007438,-2.3572524468577205,-0.40812032063195913,{"$f":"IF(($G163+$I163*$D163)^2+($H163-$I163*$D163)^2<>0,-mew*($G163+$I163*$D163)/SQRT(($G163+$I163*$D163)^2+($H163-$I163*$C163)^2),0)","v":-2.4166448574896031},{"$f":"-mew*($H163-$C163*$I163)/SQRT(($G163+$D163*$I163)^2+($H163-$I163*$C163)^2)","v":1.7775904007304537},-0.40812032063195913,{"$f":"($I163-$I162)/DT","v":0.13773743320048326},{"$f":"IF(Q163<>0,mazalazo*(($D163*$J163-$C163*$K163)-2*$I163*($C163*$G163+$D163*$H163))/(INERTIA+mazalazo*($C163^2+$D163^2)),0)","v":0.13385164815736578},-3.602631841921629,{"$f":"IF(Q163<>0,G163*COS(O163)+H163*SIN(O163)+F163*$I163,0)","v":-0.80438747996230642},-57.714990091180113,{"$f":"R162+mazalazo*($I163^2*($E163*$P163+$F163*$U163))*DT","v":121.30445101003896},{"$f":"IF(Q163<>0,$J163*COS($O163)+$K163*SIN($Z163)+2*$U163*$I163+$E163*$I163^2+$F163*$N163,0)","v":-0.48838364376246413},{"$f":"IF(Q163<>0,-$J163*SIN($O163)+$K163*COS($O163)-2*$P163*$I163+$F163*$I163^2-$E163*$N163,0)","v":-9.7111127862569147E-2},{"$f":"IF(Q163<>0,-$G163*SIN(O163)+$H163*COS(O163)-$E163*$I163,0)","v":0.14069423867276365},{"$f":"$G163*COS($O163)+$H163*SIN($O163)+$F163*$I163","v":-0.80438747996230642},{"$f":"-$G163*SIN($O163)+$H163*COS($O163)-$E163*$I163","v":0.14069423867276365},null,4.5998436959111793,4.6185064357320886,-4.1277681062727076,-4.0827112952766988,-0.42676347166776407,-0.401817332863522,2.4930718324500685,-3.2286748318100793,2.2906004744955348,4.5902955074387748,-4.1501415967570061,-3.602631841921629,-0.40812032063195108,false,null,2.3184953783492674,null,null,null,-13.952184413211951,-62.651911973669549,123,2.3184953783492674,-57.714990091180113,1.0002511300737278,{"$f":"1/2*(INERTIA+mazalazo*($C163^2+$D163^2))*$I163^2","v":11.149961923177763},-62.651911973669549,-13.952184413211951,-57.714990091180113,12.150213053251491,0.93754894518930598,13.087761998440797,null,2.3184953783492674,0.65781000353575636,{"$f":"$H163-($I163*$C163)","v":-0.48385957256636614},0.81659909791513874,4.0785180711426214,1.7775904007304537,{"$f":"BL162+mazalazo*($I163*(BM163^2+BN163^2)+BM163*BR163-BN163*BQ163)*$BS163*DT","v":-83.841987038991292},4.5902955074387748,-4.1501415967570061,-5.9573368063515506,1.6747018524007464,-1.0359471156007438,-2.3572524468577205,-0.56211779814640594,0.13773743320048326,0.13385164815736578]
[0,124,4.5703404884951917,-4.1942570099320342,-5.9720928779663085,1.6774715207974689,-1.0812692386343925,-2.3234351825712922,-0.40566948500672045,{"$f":"IF(($G164+$I164*$D164)^2+($H164-$I164*$D164)^2<>0,-mew*($G164+$I164*$D164)/SQRT(($G164+$I164*$D164)^2+($H164-$I164*$C164)^2),0)","v":-2.3921500194259502},{"$f":"-mew*($H164-$C164*$I164)/SQRT(($G164+$D164*$I164)^2+($H164-$I164*$C164)^2)","v":1.8104193670419086},-0.40566948500672045,{"$f":"($I164-$I163)/DT","v":0.13002086815415054},{"$f":"IF(Q164<>0,mazalazo*(($D164*$J164-$C164*$K164)-2*$I164*($C164*$G164+$D164*$H164))/(INERTIA+mazalazo*($C164^2+$D164^2)),0)","v":0.12621692240678445},-3.6102785315649251,{"$f":"IF(Q164<>0,G164*COS(O164)+H164*SIN(O164)+F164*$I164,0)","v":-0.76535977741848571},-57.846942471773943,{"$f":"R163+mazalazo*($I164^2*($E164*$P164+$F164*$U164))*DT","v":121.34915107898088},{"$f":"IF(Q164<>0,$J164*COS($O164)+$K164*SIN($Z164)+2*$U164*$I164+$E164*$I164^2+$F164*$N164,0)","v":-0.54832774795236094},{"$f":"IF(Q164<>0,-$J164*SIN($O164)+$K164*COS($O164)-2*$P164*$I164+$F164*$I164^2-$E164*$N164,0)","v":-0.12574962901321274},{"$f":"IF(Q164<>0,-$G164*SIN(O164)+$H164*COS(O164)-$E164*$I164,0)","v":0.13861102417635607},{"$f":"$G164*COS($O164)+$H164*SIN($O164)+$F164*$I164","v":-0.76535977741848571},{"$f":"-$G164*SIN($O164)+$H164*COS($O164)-$E164*$I164","v":0.13861102417635607},null,4.5803179979669828,4.5998436959111793,-4.1721993033445202,-4.1277681062727076,-0.45233666665234362,-0.42676347166776407,2.5170618524196549,-3.2389128960176792,2.2645184460223469,4.5703404884951917,-4.1942570099320342,-3.6102785315649251,-0.40566948500672367,false,null,2.3373449342708059,null,null,null,-14.043783857868153,-62.655167136563229,124,2.3373449342708059,-57.846942471773943,0.90748290736993842,{"$f":"1/2*(INERTIA+mazalazo*($C164^2+$D164^2))*$I164^2","v":11.062194510708238},-62.655167136563229,-14.043783857868153,-57.846942471773943,11.969677418078177,0.84704147064370261,12.81671888872188,null,2.3373449342708059,0.62021284257056308,{"$f":"$H164-($I164*$C164)","v":-0.46938751029808468},0.7778101342315441,3.9639711046637993,1.8104193670419086,{"$f":"BL163+mazalazo*($I164*(BM164^2+BN164^2)+BM164*BR164-BN164*BQ164)*$BS164*DT","v":-82.87535085111594},4.5703404884951917,-4.1942570099320342,-5.9720928779663085,1.6774715207974689,-1.0812692386343925,-2.3234351825712922,-0.55564390228691696,0.13002086815415054,0.12621692240678445]
[0,125,4.5495355301236877,-4.2377291908950756,-5.9861161502160432,1.6801891772490132,-1.1261279348650794,-2.2890055350357663,-0.40336105851728671,{"$f":"IF(($G165+$I165*$D165)^2+($H165-$I165*$D165)^2<>0,-mew*($G165+$I165*$D165)/SQRT(($G165+$I165*$D165)^2+($H165-$I165*$C165)^2),0)","v":-2.367476931939692},{"$f":"-mew*($H165-$C165*$I165)/SQRT(($G165+$D165*$I165)^2+($H165-$I165*$C165)^2)","v":1.8425669531209501},-0.40336105851728665,{"$f":"($I165-$I164)/DT","v":0.12246582885255052},{"$f":"IF(Q165<>0,mazalazo*(($D165*$J165-$C165*$K165)-2*$I165*($C165*$G165+$D165*$H165))/(INERTIA+mazalazo*($C165^2+$D165^2)),0)","v":0.11874049213130186},-3.6178817083940178,{"$f":"IF(Q165<>0,G165*COS(O165)+H165*SIN(O165)+F165*$I165,0)","v":-0.72640359312881886},-57.972314847970026,{"$f":"R164+mazalazo*($I165^2*($E165*$P165+$F165*$U165))*DT","v":121.39126006321526},{"$f":"IF(Q165<>0,$J165*COS($O165)+$K165*SIN($Z165)+2*$U165*$I165+$E165*$I165^2+$F165*$N165,0)","v":-0.60668027890633569},{"$f":"IF(Q165<>0,-$J165*SIN($O165)+$K165*COS($O165)-2*$P165*$I165+$F165*$I165^2-$E165*$N165,0)","v":-0.15388693584547053},{"$f":"IF(Q165<>0,-$G165*SIN(O165)+$H165*COS(O165)-$E165*$I165,0)","v":0.13599078335851233},{"$f":"$G165*COS($O165)+$H165*SIN($O165)+$F165*$I165","v":-0.72640359312881886},{"$f":"-$G165*SIN($O165)+$H165*COS($O165)-$E165*$I165","v":0.13599078335851233},null,4.5599380093094393,4.5803179979669828,-4.2159931004135549,-4.1721993033445202,-0.47858096627798968,-0.45233666665234362,2.539978857761104,-3.2492790978234845,2.2393672125882027,4.5495355301236877,-4.2377291908950756,-3.6178817083940178,-0.40336105851729015,false,null,2.3561944901923448,null,null,null,-14.131522737630085,-62.657896217500543,125,2.3561944901923448,-57.972314847970026,0.81923350990338073,{"$f":"1/2*(INERTIA+mazalazo*($C165^2+$D165^2))*$I165^2","v":10.979808342496009},-62.657896217500543,-14.131522737630085,-57.972314847970026,11.799041852399389,0.76104899774468038,12.56009085014407,null,2.3561944901923448,0.58320699728396286,{"$f":"$H165-($I165*$C165)","v":-0.45390006784307046},0.73902345921419854,3.854639194406984,1.8425669531209512,{"$f":"BL164+mazalazo*($I165*(BM165^2+BN165^2)+BM165*BR165-BN165*BQ165)*$BS165*DT","v":-81.919112740429469},4.5495355301236877,-4.2377291908950756,-5.9861161502160432,1.6801891772490132,-1.1261279348650794,-2.2890055350357663,-0.54940576273069541,0.12246582885255052,0.11874049213130186]
[0,126,4.5278893982333468,-4.2805467173194431,-5.9994079407267735,1.6828449015083748,-1.1705200280875112,-2.2539763134281912,-0.40119211675627642,{"$f":"IF(($G166+$I166*$D166)^2+($H166-$I166*$D166)^2<>0,-mew*($G166+$I166*$D166)/SQRT(($G166+$I166*$D166)^2+($H166-$I166*$C166)^2),0)","v":-2.3426450383620132},{"$f":"-mew*($H166-$C166*$I166)/SQRT(($G166+$D166*$I166)^2+($H166-$I166*$C166)^2)","v":1.8740368791029276},-0.40119211675627642,{"$f":"($I166-$I165)/DT","v":0.115065934181076},{"$f":"IF(Q166<>0,mazalazo*(($D166*$J166-$C166*$K166)-2*$I166*($C166*$G166+$D166*$H166))/(INERTIA+mazalazo*($C166^2+$D166^2)),0)","v":0.11141609038192815},-3.6254440016340959,{"$f":"IF(Q166<>0,G166*COS(O166)+H166*SIN(O166)+F166*$I166,0)","v":-0.68751967149497051},-58.091107109894281,{"$f":"R165+mazalazo*($I166^2*($E166*$P166+$F166*$U166))*DT","v":121.43083709606479},{"$f":"IF(Q166<>0,$J166*COS($O166)+$K166*SIN($Z166)+2*$U166*$I166+$E166*$I166^2+$F166*$N166,0)","v":-0.66329975395129859},{"$f":"IF(Q166<>0,-$J166*SIN($O166)+$K166*COS($O166)-2*$P166*$I166+$F166*$I166^2-$E166*$N166,0)","v":-0.18149840508423309},{"$f":"IF(Q166<>0,-$G166*SIN(O166)+$H166*COS(O166)-$E166*$I166,0)","v":0.13284332203782823},{"$f":"$G166*COS($O166)+$H166*SIN($O166)+$F166*$I166","v":-0.68751967149497051},{"$f":"-$G166*SIN($O166)+$H166*COS($O166)-$E166*$I166","v":0.13284332203782823},null,4.5387124641785173,4.5599380093094393,-4.2591379541072598,-4.2159931004135549,-0.50554372701973904,-0.47858096627798968,2.5618008228678466,-3.2597226749703538,2.2151761425263783,4.5278893982333468,-4.2805467173194431,-3.6254440016340959,-0.40119211675628313,true,null,2.3750440461138838,null,null,null,-14.215323441144999,-62.660164421300536,126,2.3750440461138838,-58.091107109894281,0.73549597035389747,{"$f":"1/2*(INERTIA+mazalazo*($C166^2+$D166^2))*$I166^2","v":10.902663899235892},-62.660164421300536,-14.215323441144999,-58.091107109894281,{"$f":"AW166+AX166","v":11.638159869589789},0.67956556486997499,{"$f":"BB166+BC166","v":12.317725434459764},null,2.3750440461138838,0.54680157030800647,{"$f":"$H166-($I166*$C166)","v":-0.43742278131265211},0.70023613653009797,3.7501583845298732,1.8740368791029276,{"$f":"BL165+mazalazo*($I166*(BM166^2+BN166^2)+BM166*BR166-BN166*BQ166)*$BS166*DT","v":-80.972936518161561},4.5278893982333468,-4.2805467173194431,-5.9994079407267735,1.6828449015083748,-1.1705200280875112,-2.2539763134281912,-0.5433822005283292,0.115065934181076,0.11141609038192815]
[0,127,4.5054109151617245,-4.3226984076502042,-6.0119695823279375,1.6854289599753733,-1.2144427069769099,-2.2183602548250758,-0.39915985128412951,{"$f":"IF(($G167+$I167*$D167)^2+($H167-$I167*$D167)^2<>0,-mew*($G167+$I167*$D167)/SQRT(($G167+$I167*$D167)^2+($H167-$I167*$C167)^2),0)","v":-2.3176736114924248},{"$f":"-mew*($H167-$C167*$I167)/SQRT(($G167+$D167*$I167)^2+($H167-$I167*$C167)^2)","v":1.9048330715817758},-0.39915985128412951,{"$f":"($I167-$I166)/DT","v":0.10781503185572178},{"$f":"IF(Q167<>0,mazalazo*(($D167*$J167-$C167*$K167)-2*$I167*($C167*$G167+$D167*$H167))/(INERTIA+mazalazo*($C167^2+$D167^2)),0)","v":0.10423767834405377},-3.6329679875725089,{"$f":"IF(Q167<>0,G167*COS(O167)+H167*SIN(O167)+F167*$I167,0)","v":-0.64870871294104759},-58.203318699678015,{"$f":"R166+mazalazo*($I167^2*($E167*$P167+$F167*$U167))*DT","v":121.46793717969977},{"$f":"IF(Q167<>0,$J167*COS($O167)+$K167*SIN($Z167)+2*$U167*$I167+$E167*$I167^2+$F167*$N167,0)","v":-0.71803894941100321},{"$f":"IF(Q167<>0,-$J167*SIN($O167)+$K167*COS($O167)-2*$P167*$I167+$F167*$I167^2-$E167*$N167,0)","v":-0.20855979193264973},{"$f":"IF(Q167<>0,-$G167*SIN(O167)+$H167*COS(O167)-$E167*$I167,0)","v":0.12917890249437303},{"$f":"$G167*COS($O167)+$H167*SIN($O167)+$F167*$I167","v":-0.64870871294104759},{"$f":"-$G167*SIN($O167)+$H167*COS($O167)-$E167*$I167","v":0.12917890249437303},null,4.5166501566975352,4.5387124641785173,-4.3016225624848232,-4.2591379541072598,-0.53327595869193722,-0.50554372701973904,2.5825083190636171,-3.2701912197744103,2.1919740647900752,4.5054109151617245,-4.3226984076502042,-3.6329679875725089,-0.39915985128411818,false,null,2.3938936020354222,null,null,null,-14.295109322904638,-62.662031403484747,127,2.3938936020354222,-58.203318699678015,0.65626527464292184,{"$f":"1/2*(INERTIA+mazalazo*($C167^2+$D167^2))*$I167^2","v":10.830627338437834},-62.662031403484747,-14.295109322904638,-58.203318699678015,11.486892613080755,0.60258707653700583,12.089479689617761,null,2.3938936020354222,0.51100494656688911,{"$f":"$H167-($I167*$C167)","v":-0.41998110395522792},0.66144552541783896,3.6501995572260184,1.9048330715817758,{"$f":"BL166+mazalazo*($I167*(BM167^2+BN167^2)+BM167*BR167-BN167*BQ167)*$BS167*DT","v":-80.03651705139589},4.5054109151617245,-4.3226984076502042,-6.0119695823279375,1.6854289599753733,-1.2144427069769099,-2.2183602548250758,-0.53755427232298425,0.10781503185572178,0.10423767834405377]
[{"$f":"IF(B168=XRON,1,0)","v":0},128,4.4821089528253175,-4.364173319711055,-6.0238024220364084,1.6879318143050031,-1.2578935223209504,-2.1821700208360371,-0.39726156532610674,{"$f":"IF(($G168+$I168*$D168)^2+($H168-$I168*$D168)^2<>0,-mew*($G168+$I168*$D168)/SQRT(($G168+$I168*$D168)^2+($H168-$I168*$C168)^2),0)","v":-2.2925817999717637},{"$f":"-mew*($H168-$C168*$I168)/SQRT(($G168+$D168*$I168)^2+($H168-$I168*$C168)^2)","v":1.9349596095108108},-0.39726156532610679,{"$f":"($I168-$I167)/DT","v":0.10070719787375276},{"$f":"IF(Q168<>0,mazalazo*(($D168*$J168-$C168*$K168)-2*$I168*($C168*$G168+$D168*$H168))/(INERTIA+mazalazo*($C168^2+$D168^2)),0)","v":9.7199445429964892E-2},-3.6404561916636013,{"$f":"IF(Q168<>0,G168*COS(O168)+H168*SIN(O168)+F168*$I168,0)","v":-0.60997136476434588},-58.308948661407747,{"$f":"R167+mazalazo*($I168^2*($E168*$P168+$F168*$U168))*DT","v":121.50261133486374},{"$f":"IF(Q168<>0,$J168*COS($O168)+$K168*SIN($Z168)+2*$U168*$I168+$E168*$I168^2+$F168*$N168,0)","v":-0.77074529831828731},{"$f":"IF(Q168<>0,-$J168*SIN($O168)+$K168*COS($O168)-2*$P168*$I168+$F168*$I168^2-$E168*$N168,0)","v":-0.23504708990878032},{"$f":"IF(Q168<>0,-$G168*SIN(O168)+$H168*COS(O168)-$E168*$I168,0)","v":0.1250082377034909},{"$f":"$G168*COS($O168)+$H168*SIN($O168)+$F168*$I168","v":-0.60997136476434588},{"$f":"-$G168*SIN($O168)+$H168*COS($O168)-$E168*$I168","v":0.1250082377034909},null,4.4937599339935215,4.5166501566975352,-4.3434358636806296,-4.3016225624848232,-0.56183271232061982,-0.53327595869193722,2.6020845931836782,-3.2806307761234024,2.1697892812000474,4.4821089528253175,-4.364173319711055,-3.6404561916636013,-0.39726156532610346,false,null,{"$f":"B168*DT","v":2.4127431579569611},null,null,null,-14.370804637598654,-62.6635515435811,128,2.4127431579569611,-58.308948661407747,{"$f":"1/2*mazalazo*(P168^2+U168^2)","v":0.58153818798931678},{"$f":"1/2*(INERTIA+mazalazo*($C168^2+$D168^2))*$I168^2","v":10.763570229270655},-62.6635515435811,-14.370804637598654,-58.308948661407747,11.345108417259972,0.53011112987489639,11.875219547134868,null,2.4127431579569611,0.47582480202189514,{"$f":"$H168-($I168*$C168)","v":-0.40160040227449434},0.62264927955166816,3.5544645821594698,1.9349596095108101,{"$f":"BL167+mazalazo*($I168*(BM168^2+BN168^2)+BM168*BR168-BN168*BQ168)*$BS168*DT","v":-79.109576965098782},4.4821089528253175,-4.364173319711055,-6.0238024220364084,1.6879318143050031,-1.2578935223209504,-2.1821700208360371,-0.53190501881979746,0.10070719787375276,9.7199445429964892E-2]
[0,129,4.4579924259136758,-4.4049607492573415,-6.0349078198719566,1.6903441299480446,-1.3008703852281713,-2.1454181953039253,{"$f":"IF(AND(Q169<>0,B169>=0),(L0+mazalazo*(D169*G169-C169*H169))/(INERTIA+mazalazo*($C169^2+$D169^2)),I168)","v":-0.39549466945010159},{"$f":"IF(($G169+$I169*$D169)^2+($H169-$I169*$D169)^2<>0,-mew*($G169+$I169*$D169)/SQRT(($G169+$I169*$D169)^2+($H169-$I169*$C169)^2),0)","v":-2.2673886845101237},{"$f":"-mew*($H169-$C169*$I169)/SQRT(($G169+$D169*$I169)^2+($H169-$I169*$C169)^2)","v":1.9644206660884662},-0.39549466945010164,{"$f":"($I169-$I168)/DT","v":9.3736737531634626E-2},{"$f":"IF(Q169<>0,mazalazo*(($D169*$J169-$C169*$K169)-2*$I169*($C169*$G169+$D169*$H169))/(INERTIA+mazalazo*($C169^2+$D169^2)),0)","v":9.029581103780486E-2},-3.6479110905520717,{"$f":"IF(Q169<>0,G169*COS(O169)+H169*SIN(O169)+F169*$I169,0)","v":-0.57130821216715766},-58.407995690875602,{"$f":"R168+mazalazo*($I169^2*($E169*$P169+$F169*$U169))*DT","v":121.53490674245106},{"$f":"IF(Q169<>0,$J169*COS($O169)+$K169*SIN($Z169)+2*$U169*$I169+$E169*$I169^2+$F169*$N169,0)","v":-0.82126133423775804},{"$f":"IF(Q169<>0,-$J169*SIN($O169)+$K169*COS($O169)-2*$P169*$I169+$F169*$I169^2-$E169*$N169,0)","v":-0.26093635465093945},{"$f":"IF(Q169<>0,-$G169*SIN(O169)+$H169*COS(O169)-$E169*$I169,0)","v":0.12034248875424236},{"$f":"$G169*COS($O169)+$H169*SIN($O169)+$F169*$I169","v":-0.57130821216715766},{"$f":"-$G169*SIN($O169)+$H169*COS($O169)-$E169*$I169","v":0.12034248875424236},null,4.4700506893694971,4.4937599339935215,-4.3845670344841983,-4.3434358636806296,-0.59127351686317298,-0.56183271232061982,2.6205156354257841,-3.2909859385771805,2.1486495868258255,4.4579924259136758,-4.4049607492573415,{"$f":"IF(Q169<>0,O169,AJ168+TEL_OMEGA*DT)","v":-3.6479110905520717},-0.39549466945011325,false,null,2.4315927138785001,null,null,null,{"$f":"mazalazo*(J169*G169+K169*H169)*DT+AR168","v":-14.442334463929061},{"$f":"AS168+mazalazo*($F169*$P169-$E169*$U169)*$N169*DT","v":-62.664774209556008},129,2.4315927138785001,-58.407995690875602,0.51131308183379842,{"$f":"1/2*(INERTIA+mazalazo*($C169^2+$D169^2))*$I169^2","v":10.701369285946472},-62.664774209556008,-14.442334463929061,{"$f":"IF(($P169^2+$U169^2)<>0,-mazalazo*mew*($P169^2+$U169^2)/SQRT($P169^2+$U169^2)*DT+BA168,BA168)","v":-58.407995690875602},11.212682367780269,0.46213684201944716,11.674819209799717,null,{"$f":"B169*DT","v":2.4315927138785001},0.4412681102400331,{"$f":"$H169-($I169*$C169)","v":-0.38230595440613957},0.58384534586583736,{"$f":"-mew*BG169/BH169","v":3.4626830041829972},{"$f":"-mew*BH169/BI169","v":1.9644206660884653},{"$f":"BL168+mazalazo*($I169*(BM169^2+BN169^2)+BM169*BR169-BN169*BQ169)*$BS169*DT","v":-78.191863701458885},4.4579924259136758,-4.4049607492573415,-6.0349078198719566,1.6903441299480446,-1.3008703852281713,-2.1454181953039253,{"$f":"($BN169*$BJ169-$BM169*$BK169)/(INERTIA+mazalazo*($BM169^2+$BN169^2))*mazalazo","v":-0.52641924878801849},9.3736737531634626E-2,9.029581103780486E-2]
[0,130,4.4330702851070365,-4.4450502284960027,-6.0452871475058068,1.6926567846886327,-1.3433715665256232,-2.108117283166528,-0.39385667718913869,{"$f":"IF(($G170+$I170*$D170)^2+($H170-$I170*$D170)^2<>0,-mew*($G170+$I170*$D170)/SQRT(($G170+$I170*$D170)^2+($H170-$I170*$C170)^2),0)","v":-2.2421133460941043},{"$f":"-mew*($H170-$C170*$I170)/SQRT(($G170+$D170*$I170)^2+($H170-$I170*$C170)^2)","v":1.9932204452259417},-0.39385667718913869,{"$f":"($I170-$I169)/DT","v":8.6898188359504844E-2},{"$f":"IF(Q170<>0,mazalazo*(($D170*$J170-$C170*$K170)-2*$I170*($C170*$G170+$D170*$H170))/(INERTIA+mazalazo*($C170^2+$D170^2)),0)","v":8.3521428342366241E-2},-3.6553351140138197,{"$f":"IF(Q170<>0,G170*COS(O170)+H170*SIN(O170)+F170*$I170,0)","v":-0.53271976935053289},-58.50045818513675,{"$f":"R169+mazalazo*($I170^2*($E170*$P170+$F170*$U170))*DT","v":121.56486687733664},{"$f":"IF(Q170<>0,$J170*COS($O170)+$K170*SIN($Z170)+2*$U170*$I170+$E170*$I170^2+$F170*$N170,0)","v":-0.86942517835181876},{"$f":"IF(Q170<>0,-$J170*SIN($O170)+$K170*COS($O170)-2*$P170*$I170+$F170*$I170^2-$E170*$N170,0)","v":-0.28620350683115492},{"$f":"IF(Q170<>0,-$G170*SIN(O170)+$H170*COS(O170)-$E170*$I170,0)","v":0.11519326581741174},{"$f":"$G170*COS($O170)+$H170*SIN($O170)+$F170*$I170","v":-0.53271976935053289},{"$f":"-$G170*SIN($O170)+$H170*COS($O170)-$E170*$I170","v":0.11519326581741174},null,4.4455313555103562,4.4700506893694971,-4.4250054888766721,-4.3845670344841983,-0.62166287215337757,-0.59127351686317298,2.6377902359671608,-3.3011999523916868,2.1285822990111933,4.4330702851070365,-4.4450502284960027,-3.6553351140138197,-0.39385667718913159,{"$f":"AND(ABS(L170)>ABS(exactome)/10,ABS(L171)<ABS(exactome)/10)","v":false},null,2.4504422698000385,null,null,null,-14.509624616261041,-62.66574401371016,130,{"$f":"IF(AND(AT170>0,Q170<>0),AN170,AU169)","v":2.4504422698000385},{"$f":"IF(AU170<>AU169,Q170,AV169)","v":-58.50045818513675},0.44558976171984876,{"$f":"1/2*(INERTIA+mazalazo*($C170^2+$D170^2))*$I170^2","v":10.643906097737595},-62.66574401371016,{"$f":"IF(AU170<>AU169,AR170,AR169)","v":-14.509624616261041},-58.50045818513675,11.089495859457443,{"$f":"BA170+AY170+$R170","v":0.3986646784897232},11.488160537947167,null,2.4504422698000385,{"$f":"G170-(-D170*L170)","v":0.40734114640863406},{"$f":"$H170-($I170*$C170)","v":-0.362122950928363},{"$f":"SQRT(BG170^2+BH170^2)","v":0.54503196341734472},3.3746091930738991,1.9932204452259417,{"$f":"BL169+mazalazo*($I170*(BM170^2+BN170^2)+BM170*BR170-BN170*BQ170)*$BS170*DT","v":-77.283146885745964},{"$f":"C170","v":4.4330702851070365},{"$f":"D170","v":-4.4450502284960027},{"$f":"E170","v":-6.0452871475058068},{"$f":"F170","v":1.6926567846886327},{"$f":"G170","v":-1.3433715665256232},{"$f":"H170","v":-2.108117283166528},-0.52108335370132841,{"$f":"$M170","v":8.6898188359504844E-2},{"$f":"$N170","v":8.3521428342366241E-2}]
[0,131,4.4073515102929983,-4.4844315245952062,-6.0549417867413311,1.6948608772518636,-1.3853956976115724,-2.0702797106112536,-0.39234520056330119,{"$f":"IF(($G171+$I171*$D171)^2+($H171-$I171*$D171)^2<>0,-mew*($G171+$I171*$D171)/SQRT(($G171+$I171*$D171)^2+($H171-$I171*$C171)^2),0)","v":-2.2167749490527102},{"$f":"-mew*($H171-$C171*$I171)/SQRT(($G171+$D171*$I171)^2+($H171-$I171*$C171)^2)","v":2.0213631106885162},-0.39234520056330119,{"$f":"($I171-$I170)/DT","v":8.0186325456632679E-2},{"$f":"IF(Q171<>0,mazalazo*(($D171*$J171-$C171*$K171)-2*$I171*($C171*$G171+$D171*$H171))/(INERTIA+mazalazo*($C171^2+$D171^2)),0)","v":7.6871190609398524E-2},-3.6627306468123848,{"$f":"IF(Q171<>0,G171*COS(O171)+H171*SIN(O171)+F171*$I171,0)","v":-0.4942064705203757},-58.586334291894083,{"$f":"R170+mazalazo*($I171^2*($E171*$P171+$F171*$U171))*DT","v":121.59253163485391},{"$f":"IF(Q171<>0,$J171*COS($O171)+$K171*SIN($Z171)+2*$U171*$I171+$E171*$I171^2+$F171*$N171,0)","v":-0.91507106575147246},{"$f":"IF(Q171<>0,-$J171*SIN($O171)+$K171*COS($O171)-2*$P171*$I171+$F171*$I171^2-$E171*$N171,0)","v":-0.31082410768796265},{"$f":"IF(Q171<>0,-$G171*SIN(O171)+$H171*COS(O171)-$E171*$I171,0)","v":0.10957263314881027},{"$f":"$G171*COS($O171)+$H171*SIN($O171)+$F171*$I171","v":-0.4942064705203757},{"$f":"-$G171*SIN($O171)+$H171*COS($O171)-$E171*$I171","v":0.10957263314881027},null,{"$f":"(C171+C170)/2","v":4.4202108977000174},{"$f":"(C170+C169)/2","v":4.4455313555103562},{"$f":"(D171+D170)/2","v":-4.4647408765456049},{"$f":"(D170+D169)/2","v":-4.4250054888766721},{"$f":"-(C170-C171)/(D170-D171)","v":-0.65307080674163864},{"$f":"-(C169-C170)/(D169-D170)","v":-0.62166287215337757},{"$f":"((AA171-AB171)+AD171*Z171-AC171*Y171)/(AD171-AC171)","v":2.6539000299907678},{"$f":"AA171+AC171*(AE171-Y171)","v":-3.3112148132142014},{"$f":"SQRT((AE171-Z171)^2+(AF171-AB171)^2)","v":2.1096142954994734},4.4073515102929983,-4.4844315245952062,-3.6627306468123848,-0.39234520056329053,false,null,2.4692918257215775,null,null,null,-14.572601541984451,-62.666501060415492,131,2.4692918257215775,-58.586334291894083,0.38436929615905607,{"$f":"1/2*(INERTIA+mazalazo*($C171^2+$D171^2))*$I171^2","v":10.591066853214436},{"$f":"IF(AU171<>AU170,AS171,AY170)","v":-62.666501060415492},-14.572601541984451,-58.586334291894083,10.975436149373492,0.33969628254433815,11.31513243191783,null,2.4692918257215775,0.37404948831812423,{"$f":"$H171-($I171*$C171)","v":-0.34107649835237885},0.50620766236730441,3.2900198939976195,2.0213631106885162,{"$f":"BL170+mazalazo*($I171*(BM171^2+BN171^2)+BM171*BR171-BN171*BQ171)*$BS171*DT","v":-76.383215954279791},4.4073515102929983,-4.4844315245952062,-6.0549417867413311,1.6948608772518636,-1.3853956976115724,-2.0702797106112536,-0.51588514911706707,8.0186325456632679E-2,7.6871190609398524E-2]
[0,132,4.3808451037523568,-4.5230946382091499,-6.0638731278225908,1.6969477360656782,-1.4269417731049097,-2.0319178267066933,-0.3909579454428237,{"$f":"IF(($G172+$I172*$D172)^2+($H172-$I172*$D172)^2<>0,-mew*($G172+$I172*$D172)/SQRT(($G172+$I172*$D172)^2+($H172-$I172*$C172)^2),0)","v":-2.1913928429035852},{"$f":"-mew*($H172-$C172*$I172)/SQRT(($G172+$D172*$I172)^2+($H172-$I172*$C172)^2)","v":2.048852705313621},-0.39095794544282375,{"$f":"($I172-$I171)/DT","v":7.3596169917845275E-2},{"$f":"IF(Q172<>0,mazalazo*(($D172*$J172-$C172*$K172)-2*$I172*($C172*$G172+$D172*$H172))/(INERTIA+mazalazo*($C172^2+$D172^2)),0)","v":7.0340240698509346E-2},-3.6701000304679794,{"$f":"IF(Q172<>0,G172*COS(O172)+H172*SIN(O172)+F172*$I172,0)","v":-0.45576866061258192},-58.66562195874441,{"$f":"R171+mazalazo*($I172^2*($E172*$P172+$F172*$U172))*DT","v":121.61793745031508},{"$f":"IF(Q172<>0,$J172*COS($O172)+$K172*SIN($Z172)+2*$U172*$I172+$E172*$I172^2+$F172*$N172,0)","v":-0.95802990526397491},{"$f":"IF(Q172<>0,-$J172*SIN($O172)+$K172*COS($O172)-2*$P172*$I172+$F172*$I172^2-$E172*$N172,0)","v":-0.33477309844752778},{"$f":"IF(Q172<>0,-$G172*SIN(O172)+$H172*COS(O172)-$E172*$I172,0)","v":0.10349311878462997},{"$f":"$G172*COS($O172)+$H172*SIN($O172)+$F172*$I172","v":-0.45576866061258192},{"$f":"-$G172*SIN($O172)+$H172*COS($O172)-$E172*$I172","v":0.10349311878462997},null,4.3940983070226771,4.4202108977000174,-4.5037630814021785,-4.4647408765456049,-0.68557351084838869,-0.65307080674163864,2.6688395306400503,-3.3209713649555459,2.0917720623912301,4.3808451037523568,-4.5230946382091499,-3.6701000304679794,-0.3909579454428333,false,null,2.4881413816431164,null,null,null,-14.631192201787096,-62.667081186114892,132,2.4881413816431164,-58.66562195874441,0.32765384644853462,{"$f":"1/2*(INERTIA+mazalazo*($C172^2+$D172^2))*$I172^2","v":10.542742055582284},-62.667081186114892,-14.631192201787096,-58.66562195874441,10.870395902030818,0.28523430545578776,11.155630207486606,null,2.4881413816431164,0.34139801369279188,{"$f":"$H172-($I172*$C172)","v":-0.31919162564041814},0.46737126316490252,3.2087121302868087,2.0488527053136201,{"$f":"BL171+mazalazo*($I172*(BM172^2+BN172^2)+BM172*BR172-BN172*BQ172)*$BS172*DT","v":-75.491878005036668},4.3808451037523568,-4.5230946382091499,-6.0638731278225908,1.6969477360656782,-1.4269417731049097,-2.0319178267066933,-0.51081373976312272,7.3596169917845275E-2,7.0340240698509346E-2]
[0,133,4.3535600832773111,-4.5610298020472451,-6.0720825675621022,1.6989089282763536,-1.46800915574464,-1.9930439067732917,-0.38969270667497863,{"$f":"IF(($G173+$I173*$D173)^2+($H173-$I173*$D173)^2<>0,-mew*($G173+$I173*$D173)/SQRT(($G173+$I173*$D173)^2+($H173-$I173*$C173)^2),0)","v":-2.1659866883200016},{"$f":"-mew*($H173-$C173*$I173)/SQRT(($G173+$D173*$I173)^2+($H173-$I173*$C173)^2)","v":2.0756930567934537},-0.38969270667497863,{"$f":"($I173-$I172)/DT","v":6.7123001364680482E-2},{"$f":"IF(Q173<>0,mazalazo*(($D173*$J173-$C173*$K173)-2*$I173*($C173*$G173+$D173*$H173))/(INERTIA+mazalazo*($C173^2+$D173^2)),0)","v":6.3923984653699265E-2},-3.6774455649346653,{"$f":"IF(Q173<>0,G173*COS(O173)+H173*SIN(O173)+F173*$I173,0)","v":-0.41740658547906084},-58.738318982335805,{"$f":"R172+mazalazo*($I173^2*($E173*$P173+$F173*$U173))*DT","v":121.64111741196913},{"$f":"IF(Q173<>0,$J173*COS($O173)+$K173*SIN($Z173)+2*$U173*$I173+$E173*$I173^2+$F173*$N173,0)","v":-0.99812986506725143},{"$f":"IF(Q173<>0,-$J173*SIN($O173)+$K173*COS($O173)-2*$P173*$I173+$F173*$I173^2-$E173*$N173,0)","v":-0.35802449187028051},{"$f":"IF(Q173<>0,-$G173*SIN(O173)+$H173*COS(O173)-$E173*$I173,0)","v":9.6967729836041627E-2},{"$f":"$G173*COS($O173)+$H173*SIN($O173)+$F173*$I173","v":-0.41740658547906084},{"$f":"-$G173*SIN($O173)+$H173*COS($O173)-$E173*$I173","v":9.6967729836041627E-2},null,4.3672025935148344,4.3940983070226771,-4.5420622201281979,-4.5037630814021785,-0.7192540565132759,-0.68557351084838869,2.6826061494164084,-3.3304093941225652,2.0750817528474452,4.3535600832773111,-4.5610298020472451,-3.6774455649346653,-0.38969270667498629,false,null,2.5069909375646549,null,null,null,-14.68532392913481,-62.667516192054798,133,2.5069909375646549,-58.738318982335805,0.27544649734626614,{"$f":"1/2*(INERTIA+mazalazo*($C173^2+$D173^2))*$I173^2","v":10.498826224956215},-62.667516192054798,-14.68532392913481,-58.738318982335805,10.774272722302481,0.23528223757853084,11.009554959881012,null,2.5069909375646549,0.30939089304039302,{"$f":"$H173-($I173*$C173)","v":-0.29649329424881099},0.42852187602366809,3.1305014215339249,2.0756930567934537,{"$f":"BL172+mazalazo*($I173*(BM173^2+BN173^2)+BM173*BR173-BN173*BQ173)*$BS173*DT","v":-74.608955835040987},4.3535600832773111,-4.5610298020472451,-6.0720825675621022,1.6989089282763536,-1.46800915574464,-1.9930439067732917,-0.50585940608690472,6.7123001364680482E-2,6.3923984653699265E-2]
[0,134,4.3255054751762447,-4.5982274795220128,-6.0795715072733456,1.7007362691379078,-1.5085975841644292,-1.9536701578773235,-0.38854736286808983,{"$f":"IF(($G174+$I174*$D174)^2+($H174-$I174*$D174)^2<>0,-mew*($G174+$I174*$D174)/SQRT(($G174+$I174*$D174)^2+($H174-$I174*$C174)^2),0)","v":-2.1405766143858349},{"$f":"-mew*($H174-$C174*$I174)/SQRT(($G174+$D174*$I174)^2+($H174-$I174*$C174)^2)","v":2.1018876653961498},-0.38854736286808977,{"$f":"($I174-$I173)/DT","v":6.0762376135347185E-2},{"$f":"IF(Q174<>0,mazalazo*(($D174*$J174-$C174*$K174)-2*$I174*($C174*$G174+$D174*$H174))/(INERTIA+mazalazo*($C174^2+$D174^2)),0)","v":5.761811057653328E-2},-3.6847695101792137,{"$f":"IF(Q174<>0,G174*COS(O174)+H174*SIN(O174)+F174*$I174,0)","v":-0.37912038117545865},-58.804423057502383,{"$f":"R173+mazalazo*($I174^2*($E174*$P174+$F174*$U174))*DT","v":121.66210136779817},{"$f":"IF(Q174<>0,$J174*COS($O174)+$K174*SIN($Z174)+2*$U174*$I174+$E174*$I174^2+$F174*$N174,0)","v":-1.0351969738793809},{"$f":"IF(Q174<>0,-$J174*SIN($O174)+$K174*COS($O174)-2*$P174*$I174+$F174*$I174^2-$E174*$N174,0)","v":-0.38055100032228134},{"$f":"IF(Q174<>0,-$G174*SIN(O174)+$H174*COS(O174)-$E174*$I174,0)","v":9.0009974673728621E-2},{"$f":"$G174*COS($O174)+$H174*SIN($O174)+$F174*$I174","v":-0.37912038117545865},{"$f":"-$G174*SIN($O174)+$H174*COS($O174)-$E174*$I174","v":9.0009974673728621E-2},null,4.3395327792267775,4.3672025935148344,-4.5796286407846285,-4.5420622201281979,-0.75420321927616707,-0.7192540565132759,2.695200203480387,-3.3394677185960289,2.059569257732381,4.3255054751762447,-4.5982274795220128,-3.6847695101792137,-0.38854736286808494,false,null,2.5258404934861938,null,null,null,-14.734924264052864,-62.667834070275234,134,2.5258404934861938,-58.804423057502383,0.22775108844508551,{"$f":"1/2*(INERTIA+mazalazo*($C174^2+$D174^2))*$I174^2","v":10.459217581828311},-62.667834070275234,-14.734924264052864,-58.804423057502383,10.686968670273396,0.18984424002054823,10.876812910293944,null,2.5258404934861938,0.2780315768714321,{"$f":"$H174-($I174*$C174)","v":-0.27300641242610979},0.38965890078809978,3.0552202902561754,2.1018876653961507,{"$f":"BL173+mazalazo*($I174*(BM174^2+BN174^2)+BM174*BR174-BN174*BQ174)*$BS174*DT","v":-73.734286131079713},4.3255054751762447,-4.5982274795220128,-6.0795715072733456,1.7007362691379078,-1.5085975841644292,-1.9536701578773235,-0.50101351074950595,6.0762376135347185E-2,5.761811057653328E-2]
[0,135,4.2966903071073332,-4.6346783635171622,-6.0863578362584239,1.7023628924115768,-1.5487071844463318,-1.9138087270338939,-0.38751987067834542,{"$f":"IF(($G175+$I175*$D175)^2+($H175-$I175*$D175)^2<>0,-mew*($G175+$I175*$D175)/SQRT(($G175+$I175*$D175)^2+($H175-$I175*$C175)^2),0)","v":-2.1151834162368557},{"$f":"-mew*($H175-$C175*$I175)/SQRT(($G175+$D175*$I175)^2+($H175-$I175*$C175)^2)","v":2.1274395680433758},-0.38803361677321757,{"$f":"($I175-$I174)/DT","v":5.4510153662045931E-2},{"$f":"IF(Q175<>0,mazalazo*(($D175*$J175-$C175*$K175)-2*$I175*($C175*$G175+$D175*$H175))/(INERTIA+mazalazo*($C175^2+$D175^2)),0)","v":5.141861427293655E-2},-3.6920837715380173,{"$f":"IF(Q175<>0,G175*COS(O175)+H175*SIN(O175)+F175*$I175,0)","v":-0.34091086202512266},-58.863953610995374,{"$f":"R174+mazalazo*($I175^2*($E175*$P175+$F175*$U175))*DT","v":121.68091602656294},{"$f":"IF(Q175<>0,$J175*COS($O175)+$K175*SIN($Z175)+2*$U175*$I175+$E175*$I175^2+$F175*$N175,0)","v":-1.0690693879114415},{"$f":"IF(Q175<>0,-$J175*SIN($O175)+$K175*COS($O175)-2*$P175*$I175+$F175*$I175^2-$E175*$N175,0)","v":-0.40230397040405808},{"$f":"IF(Q175<>0,-$G175*SIN(O175)+$H175*COS(O175)-$E175*$I175,0)","v":8.2630592578753159E-2},{"$f":"$G175*COS($O175)+$H175*SIN($O175)+$F175*$I175","v":-0.34091086202512266},{"$f":"-$G175*SIN($O175)+$H175*COS($O175)-$E175*$I175","v":8.2630592578753159E-2},null,4.311097891141789,4.3395327792267775,-4.6164529215195875,-4.5796286407846285,-0.79052041845531074,-0.75420321927616707,2.7066249090435983,-3.3480842683110854,2.0452602900064867,4.2966903071073332,-4.6346783635171622,-3.6920837715380173,-0.38803361677320836,false,null,2.5446900494077322,null,null,null,-14.77992075480944,-62.668059223445283,135,2.5446900494077322,-58.863953610995374,0.18457204601494218,{"$f":"1/2*(INERTIA+mazalazo*($C175^2+$D175^2))*$I175^2","v":10.423817703409883},-62.668059223445283,-14.77992075480944,-58.863931826461126,10.608389749424825,0.14892497665653082,10.757314726081356,null,2.5446900494077322,0.24970382352980991,{"$f":"$H175-($I175*$C175)","v":-0.24875585487875984},0.35246485615145956,3.0114325186618673,2.1172821959747297,{"$f":"BL174+mazalazo*($I175*(BM175^2+BN175^2)+BM175*BR175-BN175*BQ175)*$BS175*DT","v":-72.864342659709962},4.2966903071073332,-4.6346783635171622,-6.0863578362584239,1.7023628924115768,-1.5487071844463318,-1.9138087270338939,-0.49820129701287275,5.4510153662045931E-2,5.141861427293655E-2]
[0,136,4.2671236006671753,-4.6703733753271468,-6.0863578362584239,1.7023628924115768,-1.5883384868504664,-1.8734717130663683,-0.38751987067834542,{"$f":"IF(($G176+$I176*$D176)^2+($H176-$I176*$D176)^2<>0,-mew*($G176+$I176*$D176)/SQRT(($G176+$I176*$D176)^2+($H176-$I176*$C176)^2),0)","v":-2.1292230764894389},{"$f":"-mew*($H176-$C176*$I176)/SQRT(($G176+$D176*$I176)^2+($H176-$I176*$C176)^2)","v":2.1133880596201093},-0.38803361677321757,{"$f":"($I176-$I175)/DT","v":0},{"$f":"IF(Q176<>0,mazalazo*(($D176*$J176-$C176*$K176)-2*$I176*($C176*$G176+$D176*$H176))/(INERTIA+mazalazo*($C176^2+$D176^2)),0)","v":0},-3.6993980328968208,{"$f":"IF(Q176<>0,G176*COS(O176)+H176*SIN(O176)+F176*$I176,0)","v":0},0,{"$f":"R175+mazalazo*($I176^2*($E176*$P176+$F176*$U176))*DT","v":121.68091602656294},{"$f":"IF(Q176<>0,$J176*COS($O176)+$K176*SIN($Z176)+2*$U176*$I176+$E176*$I176^2+$F176*$N176,0)","v":0},{"$f":"IF(Q176<>0,-$J176*SIN($O176)+$K176*COS($O176)-2*$P176*$I176+$F176*$I176^2-$E176*$N176,0)","v":0},{"$f":"IF(Q176<>0,-$G176*SIN(O176)+$H176*COS(O176)-$E176*$I176,0)","v":0},{"$f":"$G176*COS($O176)+$H176*SIN($O176)+$F176*$I176","v":-0.30379956242936346},{"$f":"-$G176*SIN($O176)+$H176*COS($O176)-$E176*$I176","v":7.1652152285898829E-2},null,4.2819069538872547,4.311097891141789,-4.6525258694221545,-4.6164529215195875,-0.82831479640770234,-0.79052041845531074,2.7168863598022757,-3.356196154658794,2.0321804853590875,{"$f":"IF(Q176<>0,C176,(E176*COS(AJ176)-F176*SIN(AJ176)+C176)/2)","v":4.2649000143055229},{"$f":"IF(Q176<>0,D176,(E176*SIN(AJ176)+F176*COS(AJ176)+D176)/2)","v":-4.6681773005409557},-3.6993980328968208,-0.38803361677320836,false,null,2.5635396053292712,null,null,null,-14.812574544880974,-62.668059223445283,136,2.5446900494077322,-58.863953610995374,0,{"$f":"1/2*(INERTIA+mazalazo*($C176^2+$D176^2))*$I176^2","v":10.441599564523282},-62.668059223445283,-14.77992075480944,-58.863931826461126,10.441599564523282,0.14892497665653082,10.590524541179812,null,2.5635396053292712,0.22392338565906633,{"$f":"$H176-($I176*$C176)","v":-0.21987652716730888},0.31382697437310147,3.0552154230907709,2.1018893701524477,{"$f":"BL175+mazalazo*($I176*(BM176^2+BN176^2)+BM176*BR176-BN176*BQ176)*$BS176*DT","v":-71.98776305461152},4.2671236006671753,-4.6703733753271468,-6.0863578362584239,1.7023628924115768,-1.5883384868504664,-1.8734717130663683,-0.50131566012439943,0,0]
[0,137,4.2368143636391409,-4.7053036638327566,-6.0863578362584239,1.7023628924115768,-1.6274924500933052,-1.8326711837981133,-0.38751987067834542,{"$f":"IF(($G177+$I177*$D177)^2+($H177-$I177*$D177)^2<>0,-mew*($G177+$I177*$D177)/SQRT(($G177+$I177*$D177)^2+($H177-$I177*$C177)^2),0)","v":-2.1490262216912082},{"$f":"-mew*($H177-$C177*$I177)/SQRT(($G177+$D177*$I177)^2+($H177-$I177*$C177)^2)","v":2.0932477871679716},-0.38803361677321757,{"$f":"($I177-$I176)/DT","v":0},{"$f":"IF(Q177<>0,mazalazo*(($D177*$J177-$C177*$K177)-2*$I177*($C177*$G177+$D177*$H177))/(INERTIA+mazalazo*($C177^2+$D177^2)),0)","v":0},-3.7067122942556243,{"$f":"IF(Q177<>0,G177*COS(O177)+H177*SIN(O177)+F177*$I177,0)","v":0},0,{"$f":"R176+mazalazo*($I177^2*($E177*$P177+$F177*$U177))*DT","v":121.68091602656294},{"$f":"IF(Q177<>0,$J177*COS($O177)+$K177*SIN($Z177)+2*$U177*$I177+$E177*$I177^2+$F177*$N177,0)","v":0},{"$f":"IF(Q177<>0,-$J177*SIN($O177)+$K177*COS($O177)-2*$P177*$I177+$F177*$I177^2-$E177*$N177,0)","v":0},{"$f":"IF(Q177<>0,-$G177*SIN(O177)+$H177*COS(O177)-$E177*$I177,0)","v":0},{"$f":"$G177*COS($O177)+$H177*SIN($O177)+$F177*$I177","v":-0.26666845675038964},{"$f":"-$G177*SIN($O177)+$H177*COS($O177)-$E177*$I177","v":6.0700826574061395E-2},null,4.2519689821531585,4.2819069538872547,-4.6878385195799517,-4.6525258694221545,-0.8677064612039157,-0.82831479640770234,2.7259934888461821,-3.3637397243986555,2.0203555227485701,4.2326244334928287,-4.7011690651591387,-3.7067122942556243,-0.38803361677320836,false,null,2.5823891612508101,null,null,null,-14.831728197817611,-62.668059223445283,137,2.5446900494077322,-58.863953610995374,0,{"$f":"1/2*(INERTIA+mazalazo*($C177^2+$D177^2))*$I177^2","v":10.457310650018126},-62.668059223445283,-14.812574544880974,-58.863931826461126,10.457310650018126,0.14892497665653082,10.606235626674657,null,2.5823891612508101,0.19832354859999124,{"$f":"$H177-($I177*$C177)","v":-0.19082142951251702},0.27521818233992751,3.1179446004566609,2.0800380398940681,{"$f":"BL176+mazalazo*($I177*(BM177^2+BN177^2)+BM177*BR177-BN177*BQ177)*$BS177*DT","v":-71.102189089118539},4.2368143636391409,-4.7053036638327566,-6.0863578362584239,1.7023628924115768,-1.6274924500933052,-1.8326711837981133,-0.50585271347975003,0,0]
[0,138,4.2057715817791896,-4.7394606049932708,-6.0863578362584239,1.7023628924115768,-1.6661704978177214,-1.7914192019704429,-0.38751987067834542,{"$f":"IF(($G178+$I178*$D178)^2+($H178-$I178*$D178)^2<>0,-mew*($G178+$I178*$D178)/SQRT(($G178+$I178*$D178)^2+($H178-$I178*$C178)^2),0)","v":-2.1771800665283232},{"$f":"-mew*($H178-$C178*$I178)/SQRT(($G178+$D178*$I178)^2+($H178-$I178*$C178)^2)","v":2.0639493593379967},-0.38803361677321757,{"$f":"($I178-$I177)/DT","v":0},{"$f":"IF(Q178<>0,mazalazo*(($D178*$J178-$C178*$K178)-2*$I178*($C178*$G178+$D178*$H178))/(INERTIA+mazalazo*($C178^2+$D178^2)),0)","v":0},-3.7140265556144278,{"$f":"IF(Q178<>0,G178*COS(O178)+H178*SIN(O178)+F178*$I178,0)","v":0},0,{"$f":"R177+mazalazo*($I178^2*($E178*$P178+$F178*$U178))*DT","v":121.68091602656294},{"$f":"IF(Q178<>0,$J178*COS($O178)+$K178*SIN($Z178)+2*$U178*$I178+$E178*$I178^2+$F178*$N178,0)","v":0},{"$f":"IF(Q178<>0,-$J178*SIN($O178)+$K178*COS($O178)-2*$P178*$I178+$F178*$I178^2-$E178*$N178,0)","v":0},{"$f":"IF(Q178<>0,-$G178*SIN(O178)+$H178*COS(O178)-$E178*$I178,0)","v":0},{"$f":"$G178*COS($O178)+$H178*SIN($O178)+$F178*$I178","v":-0.22951655354421518},{"$f":"-$G178*SIN($O178)+$H178*COS($O178)-$E178*$I178","v":4.978612616058431E-2},null,4.2212929727091648,4.2519689821531585,-4.7223821344130137,-4.6878385195799517,-0.90882792209265451,-0.8677064612039157,2.7339580116033226,-3.3706505922554317,2.0098112703930986,4.19986897348757,-4.7336485147054095,-3.7140265556144278,-0.38803361677320836,false,null,2.6012387171723486,null,null,null,-14.835677857552492,-62.668059223445283,138,2.5446900494077322,-58.863953610995374,0,{"$f":"1/2*(INERTIA+mazalazo*($C178^2+$D178^2))*$I178^2","v":10.470943886470939},-62.668059223445283,-14.831728197817611,-58.863931826461126,10.470943886470939,0.14892497665653082,10.61986886312747,null,2.6012387171723486,0.17289954229199944,{"$f":"$H178-($I178*$C178)","v":-0.16159914249671115},0.23666122322944091,3.2097857628579609,2.0484869505644645,{"$f":"BL177+mazalazo*($I178*(BM178^2+BN178^2)+BM178*BR178-BN178*BQ178)*$BS178*DT","v":-70.203866777043999},4.2057715817791896,-4.7394606049932708,-6.0863578362584239,1.7023628924115768,-1.6661704978177214,-1.7914192019704429,-0.51260540782304864,0,0]
[0,139,4.1740042099933543,-4.7728358017453063,-6.0863578362584239,1.7023628924115768,-1.7043745784399795,-1.749727868265911,-0.38751987067834542,{"$f":"IF(($G179+$I179*$D179)^2+($H179-$I179*$D179)^2<>0,-mew*($G179+$I179*$D179)/SQRT(($G179+$I179*$D179)^2+($H179-$I179*$C179)^2),0)","v":-2.2181189794714067},{"$f":"-mew*($H179-$C179*$I179)/SQRT(($G179+$D179*$I179)^2+($H179-$I179*$C179)^2)","v":2.019888163465672},-0.38803361677321757,{"$f":"($I179-$I178)/DT","v":0},{"$f":"IF(Q179<>0,mazalazo*(($D179*$J179-$C179*$K179)-2*$I179*($C179*$G179+$D179*$H179))/(INERTIA+mazalazo*($C179^2+$D179^2)),0)","v":0},-3.7213408169732314,{"$f":"IF(Q179<>0,G179*COS(O179)+H179*SIN(O179)+F179*$I179,0)","v":0},0,{"$f":"R178+mazalazo*($I179^2*($E179*$P179+$F179*$U179))*DT","v":121.68091602656294},{"$f":"IF(Q179<>0,$J179*COS($O179)+$K179*SIN($Z179)+2*$U179*$I179+$E179*$I179^2+$F179*$N179,0)","v":0},{"$f":"IF(Q179<>0,-$J179*SIN($O179)+$K179*COS($O179)-2*$P179*$I179+$F179*$I179^2-$E179*$N179,0)","v":0},{"$f":"IF(Q179<>0,-$G179*SIN(O179)+$H179*COS(O179)-$E179*$I179,0)","v":0},{"$f":"$G179*COS($O179)+$H179*SIN($O179)+$F179*$I179","v":-0.19234273254637957},{"$f":"-$G179*SIN($O179)+$H179*COS($O179)-$E179*$I179","v":3.8917852449960044E-2},null,4.1898878958862724,4.2212929727091648,-4.756148203369289,-4.7223821344130137,-0.95182575317396156,-0.90882792209265451,2.7407943462473798,-3.3768636440647208,2.0005739653470407,4.1666390337341017,-4.7656106267237206,-3.7213408169732314,-0.38803361677320836,false,null,2.6200882730938875,null,null,null,-14.821752692122663,-62.668059223445283,139,2.5446900494077322,-58.863953610995374,0,{"$f":"1/2*(INERTIA+mazalazo*($C179^2+$D179^2))*$I179^2","v":10.482493132557742},-62.668059223445283,-14.835677857552492,-58.863931826461126,10.482493132557742,0.14892497665653082,10.631418109214273,null,2.6200882730938875,0.14764615997595132,{"$f":"$H179-($I179*$C179)","v":-0.13221829659841688},0.19819451685410258,3.3500543519568944,2.001341389717866,{"$f":"BL178+mazalazo*($I179*(BM179^2+BN179^2)+BM179*BR179-BN179*BQ179)*$BS179*DT","v":-69.286354192362609},4.1740042099933543,-4.7728358017453063,-6.0863578362584239,1.7023628924115768,-1.7043745784399795,-1.749727868265911,-0.52310195980129359,0,0]
[0,140,4.1415211628022686,-4.8054210843463938,-6.0863578362584239,1.7023628924115768,-1.74210728428646,-1.7076094086234597,-0.38751987067834542,{"$f":"IF(($G180+$I180*$D180)^2+($H180-$I180*$D180)^2<>0,-mew*($G180+$I180*$D180)/SQRT(($G180+$I180*$D180)^2+($H180-$I180*$C180)^2),0)","v":-2.2800728671384887},{"$f":"-mew*($H180-$C180*$I180)/SQRT(($G180+$D180*$I180)^2+($H180-$I180*$C180)^2)","v":1.94968400530416},-0.38803361677321757,{"$f":"($I180-$I179)/DT","v":0},{"$f":"IF(Q180<>0,mazalazo*(($D180*$J180-$C180*$K180)-2*$I180*($C180*$G180+$D180*$H180))/(INERTIA+mazalazo*($C180^2+$D180^2)),0)","v":0},-3.7286550783320349,{"$f":"IF(Q180<>0,G180*COS(O180)+H180*SIN(O180)+F180*$I180,0)","v":0},0,{"$f":"R179+mazalazo*($I180^2*($E180*$P180+$F180*$U180))*DT","v":121.68091602656294},{"$f":"IF(Q180<>0,$J180*COS($O180)+$K180*SIN($Z180)+2*$U180*$I180+$E180*$I180^2+$F180*$N180,0)","v":0},{"$f":"IF(Q180<>0,-$J180*SIN($O180)+$K180*COS($O180)-2*$P180*$I180+$F180*$I180^2-$E180*$N180,0)","v":0},{"$f":"IF(Q180<>0,-$G180*SIN(O180)+$H180*COS(O180)-$E180*$I180,0)","v":0},{"$f":"$G180*COS($O180)+$H180*SIN($O180)+$F180*$I180","v":-0.15514570447987064},{"$f":"-$G180*SIN($O180)+$H180*COS($O180)-$E180*$I180","v":2.8106246064607543E-2},null,4.1577626863978114,4.1898878958862724,-4.7891284430458505,-4.756148203369289,-0.99686252805435704,-0.95182575317396156,2.746519506516973,-3.3823129990503684,1.9926704383958065,4.1329399994857656,-4.7970504991841452,-3.7286550783320349,-0.38803361677320836,false,null,2.6389378290154264,null,null,null,-14.785401353729913,-62.668059223445283,140,2.5446900494077322,-58.863953610995374,0,{"$f":"1/2*(INERTIA+mazalazo*($C180^2+$D180^2))*$I180^2","v":10.491953181624273},-62.668059223445283,-14.821752692122663,-58.863931826461126,10.491953181624273,0.14892497665653082,10.640878158280804,null,2.6389378290154264,0.12255763919074814,{"$f":"$H180-($I180*$C180)","v":-0.10268766320269385},0.15989099755158037,3.5804974629376813,1.9267062831895918,{"$f":"BL179+mazalazo*($I180*(BM180^2+BN180^2)+BM180*BR180-BN180*BQ180)*$BS180*DT","v":-68.33727694538176},4.1415211628022686,-4.8054210843463938,-6.0863578362584239,1.7023628924115768,-1.74210728428646,-1.7076094086234597,-0.54071681241121039,0,0]
[0,141,4.108331304500151,-4.8372085107348148,-6.0863578362584239,1.7023628924115768,-1.7793721978214188,-1.6650764321479128,-0.38751987067834542,{"$f":"IF(($G181+$I181*$D181)^2+($H181-$I181*$D181)^2<>0,-mew*($G181+$I181*$D181)/SQRT(($G181+$I181*$D181)^2+($H181-$I181*$C181)^2),0)","v":-2.3799244142966871},{"$f":"-mew*($H181-$C181*$I181)/SQRT(($G181+$D181*$I181)^2+($H181-$I181*$C181)^2)","v":1.8264609993740821},-0.38803361677321757,{"$f":"($I181-$I180)/DT","v":0},{"$f":"IF(Q181<>0,mazalazo*(($D181*$J181-$C181*$K181)-2*$I181*($C181*$G181+$D181*$H181))/(INERTIA+mazalazo*($C181^2+$D181^2)),0)","v":0},-3.7359693396908384,{"$f":"IF(Q181<>0,G181*COS(O181)+H181*SIN(O181)+F181*$I181,0)","v":0},0,{"$f":"R180+mazalazo*($I181^2*($E181*$P181+$F181*$U181))*DT","v":121.68091602656294},{"$f":"IF(Q181<>0,$J181*COS($O181)+$K181*SIN($Z181)+2*$U181*$I181+$E181*$I181^2+$F181*$N181,0)","v":0},{"$f":"IF(Q181<>0,-$J181*SIN($O181)+$K181*COS($O181)-2*$P181*$I181+$F181*$I181^2-$E181*$N181,0)","v":0},{"$f":"IF(Q181<>0,-$G181*SIN(O181)+$H181*COS(O181)-$E181*$I181,0)","v":0},{"$f":"$G181*COS($O181)+$H181*SIN($O181)+$F181*$I181","v":-0.11792388459826753},{"$f":"-$G181*SIN($O181)+$H181*COS($O181)-$E181*$I181","v":1.7362405852897833E-2},null,4.1249262336512098,4.1577626863978114,-4.8213147975406043,-4.7891284430458505,-1.0441190770388176,-0.99686252805435704,2.7511529643966774,-3.3869319195859631,1.9861283947497206,4.0987772368347315,-4.8279633507065149,-3.7359693396908384,-0.38803361677320836,false,null,2.6577873849369649,null,null,null,-14.717906324457809,-62.668059223445283,141,2.5446900494077322,-58.863953610995374,0,{"$f":"1/2*(INERTIA+mazalazo*($C181^2+$D181^2))*$I181^2","v":10.499319764232455},-62.668059223445283,-14.785401353729913,-58.863931826461126,10.499319764232455,0.14892497665653082,10.648244740888986,null,2.6577873849369649,9.7627315685200777E-2,{"$f":"$H181-($I181*$C181)","v":-7.3016416324216182E-2},0.1219118116538718,4.011179427857881,1.7967844624815053,{"$f":"BL180+mazalazo*($I181*(BM181^2+BN181^2)+BM181*BR181-BN181*BQ181)*$BS181*DT","v":-67.328087304791111},4.108331304500151,-4.8372085107348148,-6.0863578362584239,1.7023628924115768,-1.7793721978214188,-1.6650764321479128,-0.57465182359349098,0,0]
[0,142,4.0744434438882973,-4.8681903626396643,-6.0863578362584239,1.7023628924115768,-1.8161757731474899,-1.6221433206577798,-0.38751987067834542,{"$f":"IF(($G182+$I182*$D182)^2+($H182-$I182*$D182)^2<>0,-mew*($G182+$I182*$D182)/SQRT(($G182+$I182*$D182)^2+($H182-$I182*$C182)^2),0)","v":-2.5561669635263007},{"$f":"-mew*($H182-$C182*$I182)/SQRT(($G182+$D182*$I182)^2+($H182-$I182*$C182)^2)","v":1.5703536081331277},-0.38803361677321757,{"$f":"($I182-$I181)/DT","v":0},{"$f":"IF(Q182<>0,mazalazo*(($D182*$J182-$C182*$K182)-2*$I182*($C182*$G182+$D182*$H182))/(INERTIA+mazalazo*($C182^2+$D182^2)),0)","v":0},-3.743283601049642,{"$f":"IF(Q182<>0,G182*COS(O182)+H182*SIN(O182)+F182*$I182,0)","v":0},0,{"$f":"R181+mazalazo*($I182^2*($E182*$P182+$F182*$U182))*DT","v":121.68091602656294},{"$f":"IF(Q182<>0,$J182*COS($O182)+$K182*SIN($Z182)+2*$U182*$I182+$E182*$I182^2+$F182*$N182,0)","v":0},{"$f":"IF(Q182<>0,-$J182*SIN($O182)+$K182*COS($O182)-2*$P182*$I182+$F182*$I182^2-$E182*$N182,0)","v":0},{"$f":"IF(Q182<>0,-$G182*SIN(O182)+$H182*COS(O182)-$E182*$I182,0)","v":0},{"$f":"$G182*COS($O182)+$H182*SIN($O182)+$F182*$I182","v":-8.0674659328946685E-2},{"$f":"-$G182*SIN($O182)+$H182*COS($O182)-$E182*$I182","v":6.7005156496939833E-3},null,4.0913873741942242,4.1249262336512098,-4.8526994366872396,-4.8213147975406043,-1.0937971272966236,-1.0441190770388176,2.7547165148671033,-3.3906526906141257,1.9809767130498357,4.064156090028777,-4.8583445186588001,-3.743283601049642,-0.38803361677320836,false,null,2.6766369408585038,null,null,null,-14.599430651087962,-62.668059223445283,142,2.5446900494077322,-58.863953610995374,0,{"$f":"1/2*(INERTIA+mazalazo*($C182^2+$D182^2))*$I182^2","v":10.50458955034563},-62.668059223445283,-14.717906324457809,-58.863931826461126,10.50458955034563,0.14892497665653082,10.653514527002161,null,2.6766369408585038,7.2845740408100657E-2,{"$f":"$H182-($I182*$C182)","v":-4.3215524195954425E-2},8.4699961199138168E-2,5.0569147381708746,1.5306568120267621,{"$f":"BL181+mazalazo*($I182*(BM182^2+BN182^2)+BM182*BR182-BN182*BQ182)*$BS182*DT","v":-66.16568655013549},4.0744434438882973,-4.8681903626396643,-6.0863578362584239,1.7023628924115768,-1.8161757731474899,-1.6221433206577798,-0.66163735941606427,0,0]
[0,143,4.0398664013987471,-4.8983590812468965,-6.0863578362584239,1.7023628924115768,-1.8525558455880455,-1.578845867163392,-0.38751987067834542,{"$f":"IF(($G183+$I183*$D183)^2+($H183-$I183*$D183)^2<>0,-mew*($G183+$I183*$D183)/SQRT(($G183+$I183*$D183)^2+($H183-$I183*$C183)^2),0)","v":-2.8799807422213042},{"$f":"-mew*($H183-$C183*$I183)/SQRT(($G183+$D183*$I183)^2+($H183-$I183*$C183)^2)","v":0.84006602385433182},-0.38803361677321757,{"$f":"($I183-$I182)/DT","v":0},{"$f":"IF(Q183<>0,mazalazo*(($D183*$J183-$C183*$K183)-2*$I183*($C183*$G183+$D183*$H183))/(INERTIA+mazalazo*($C183^2+$D183^2)),0)","v":0},-3.7505978624084455,{"$f":"IF(Q183<>0,G183*COS(O183)+H183*SIN(O183)+F183*$I183,0)","v":0},0,{"$f":"R182+mazalazo*($I183^2*($E183*$P183+$F183*$U183))*DT","v":121.68091602656294},{"$f":"IF(Q183<>0,$J183*COS($O183)+$K183*SIN($Z183)+2*$U183*$I183+$E183*$I183^2+$F183*$N183,0)","v":0},{"$f":"IF(Q183<>0,-$J183*SIN($O183)+$K183*COS($O183)-2*$P183*$I183+$F183*$I183^2-$E183*$N183,0)","v":0},{"$f":"IF(Q183<>0,-$G183*SIN(O183)+$H183*COS(O183)-$E183*$I183,0)","v":0},{"$f":"$G183*COS($O183)+$H183*SIN($O183)+$F183*$I183","v":-4.3382348957826777E-2},{"$f":"-$G183*SIN($O183)+$H183*COS($O183)-$E183*$I183","v":-3.8296957186974012E-3},null,4.0571549226435222,4.0913873741942242,-4.8832747219432804,-4.8526994366872396,-1.1461223441310253,-1.0937971272966236,2.757234032916799,-3.3934063446248004,1.9772459297171083,4.0290819149828465,-4.8881894270331214,-3.7505978624084455,-0.38803361677320836,false,null,2.6954864967800427,null,null,null,-14.372727585493237,-62.668059223445283,143,2.5446900494077322,-58.863953610995374,0,{"$f":"1/2*(INERTIA+mazalazo*($C183^2+$D183^2))*$I183^2","v":10.507760149694132},-62.668059223445283,-14.599430651087962,-58.863931826461126,10.507760149694132,0.14892497665653082,10.656685126350663,null,2.6954864967800427,4.8172144962122854E-2,{"$f":"$H183-($I183*$C183)","v":-1.3317361735556865E-2},4.9979072358812868E-2,10.851731578373741,0.79937628533487171,{"$f":"BL182+mazalazo*($I183*(BM183^2+BN183^2)+BM183*BR183-BN183*BQ183)*$BS183*DT","v":-64.041596370972812},4.0398664013987471,-4.8983590812468965,-6.0863578362584239,1.7023628924115768,-1.8525558455880455,-1.578845867163392,-1.2087404091722511,0,0]
[0,144,4.0046191565391354,-4.9277015004123772,-6.0863578362584239,1.7023628924115768,-1.8966123518235427,-1.528702802626428,-0.38751987067834542,{"$f":"IF(($G184+$I184*$D184)^2+($H184-$I184*$D184)^2<>0,-mew*($G184+$I184*$D184)/SQRT(($G184+$I184*$D184)^2+($H184-$I184*$C184)^2),0)","v":-1.4655130887609369},{"$f":"-mew*($H184-$C184*$I184)/SQRT(($G184+$D184*$I184)^2+($H184-$I184*$C184)^2)","v":-2.6176843558134308},-0.38803361677321757,{"$f":"($I184-$I183)/DT","v":0},{"$f":"IF(Q184<>0,mazalazo*(($D184*$J184-$C184*$K184)-2*$I184*($C184*$G184+$D184*$H184))/(INERTIA+mazalazo*($C184^2+$D184^2)),0)","v":0},-3.757912123767249,{"$f":"IF(Q184<>0,G184*COS(O184)+H184*SIN(O184)+F184*$I184,0)","v":0},0,{"$f":"R183+mazalazo*($I184^2*($E184*$P184+$F184*$U184))*DT","v":121.68091602656294},{"$f":"IF(Q184<>0,$J184*COS($O184)+$K184*SIN($Z184)+2*$U184*$I184+$E184*$I184^2+$F184*$N184,0)","v":0},{"$f":"IF(Q184<>0,-$J184*SIN($O184)+$K184*COS($O184)-2*$P184*$I184+$F184*$I184^2-$E184*$N184,0)","v":0},{"$f":"IF(Q184<>0,-$G184*SIN(O184)+$H184*COS(O184)-$E184*$I184,0)","v":0},{"$f":"$G184*COS($O184)+$H184*SIN($O184)+$F184*$I184","v":4.3131225067186696E-3},{"$f":"-$G184*SIN($O184)+$H184*COS($O184)-$E184*$I184","v":-1.4835899599856983E-2},null,4.0222427789689412,4.0571549226435222,-4.9130302908296368,-4.8832747219432804,-1.2012385434489867,-1.1461223441310253,2.7563870469578631,-3.3924355950920981,1.9785343991364359,3.9935651529508771,-4.9174907030948898,-3.757912123767249,-0.38803361677320836,false,null,2.7143360527015812,null,null,null,-13.989261363536192,-62.668059223445283,144,2.5446900494077322,-58.863953610995374,0,{"$f":"1/2*(INERTIA+mazalazo*($C184^2+$D184^2))*$I184^2","v":10.508835627116285},-62.668059223445283,-14.372727585493237,-58.863931826461126,10.508835627116285,0.14892497665653082,10.657760603772816,null,2.7143360527015812,1.550148376028293E-2,{"$f":"$H184-($I184*$C184)","v":2.3166695031642481E-2},2.7874571879392945E-2,-2.0073839284080091,-2.4933148891268648,{"$f":"BL183+mazalazo*($I184*(BM184^2+BN184^2)+BM184*BR184-BN184*BQ184)*$BS184*DT","v":-64.790698992247144},4.0046191565391354,-4.9277015004123772,-6.0863578362584239,1.7023628924115768,-1.8966123518235427,-1.528702802626428,0.42605528238968005,0,0]
[0,145,3.9692951858600947,-4.9565137616358292,-6.0863578362584239,1.7023628924115768,-1.8788033643038464,-1.5299428865953553,-0.38751987067834542,{"$f":"IF(($G185+$I185*$D185)^2+($H185-$I185*$D185)^2<>0,-mew*($G185+$I185*$D185)/SQRT(($G185+$I185*$D185)^2+($H185-$I185*$C185)^2),0)","v":-2.943761994363999},{"$f":"-mew*($H185-$C185*$I185)/SQRT(($G185+$D185*$I185)^2+($H185-$I185*$C185)^2)","v":-0.57815683039992816},-0.38803361677321757,{"$f":"($I185-$I184)/DT","v":0},{"$f":"IF(Q185<>0,mazalazo*(($D185*$J185-$C185*$K185)-2*$I185*($C185*$G185+$D185*$H185))/(INERTIA+mazalazo*($C185^2+$D185^2)),0)","v":0},-3.7652263851260526,{"$f":"IF(Q185<>0,G185*COS(O185)+H185*SIN(O185)+F185*$I185,0)","v":0},0,{"$f":"R184+mazalazo*($I185^2*($E185*$P185+$F185*$U185))*DT","v":121.68091602656294},{"$f":"IF(Q185<>0,$J185*COS($O185)+$K185*SIN($Z185)+2*$U185*$I185+$E185*$I185^2+$F185*$N185,0)","v":0},{"$f":"IF(Q185<>0,-$J185*SIN($O185)+$K185*COS($O185)-2*$P185*$I185+$F185*$I185^2-$E185*$N185,0)","v":0},{"$f":"IF(Q185<>0,-$G185*SIN(O185)+$H185*COS(O185)-$E185*$I185,0)","v":0},{"$f":"$G185*COS($O185)+$H185*SIN($O185)+$F185*$I185","v":-2.802812710041902E-2},{"$f":"-$G185*SIN($O185)+$H185*COS($O185)-$E185*$I185","v":-1.9435469889601542E-2},null,3.9869571711996148,4.0222427789689412,-4.9421076310241032,-4.9130302908296368,-1.2260048041730367,-1.2012385434489867,1.1014278184940958,-1.4044347820248242,4.5652384907843508,3.9579034994586029,-4.9463956349120251,-3.7652263851260526,-0.38803361677320836,false,null,2.7331856086231201,null,null,null,-13.626484872295123,-62.668059223445283,145,2.5446900494077322,-58.863953610995374,0,{"$f":"1/2*(INERTIA+mazalazo*($C185^2+$D185^2))*$I185^2","v":10.509537591510611},-62.668059223445283,-13.989261363536192,-58.863931826461126,10.509537591510611,0.14892497665653082,10.658462568167142,null,2.7331856086231201,4.4490597209930094E-2,{"$f":"$H185-($I185*$C185)","v":8.2378705133276942E-3},4.5246831388403248E-2,-16.20222015068725,-0.5461954082008309,{"$f":"BL184+mazalazo*($I185*(BM185^2+BN185^2)+BM185*BR185-BN185*BQ185)*$BS185*DT","v":-67.890623031916434},3.9692951858600947,-4.9565137616358292,-6.0863578362584239,1.7023628924115768,-1.8788033643038464,-1.5299428865953553,1.7677282211323269,0,0]
[0,146,3.9334199944655199,-4.9853390382038416,-6.0863578362584239,1.7023628924115768,-1.9049649191651543,-1.5169415436827542,-0.38751987067834542,{"$f":"IF(($G186+$I186*$D186)^2+($H186-$I186*$D186)^2<>0,-mew*($G186+$I186*$D186)/SQRT(($G186+$I186*$D186)^2+($H186-$I186*$C186)^2),0)","v":-2.8946717034592129},{"$f":"-mew*($H186-$C186*$I186)/SQRT(($G186+$D186*$I186)^2+($H186-$I186*$C186)^2)","v":-0.78795667976896977},-0.38803361677321757,{"$f":"($I186-$I185)/DT","v":0},{"$f":"IF(Q186<>0,mazalazo*(($D186*$J186-$C186*$K186)-2*$I186*($C186*$G186+$D186*$H186))/(INERTIA+mazalazo*($C186^2+$D186^2)),0)","v":0},-3.7725406464848561,{"$f":"IF(Q186<>0,G186*COS(O186)+H186*SIN(O186)+F186*$I186,0)","v":0},0,{"$f":"R185+mazalazo*($I186^2*($E186*$P186+$F186*$U186))*DT","v":121.68091602656294},{"$f":"IF(Q186<>0,$J186*COS($O186)+$K186*SIN($Z186)+2*$U186*$I186+$E186*$I186^2+$F186*$N186,0)","v":0},{"$f":"IF(Q186<>0,-$J186*SIN($O186)+$K186*COS($O186)-2*$P186*$I186+$F186*$I186^2-$E186*$N186,0)","v":0},{"$f":"IF(Q186<>0,-$G186*SIN(O186)+$H186*COS(O186)-$E186*$I186,0)","v":0},{"$f":"$G186*COS($O186)+$H186*SIN($O186)+$F186*$I186","v":-1.6359755492567851E-2},{"$f":"-$G186*SIN($O186)+$H186*COS($O186)-$E186*$I186","v":-9.9430729047140787E-3},null,3.9513575901628073,3.9869571711996148,-4.9709263999198354,-4.9421076310241032,-1.2445740567285903,-1.2260048041730367,4.8991242534373661E-2,-0.11414248381078274,6.2303148490292877,3.9218606700074696,-4.9751750334683358,-3.7725406464848561,-0.38803361677320836,false,null,2.752035164544659,null,null,null,-13.247069761116848,-62.668059223445283,146,2.5446900494077322,-58.863953610995374,0,{"$f":"1/2*(INERTIA+mazalazo*($C186^2+$D186^2))*$I186^2","v":10.510228059040916},-62.668059223445283,-13.626484872295123,-58.863931826461126,10.510228059040916,0.14892497665653082,10.659153035697447,null,2.752035164544659,2.951421866979631E-2,{"$f":"$H186-($I186*$C186)","v":7.3368638961421873E-3},3.0412475655873E-2,-12.068188433473019,-0.72373561223635741,{"$f":"BL185+mazalazo*($I186*(BM186^2+BN186^2)+BM186*BR186-BN186*BQ186)*$BS186*DT","v":-70.264907343776997},3.9334199944655199,-4.9853390382038416,-6.0863578362584239,1.7023628924115768,-1.9049649191651543,-1.5169415436827542,1.350460353372859,0,0]
[0,147,3.8976614383641,-5.0135621042500826,-6.0863578362584239,1.7023628924115768,-1.9030323750589626,-1.4981929040818045,-0.38751987067834542,{"$f":"IF(($G187+$I187*$D187)^2+($H187-$I187*$D187)^2<>0,-mew*($G187+$I187*$D187)/SQRT(($G187+$I187*$D187)^2+($H187-$I187*$C187)^2),0)","v":-2.867837434448504},{"$f":"-mew*($H187-$C187*$I187)/SQRT(($G187+$D187*$I187)^2+($H187-$I187*$C187)^2)","v":-0.88062957568765832},-0.38803361677321757,{"$f":"($I187-$I186)/DT","v":0},{"$f":"IF(Q187<>0,mazalazo*(($D187*$J187-$C187*$K187)-2*$I187*($C187*$G187+$D187*$H187))/(INERTIA+mazalazo*($C187^2+$D187^2)),0)","v":0},-3.7798549078436596,{"$f":"IF(Q187<>0,G187*COS(O187)+H187*SIN(O187)+F187*$I187,0)","v":0},0,{"$f":"R186+mazalazo*($I187^2*($E187*$P187+$F187*$U187))*DT","v":121.68091602656294},{"$f":"IF(Q187<>0,$J187*COS($O187)+$K187*SIN($Z187)+2*$U187*$I187+$E187*$I187^2+$F187*$N187,0)","v":0},{"$f":"IF(Q187<>0,-$J187*SIN($O187)+$K187*COS($O187)-2*$P187*$I187+$F187*$I187^2-$E187*$N187,0)","v":0},{"$f":"IF(Q187<>0,-$G187*SIN(O187)+$H187*COS(O187)-$E187*$I187,0)","v":0},{"$f":"$G187*COS($O187)+$H187*SIN($O187)+$F187*$I187","v":-2.3937025050731253E-2},{"$f":"-$G187*SIN($O187)+$H187*COS($O187)-$E187*$I187","v":-2.1509433789733023E-2},null,3.9155407164148102,3.9513575901628073,-4.9994505712269621,-4.9709263999198354,-1.2669975701021536,-1.2445740567285903,0.65552869469517172,-0.86902326120437134,5.2619480677409944,3.8857715611988901,-5.0035205172351178,-3.7798549078436596,-0.38803361677320836,false,null,2.7708847204661975,null,null,null,-12.863842806268103,-62.668059223445283,147,2.5446900494077322,-58.863953610995374,0,{"$f":"1/2*(INERTIA+mazalazo*($C187^2+$D187^2))*$I187^2","v":10.510717201725054},-62.668059223445283,-13.247069761116848,-58.863931826461126,10.510717201725054,0.14892497665653082,10.659642178381585,null,2.7708847204661975,4.2398261170340179E-2,{"$f":"$H187-($I187*$C187)","v":1.2228352461025382E-2},4.4126467728331044E-2,-10.401628830737423,-0.8313617488925541,{"$f":"BL186+mazalazo*($I187*(BM187^2+BN187^2)+BM187*BR187-BN187*BQ187)*$BS187*DT","v":-72.346392016719676},3.8976614383641,-5.0135621042500826,-6.0863578362584239,1.7023628924115768,-1.9030323750589626,-1.4981929040818045,1.1870661561059035,0,0]
[0,148,3.8613666902925554,-5.0419429030733909,-6.0863578362584239,1.7023628924115768,-1.9271366865955881,-1.4968844094214304,-0.38751987067834542,{"$f":"IF(($G188+$I188*$D188)^2+($H188-$I188*$D188)^2<>0,-mew*($G188+$I188*$D188)/SQRT(($G188+$I188*$D188)^2+($H188-$I188*$C188)^2),0)","v":-2.9994141005046777},{"$f":"-mew*($H188-$C188*$I188)/SQRT(($G188+$D188*$I188)^2+($H188-$I188*$C188)^2)","v":5.9287888254800886E-2},-0.38803361677321757,{"$f":"($I188-$I187)/DT","v":0},{"$f":"IF(Q188<>0,mazalazo*(($D188*$J188-$C188*$K188)-2*$I188*($C188*$G188+$D188*$H188))/(INERTIA+mazalazo*($C188^2+$D188^2)),0)","v":0},-3.7871691692024632,{"$f":"IF(Q188<>0,G188*COS(O188)+H188*SIN(O188)+F188*$I188,0)","v":0},0,{"$f":"R187+mazalazo*($I188^2*($E188*$P188+$F188*$U188))*DT","v":121.68091602656294},{"$f":"IF(Q188<>0,$J188*COS($O188)+$K188*SIN($Z188)+2*$U188*$I188+$E188*$I188^2+$F188*$N188,0)","v":0},{"$f":"IF(Q188<>0,-$J188*SIN($O188)+$K188*COS($O188)-2*$P188*$I188+$F188*$I188^2-$E188*$N188,0)","v":0},{"$f":"IF(Q188<>0,-$G188*SIN(O188)+$H188*COS(O188)-$E188*$I188,0)","v":0},{"$f":"$G188*COS($O188)+$H188*SIN($O188)+$F188*$I188","v":-2.1007197693191038E-2},{"$f":"-$G188*SIN($O188)+$H188*COS($O188)-$E188*$I188","v":-3.4644446959308794E-3},null,3.8795140643283279,3.9155407164148102,-5.0277525036617368,-4.9994505712269621,-1.2788487137908473,-1.2669975701021536,-2.3601886200472944,2.9518832486893247,10.129584799994303,3.8493107335940406,-5.0318112963713224,-3.7871691692024632,-0.38803361677320836,false,null,2.7897342763877364,null,null,null,-12.54199415031759,-62.668059223445283,148,2.5446900494077322,-58.863953610995374,0,{"$f":"1/2*(INERTIA+mazalazo*($C188^2+$D188^2))*$I188^2","v":10.511566713770552},-62.668059223445283,-12.863842806268103,-58.863931826461126,10.511566713770552,0.14892497665653082,10.660491690427083,null,2.7897342763877364,2.9306653648036196E-2,{"$f":"$H188-($I188*$C188)","v":-5.2808895758871266E-4},2.9311411190747545E-2,166.48702776433095,5.4049491594121146E-2,{"$f":"BL187+mazalazo*($I188*(BM188^2+BN188^2)+BM188*BR188-BN188*BQ188)*$BS188*DT","v":-40.676983199985614},3.8613666902925554,-5.0419429030733909,-6.0863578362584239,1.7023628924115768,-1.9271366865955881,-1.4968844094214304,-17.992770887312918,0,0]
[0,149,3.8252296147156337,-5.0697674772474359,-6.0863578362584239,1.7023628924115768,-1.9251723016499998,-1.4735023112196848,-0.38751987067834542,{"$f":"IF(($G189+$I189*$D189)^2+($H189-$I189*$D189)^2<>0,-mew*($G189+$I189*$D189)/SQRT(($G189+$I189*$D189)^2+($H189-$I189*$C189)^2),0)","v":-2.9272904430137059},{"$f":"-mew*($H189-$C189*$I189)/SQRT(($G189+$D189*$I189)^2+($H189-$I189*$C189)^2)","v":-0.65648355824089111},-0.38803361677321757,{"$f":"($I189-$I188)/DT","v":0},{"$f":"IF(Q189<>0,mazalazo*(($D189*$J189-$C189*$K189)-2*$I189*($C189*$G189+$D189*$H189))/(INERTIA+mazalazo*($C189^2+$D189^2)),0)","v":0},-3.7944834305612667,{"$f":"IF(Q189<>0,G189*COS(O189)+H189*SIN(O189)+F189*$I189,0)","v":0},0,{"$f":"R188+mazalazo*($I189^2*($E189*$P189+$F189*$U189))*DT","v":121.68091602656294},{"$f":"IF(Q189<>0,$J189*COS($O189)+$K189*SIN($Z189)+2*$U189*$I189+$E189*$I189^2+$F189*$N189,0)","v":0},{"$f":"IF(Q189<>0,-$J189*SIN($O189)+$K189*COS($O189)-2*$P189*$I189+$F189*$I189^2-$E189*$N189,0)","v":0},{"$f":"IF(Q189<>0,-$G189*SIN(O189)+$H189*COS(O189)-$E189*$I189,0)","v":0},{"$f":"$G189*COS($O189)+$H189*SIN($O189)+$F189*$I189","v":-2.5606186776416795E-2},{"$f":"-$G189*SIN($O189)+$H189*COS($O189)-$E189*$I189","v":-1.8622382172793106E-2},null,3.8432981525040946,3.8795140643283279,-5.055855190160413,-5.0277525036617368,-1.2987467607188254,-1.2788487137908473,0.10336533280493644,-0.1986295552701085,6.1302306394839965,3.812826099161744,-5.0596896378191207,-3.7944834305612667,-0.38803361677320836,false,null,2.8085838323092749,null,null,null,-12.168610732079857,-62.668059223445283,149,2.5446900494077322,-58.863953610995374,0,{"$f":"1/2*(INERTIA+mazalazo*($C189^2+$D189^2))*$I189^2","v":10.512373794162377},-62.668059223445283,-12.54199415031759,-58.863931826461126,10.512373794162377,0.14892497665653082,10.661298770818908,null,2.8085838323092749,4.2067908745553773E-2,{"$f":"$H189-($I189*$C189)","v":8.8501743898947716E-3},4.2988772173159225E-2,-14.260027054468232,-0.61761529412234728,{"$f":"BL188+mazalazo*($I189*(BM189^2+BN189^2)+BM189*BR189-BN189*BQ189)*$BS189*DT","v":-43.483823456756625},3.8252296147156337,-5.0697674772474359,-6.0863578362584239,1.7023628924115768,-1.9251723016499998,-1.4735023112196848,1.5997499405187559,0,0]
[0,150,3.7885067807374937,-5.0976288848514928,-6.0863578362584239,1.7023628924115768,-1.9490997595288957,-1.4691308756707331,-0.38751987067834542,{"$f":"IF(($G190+$I190*$D190)^2+($H190-$I190*$D190)^2<>0,-mew*($G190+$I190*$D190)/SQRT(($G190+$I190*$D190)^2+($H190-$I190*$C190)^2),0)","v":-2.9977991451477575},{"$f":"-mew*($H190-$C190*$I190)/SQRT(($G190+$D190*$I190)^2+($H190-$I190*$C190)^2)","v":0.11489249475650298},-0.38803361677321757,{"$f":"($I190-$I189)/DT","v":0},{"$f":"IF(Q190<>0,mazalazo*(($D190*$J190-$C190*$K190)-2*$I190*($C190*$G190+$D190*$H190))/(INERTIA+mazalazo*($C190^2+$D190^2)),0)","v":0},-3.8017976919200702,{"$f":"IF(Q190<>0,G190*COS(O190)+H190*SIN(O190)+F190*$I190,0)","v":0},0,{"$f":"R189+mazalazo*($I190^2*($E190*$P190+$F190*$U190))*DT","v":121.68091602656294},{"$f":"IF(Q190<>0,$J190*COS($O190)+$K190*SIN($Z190)+2*$U190*$I190+$E190*$I190^2+$F190*$N190,0)","v":0},{"$f":"IF(Q190<>0,-$J190*SIN($O190)+$K190*COS($O190)-2*$P190*$I190+$F190*$I190^2-$E190*$N190,0)","v":0},{"$f":"IF(Q190<>0,-$G190*SIN(O190)+$H190*COS(O190)-$E190*$I190,0)","v":0},{"$f":"$G190*COS($O190)+$H190*SIN($O190)+$F190*$I190","v":-2.1157684539920396E-2},{"$f":"-$G190*SIN($O190)+$H190*COS($O190)-$E190*$I190","v":-2.8257389767123442E-3},null,3.8068681977265637,3.8432981525040946,-5.0836981810494644,-5.055855190160413,-1.3180537932617897,-1.2987467607188254,-8.5820980802399596E-2,4.7075556699756049E-2,6.440332240728428,3.7759469276817459,-5.0874513234596517,-3.8017976919200702,-0.38803361677320836,false,null,2.8274333882308138,null,null,null,-11.847741292894685,-62.668059223445283,150,2.5446900494077322,-58.863953610995374,0,{"$f":"1/2*(INERTIA+mazalazo*($C190^2+$D190^2))*$I190^2","v":10.513202740930872},-62.668059223445283,-12.168610732079857,-58.863931826461126,10.513202740930872,0.14892497665653082,10.662127717587403,null,2.8274333882308138,2.8951613627652861E-2,{"$f":"$H190-($I190*$C190)","v":-1.0092179353047293E-3},2.896919834040693E-2,86.061531255618362,0.10451286122374825,{"$f":"BL189+mazalazo*($I190*(BM190^2+BN190^2)+BM190*BR190-BN190*BQ190)*$BS190*DT","v":-26.919828018092115},3.7885067807374937,-5.0976288848514928,-6.0863578362584239,1.7023628924115768,-1.9490997595288957,-1.4691308756707331,-9.4083451758835821,0,0]
[0,151,3.7519701480130365,-5.1249345506605115,-6.0863578362584239,1.7023628924115768,-1.9463451885474625,-1.4457078009527655,-0.38751987067834542,{"$f":"IF(($G191+$I191*$D191)^2+($H191-$I191*$D191)^2<>0,-mew*($G191+$I191*$D191)/SQRT(($G191+$I191*$D191)^2+($H191-$I191*$C191)^2),0)","v":-2.9370763779712066},{"$f":"-mew*($H191-$C191*$I191)/SQRT(($G191+$D191*$I191)^2+($H191-$I191*$C191)^2)","v":-0.61121383325603584},-0.38803361677321757,{"$f":"($I191-$I190)/DT","v":0},{"$f":"IF(Q191<>0,mazalazo*(($D191*$J191-$C191*$K191)-2*$I191*($C191*$G191+$D191*$H191))/(INERTIA+mazalazo*($C191^2+$D191^2)),0)","v":0},-3.8091119532788738,{"$f":"IF(Q191<>0,G191*COS(O191)+H191*SIN(O191)+F191*$I191,0)","v":0},0,{"$f":"R190+mazalazo*($I191^2*($E191*$P191+$F191*$U191))*DT","v":121.68091602656294},{"$f":"IF(Q191<>0,$J191*COS($O191)+$K191*SIN($Z191)+2*$U191*$I191+$E191*$I191^2+$F191*$N191,0)","v":0},{"$f":"IF(Q191<>0,-$J191*SIN($O191)+$K191*COS($O191)-2*$P191*$I191+$F191*$I191^2-$E191*$N191,0)","v":0},{"$f":"IF(Q191<>0,-$G191*SIN(O191)+$H191*COS(O191)-$E191*$I191,0)","v":0},{"$f":"$G191*COS($O191)+$H191*SIN($O191)+$F191*$I191","v":-2.6068764451642967E-2},{"$f":"-$G191*SIN($O191)+$H191*COS($O191)-$E191*$I191","v":-1.8319062040601075E-2},null,3.7702384643752653,3.8068681977265637,-5.1112817177560022,-5.0836981810494644,-1.3380604955763276,-1.3180537932617897,-2.1665593759216496E-2,-3.7484694550689923E-2,6.3341883097892344,3.7390601896476725,-5.114799325748022,-3.8091119532788738,-0.38803361677320836,false,null,2.8462829441523527,null,null,null,-11.474508714647058,-62.668059223445283,151,2.5446900494077322,-58.863953610995374,0,{"$f":"1/2*(INERTIA+mazalazo*($C191^2+$D191^2))*$I191^2","v":10.514020485207155},-62.668059223445283,-11.847741292894685,-58.863931826461126,10.514020485207155,0.14892497665653082,10.662945461863686,null,2.8462829441523527,4.2301700871360426E-2,{"$f":"$H191-($I191*$C191)","v":8.2551855942589736E-3},4.3099675008121771E-2,-15.372774017623151,-0.57461121871823995,{"$f":"BL190+mazalazo*($I191*(BM191^2+BN191^2)+BM191*BR191-BN191*BQ191)*$BS191*DT","v":-29.962924078493121},3.7519701480130365,-5.1249345506605115,-6.0863578362584239,1.7023628924115768,-1.9463451885474625,-1.4457078009527655,1.7341060692570331,0,0]
[0,152,3.7148476913916846,-5.1522631116551114,-6.0863578362584239,1.7023628924115768,-1.9700725055241395,-1.4409232544354584,-0.38751987067834542,{"$f":"IF(($G192+$I192*$D192)^2+($H192-$I192*$D192)^2<>0,-mew*($G192+$I192*$D192)/SQRT(($G192+$I192*$D192)^2+($H192-$I192*$C192)^2),0)","v":-2.996147148335691},{"$f":"-mew*($H192-$C192*$I192)/SQRT(($G192+$D192*$I192)^2+($H192-$I192*$C192)^2)","v":0.15199429436629491},-0.38803361677321757,{"$f":"($I192-$I191)/DT","v":0},{"$f":"IF(Q192<>0,mazalazo*(($D192*$J192-$C192*$K192)-2*$I192*($C192*$G192+$D192*$H192))/(INERTIA+mazalazo*($C192^2+$D192^2)),0)","v":0},-3.8164262146376773,{"$f":"IF(Q192<>0,G192*COS(O192)+H192*SIN(O192)+F192*$I192,0)","v":0},0,{"$f":"R191+mazalazo*($I192^2*($E192*$P192+$F192*$U192))*DT","v":121.68091602656294},{"$f":"IF(Q192<>0,$J192*COS($O192)+$K192*SIN($Z192)+2*$U192*$I192+$E192*$I192^2+$F192*$N192,0)","v":0},{"$f":"IF(Q192<>0,-$J192*SIN($O192)+$K192*COS($O192)-2*$P192*$I192+$F192*$I192^2-$E192*$N192,0)","v":0},{"$f":"IF(Q192<>0,-$G192*SIN(O192)+$H192*COS(O192)-$E192*$I192,0)","v":0},{"$f":"$G192*COS($O192)+$H192*SIN($O192)+$F192*$I192","v":-2.1687097290250534E-2},{"$f":"-$G192*SIN($O192)+$H192*COS($O192)-$E192*$I192","v":-2.6589358365445293E-3},null,3.7334089197023603,3.7702384643752653,-5.138598831157811,-5.1112817177560022,-1.3583758262532484,-1.3380604955763276,-3.7008279841627759E-2,-1.6955252407787391E-2,6.3598183863139806,3.7017808685359235,-5.1420222305078962,-3.8164262146376773,{"$f":"(AJ192-AJ191)/DT","v":-0.38803361677320836},false,null,2.8651325000738912,null,null,null,-11.153107857962475,-62.668059223445283,152,2.5446900494077322,-58.863953610995374,0,{"$f":"1/2*(INERTIA+mazalazo*($C192^2+$D192^2))*$I192^2","v":10.514848171685399},-62.668059223445283,-11.474508714647058,-58.863931826461126,10.514848171685399,0.14892497665653082,10.66377314834193,null,2.8651325000738912,2.9178784258625523E-2,{"$f":"$H192-($I192*$C192)","v":-1.3459574776026884E-3},2.9209810891940524E-2,65.036492038210085,0.13823685636808355,{"$f":"BL191+mazalazo*($I192*(BM192^2+BN192^2)+BM192*BR192-BN192*BQ192)*$BS192*DT","v":-17.303636337926413},3.7148476913916846,-5.1522631116551114,-6.0863578362584239,1.7023628924115768,-1.9700725055241395,-1.4409232544354584,-7.1894622582611394,0,0]
[0,153,3.6779208112372626,-5.1790384825679991,-6.0863578362584239,1.7023628924115768,-1.9670852952245097,-1.4173462969832604,-0.38751987067834542,{"$f":"IF(($G193+$I193*$D193)^2+($H193-$I193*$D193)^2<>0,-mew*($G193+$I193*$D193)/SQRT(($G193+$I193*$D193)^2+($H193-$I193*$C193)^2),0)","v":-2.942560499449391},{"$f":"-mew*($H193-$C193*$I193)/SQRT(($G193+$D193*$I193)^2+($H193-$I193*$C193)^2)","v":-0.58424113778486231},-0.38803361677321757,{"$f":"($I193-$I192)/DT","v":0},{"$f":"IF(Q193<>0,mazalazo*(($D193*$J193-$C193*$K193)-2*$I193*($C193*$G193+$D193*$H193))/(INERTIA+mazalazo*($C193^2+$D193^2)),0)","v":0},-3.8237404759964808,{"$f":"IF(Q193<>0,G193*COS(O193)+H193*SIN(O193)+F193*$I193,0)","v":0},0,{"$f":"R192+mazalazo*($I193^2*($E193*$P193+$F193*$U193))*DT","v":121.68091602656294},{"$f":"IF(Q193<>0,$J193*COS($O193)+$K193*SIN($Z193)+2*$U193*$I193+$E193*$I193^2+$F193*$N193,0)","v":0},{"$f":"IF(Q193<>0,-$J193*SIN($O193)+$K193*COS($O193)-2*$P193*$I193+$F193*$I193^2-$E193*$N193,0)","v":0},{"$f":"IF(Q193<>0,-$G193*SIN(O193)+$H193*COS(O193)-$E193*$I193,0)","v":0},{"$f":"$G193*COS($O193)+$H193*SIN($O193)+$F193*$I193","v":-2.6390231756651783E-2},{"$f":"-$G193*SIN($O193)+$H193*COS($O193)-$E193*$I193","v":-1.8239643918012582E-2},null,3.6963842513144733,3.7334089197023603,-5.1656507971115548,-5.138598831157811,-1.3791360827292254,-1.3583758262532484,-2.9262421518978794E-2,-2.7477039106855727E-2,6.3467520508703155,3.6645006659123212,-5.1688312697438956,-3.8237404759964808,-0.38803361677320836,false,null,2.8839820559954301,null,null,null,-10.778962673648229,-62.668059223445283,153,2.5446900494077322,-58.863953610995374,0,{"$f":"1/2*(INERTIA+mazalazo*($C193^2+$D193^2))*$I193^2","v":10.515666432009365},-62.668059223445283,-11.153107857962475,-58.863931826461126,10.515666432009365,0.14892497665653082,10.664591408665896,null,2.8839820559954301,4.2555738574027391E-2,{"$f":"$H193-($I193*$C193)","v":7.9211001525989477E-3},4.3286657450171247E-2,-16.117359112066524,-0.54897517751634184,{"$f":"BL192+mazalazo*($I193*(BM193^2+BN193^2)+BM193*BR193-BN193*BQ193)*$BS193*DT","v":-20.517770284597599},3.6779208112372626,-5.1790384825679991,-6.0863578362584239,1.7023628924115768,-1.9670852952245097,-1.4173462969832604,1.8313248991423627,0,0]
[0,154,3.6404080062601287,-5.2058290591756693,-6.0863578362584239,1.7023628924115768,-1.9905660273895531,-1.4125227974995478,-0.38751987067834542,{"$f":"IF(($G194+$I194*$D194)^2+($H194-$I194*$D194)^2<>0,-mew*($G194+$I194*$D194)/SQRT(($G194+$I194*$D194)^2+($H194-$I194*$C194)^2),0)","v":-2.99331131640584},{"$f":"-mew*($H194-$C194*$I194)/SQRT(($G194+$D194*$I194)^2+($H194-$I194*$C194)^2)","v":0.20021828856709639},-0.38803361677321757,{"$f":"($I194-$I193)/DT","v":0},{"$f":"IF(Q194<>0,mazalazo*(($D194*$J194-$C194*$K194)-2*$I194*($C194*$G194+$D194*$H194))/(INERTIA+mazalazo*($C194^2+$D194^2)),0)","v":0},-3.8310547373552843,{"$f":"IF(Q194<>0,G194*COS(O194)+H194*SIN(O194)+F194*$I194,0)","v":0},0,{"$f":"R193+mazalazo*($I194^2*($E194*$P194+$F194*$U194))*DT","v":121.68091602656294},{"$f":"IF(Q194<>0,$J194*COS($O194)+$K194*SIN($Z194)+2*$U194*$I194+$E194*$I194^2+$F194*$N194,0)","v":0},{"$f":"IF(Q194<>0,-$J194*SIN($O194)+$K194*COS($O194)-2*$P194*$I194+$F194*$I194^2-$E194*$N194,0)","v":0},{"$f":"IF(Q194<>0,-$G194*SIN(O194)+$H194*COS(O194)-$E194*$I194,0)","v":0},{"$f":"$G194*COS($O194)+$H194*SIN($O194)+$F194*$I194","v":-2.2339120661506673E-2},{"$f":"-$G194*SIN($O194)+$H194*COS($O194)-$E194*$I194","v":-2.4552384167391139E-3},null,3.6591644087486959,3.6963842513144733,-5.1924337708718342,-5.1656507971115548,-1.4002238744795774,-1.3791360827292254,-4.5073690764013338E-2,-5.671147177282343E-3,6.3736879057636644,3.6268298377946095,-5.1955099233262594,-3.8310547373552843,-0.38803361677320836,false,null,2.902831611916969,null,null,null,-10.458016699388706,-62.668059223445283,154,2.5446900494077322,-58.863953610995374,0,{"$f":"1/2*(INERTIA+mazalazo*($C194^2+$D194^2))*$I194^2","v":10.516496629190074},-62.668059223445283,-10.778962673648229,-58.863931826461126,10.516496629190074,0.14892497665653082,10.665421605846605,null,2.902831611916969,2.9470650745498261E-2,{"$f":"$H194-($I194*$C194)","v":-1.7923576972094235E-3},2.9525104597238654E-2,49.327180826765805,0.18211868052556071,{"$f":"BL193+mazalazo*($I194*(BM194^2+BN194^2)+BM194*BR194-BN194*BQ194)*$BS194*DT","v":-10.806447856241499},3.6404080062601287,-5.2058290591756693,-6.0863578362584239,1.7023628924115768,-1.9905660273895531,-1.4125227974995478,-5.5144747819315851,0,0]
[0,155,3.6030969702320275,-5.2320684182151771,-6.0863578362584239,1.7023628924115768,-1.9875741961256748,-1.3886172545339495,-0.38751987067834542,{"$f":"IF(($G195+$I195*$D195)^2+($H195-$I195*$D195)^2<>0,-mew*($G195+$I195*$D195)/SQRT(($G195+$I195*$D195)^2+($H195-$I195*$C195)^2),0)","v":-2.9464217784094244},{"$f":"-mew*($H195-$C195*$I195)/SQRT(($G195+$D195*$I195)^2+($H195-$I195*$C195)^2)","v":-0.56444548338581302},-0.38803361677321757,{"$f":"($I195-$I194)/DT","v":0},{"$f":"IF(Q195<>0,mazalazo*(($D195*$J195-$C195*$K195)-2*$I195*($C195*$G195+$D195*$H195))/(INERTIA+mazalazo*($C195^2+$D195^2)),0)","v":0},-3.8383689987140879,{"$f":"IF(Q195<>0,G195*COS(O195)+H195*SIN(O195)+F195*$I195,0)","v":0},0,{"$f":"R194+mazalazo*($I195^2*($E195*$P195+$F195*$U195))*DT","v":121.68091602656294},{"$f":"IF(Q195<>0,$J195*COS($O195)+$K195*SIN($Z195)+2*$U195*$I195+$E195*$I195^2+$F195*$N195,0)","v":0},{"$f":"IF(Q195<>0,-$J195*SIN($O195)+$K195*COS($O195)-2*$P195*$I195+$F195*$I195^2-$E195*$N195,0)","v":0},{"$f":"IF(Q195<>0,-$G195*SIN(O195)+$H195*COS(O195)-$E195*$I195,0)","v":0},{"$f":"$G195*COS($O195)+$H195*SIN($O195)+$F195*$I195","v":-2.6542489396599089E-2},{"$f":"-$G195*SIN($O195)+$H195*COS($O195)-$E195*$I195","v":-1.8110006452319638E-2},null,3.6217524882460781,3.6591644087486959,-5.2189487386954232,-5.1924337708718342,-1.4219492165156615,-1.4002238744795774,-9.9524566261280853E-3,-5.4848737718335983E-2,6.3132557800758242,3.5891632429560207,-5.2217742689876356,-3.8383689987140879,-0.38803361677320836,false,null,2.9216811678385075,null,null,null,-10.082531813055153,-62.668059223445283,{"$f":"AT194+1","v":155},2.5446900494077322,-58.863953610995374,0,{"$f":"1/2*(INERTIA+mazalazo*($C195^2+$D195^2))*$I195^2","v":10.517312301009875},-62.668059223445283,-10.458016699388706,-58.863931826461126,10.517312301009875,0.14892497665653082,10.666237277666406,null,2.9216811678385075,4.2644235399287744E-2,{"$f":"$H195-($I195*$C195)","v":7.6544174119039798E-3},4.3325753527267419E-2,-16.713578488534626,-0.53001391473225801,{"$f":"BL194+mazalazo*($I195*(BM195^2+BN195^2)+BM195*BR195-BN195*BQ195)*$BS195*DT","v":-14.165873004070031},3.6030969702320275,-5.2320684182151771,-6.0863578362584239,1.7023628924115768,-1.9875741961256748,-1.3886172545339495,1.913813048038185,0,0]
[0,156,3.5651999082578709,-5.2583170592939048,-6.0863578362584239,1.7023628924115768,-2.0106711259209131,-1.3840389838375045,-0.38751987067834542,{"$f":"IF(($G196+$I196*$D196)^2+($H196-$I196*$D196)^2<>0,-mew*($G196+$I196*$D196)/SQRT(($G196+$I196*$D196)^2+($H196-$I196*$C196)^2),0)","v":-2.9877215121425467},{"$f":"-mew*($H196-$C196*$I196)/SQRT(($G196+$D196*$I196)^2+($H196-$I196*$C196)^2)","v":0.2711460231695339},-0.38803361677321757,{"$f":"($I196-$I195)/DT","v":0},{"$f":"IF(Q196<>0,mazalazo*(($D196*$J196-$C196*$K196)-2*$I196*($C196*$G196+$D196*$H196))/(INERTIA+mazalazo*($C196^2+$D196^2)),0)","v":0},-3.8456832600728914,{"$f":"IF(Q196<>0,G196*COS(O196)+H196*SIN(O196)+F196*$I196,0)","v":0},0,{"$f":"R195+mazalazo*($I196^2*($E196*$P196+$F196*$U196))*DT","v":121.68091602656294},{"$f":"IF(Q196<>0,$J196*COS($O196)+$K196*SIN($Z196)+2*$U196*$I196+$E196*$I196^2+$F196*$N196,0)","v":0},{"$f":"IF(Q196<>0,-$J196*SIN($O196)+$K196*COS($O196)-2*$P196*$I196+$F196*$I196^2-$E196*$N196,0)","v":0},{"$f":"IF(Q196<>0,-$G196*SIN(O196)+$H196*COS(O196)-$E196*$I196,0)","v":0},{"$f":"$G196*COS($O196)+$H196*SIN($O196)+$F196*$I196","v":-2.3109921191864724E-2},{"$f":"-$G196*SIN($O196)+$H196*COS($O196)-$E196*$I196","v":-2.0795496601371255E-3},null,3.5841484392449492,3.6217524882460781,-5.2451927387545414,-5.2189487386954232,-1.4437723408420138,-1.4219492165156615,-6.8630460879405511E-2,2.858840445631472E-2,6.4152608972631198,3.5511080010070328,-5.2479038533159947,-3.8456832600728914,-0.38803361677320836,false,null,2.9405307237600464,null,null,null,-9.7640469616978152,-62.668059223445283,156,2.5446900494077322,-58.863953610995374,0,{"$f":"1/2*(INERTIA+mazalazo*($C196^2+$D196^2))*$I196^2","v":10.518145972646373},-62.668059223445283,-10.082531813055153,-58.863931826461126,10.518145972646373,0.14892497665653082,10.667070949302904,null,2.9405307237600464,2.973266073721037E-2,{"$f":"$H196-($I196*$C196)","v":-2.4531764469652995E-3},2.9833692181726289E-2,36.360198355064682,0.24668516709452917,{"$f":"BL195+mazalazo*($I196*(BM196^2+BN196^2)+BM196*BR196-BN196*BQ196)*$BS196*DT","v":-6.9206182040066686},3.5651999082578709,-5.2583170592939048,-6.0863578362584239,1.7023628924115768,-2.0106711259209131,-1.3840389838375045,-4.1134496626809893,0,0]
[0,157,3.5275083013088082,-5.2840154377818722,-6.0863578362584239,1.7023628924115768,-2.0080027785966004,-1.3595003754813879,-0.38751987067834542,{"$f":"IF(($G197+$I197*$D197)^2+($H197-$I197*$D197)^2<>0,-mew*($G197+$I197*$D197)/SQRT(($G197+$I197*$D197)^2+($H197-$I197*$C197)^2),0)","v":-2.9480322727518926},{"$f":"-mew*($H197-$C197*$I197)/SQRT(($G197+$D197*$I197)^2+($H197-$I197*$C197)^2)","v":-0.55597276805011886},-0.38803361677321757,{"$f":"($I197-$I196)/DT","v":0},{"$f":"IF(Q197<>0,mazalazo*(($D197*$J197-$C197*$K197)-2*$I197*($C197*$G197+$D197*$H197))/(INERTIA+mazalazo*($C197^2+$D197^2)),0)","v":0},-3.8529975214316949,{"$f":"IF(Q197<>0,G197*COS(O197)+H197*SIN(O197)+F197*$I197,0)","v":0},0,{"$f":"R196+mazalazo*($I197^2*($E197*$P197+$F197*$U197))*DT","v":121.68091602656294},{"$f":"IF(Q197<>0,$J197*COS($O197)+$K197*SIN($Z197)+2*$U197*$I197+$E197*$I197^2+$F197*$N197,0)","v":0},{"$f":"IF(Q197<>0,-$J197*SIN($O197)+$K197*COS($O197)-2*$P197*$I197+$F197*$I197^2-$E197*$N197,0)","v":0},{"$f":"IF(Q197<>0,-$G197*SIN(O197)+$H197*COS(O197)-$E197*$I197,0)","v":0},{"$f":"$G197*COS($O197)+$H197*SIN($O197)+$F197*$I197","v":-2.6362795698867458E-2},{"$f":"-$G197*SIN($O197)+$H197*COS($O197)-$E197*$I197","v":-1.7815259118066695E-2},null,3.5463541047833393,3.5841484392449492,-5.2711662485378881,-5.2451927387545414,-1.4666920314334544,-1.4437723408420138,3.2348355088408304E-2,-0.11720201704899047,6.2379141289146185,3.5130608746074987,-5.2736182082383909,-3.8529975214316949,-0.38803361677320836,false,null,2.9593802796815853,null,null,null,-9.3865562066459365,-62.668059223445283,157,2.5446900494077322,-58.863953610995374,0,{"$f":"1/2*(INERTIA+mazalazo*($C197^2+$D197^2))*$I197^2","v":10.518953583906121},-62.668059223445283,-9.7640469616978152,-58.863931826461126,10.518953583906121,0.14892497665653082,10.667878560562652,null,2.9593802796815853,4.2372842811416067E-2,{"$f":"$H197-($I197*$C197)","v":7.4791852585913698E-3},4.302785167834091E-2,-16.996306955791294,-0.52146586223984281,{"$f":"BL196+mazalazo*($I197*(BM197^2+BN197^2)+BM197*BR197-BN197*BQ197)*$BS197*DT","v":-10.366377375134597},3.5275083013088082,-5.2840154377818722,-6.0863578362584239,1.7023628924115768,-2.0080027785966004,-1.3595003754813879,1.9625951642503665,0,0]
[0,158,3.4892301948371838,-5.3097178553686373,-6.0863578362584239,1.7023628924115768,-2.0304542301157551,-1.3555440196742372,-0.38751987067834542,{"$f":"IF(($G198+$I198*$D198)^2+($H198-$I198*$D198)^2<>0,-mew*($G198+$I198*$D198)/SQRT(($G198+$I198*$D198)^2+($H198-$I198*$C198)^2),0)","v":-2.9768050647443589},{"$f":"-mew*($H198-$C198*$I198)/SQRT(($G198+$D198*$I198)^2+($H198-$I198*$C198)^2)","v":0.37233265571573759},-0.38803361677321757,{"$f":"($I198-$I197)/DT","v":0},{"$f":"IF(Q198<>0,mazalazo*(($D198*$J198-$C198*$K198)-2*$I198*($C198*$G198+$D198*$H198))/(INERTIA+mazalazo*($C198^2+$D198^2)),0)","v":0},-3.8603117827904985,{"$f":"IF(Q198<>0,G198*COS(O198)+H198*SIN(O198)+F198*$I198,0)","v":0},0,{"$f":"R197+mazalazo*($I198^2*($E198*$P198+$F198*$U198))*DT","v":121.68091602656294},{"$f":"IF(Q198<>0,$J198*COS($O198)+$K198*SIN($Z198)+2*$U198*$I198+$E198*$I198^2+$F198*$N198,0)","v":0},{"$f":"IF(Q198<>0,-$J198*SIN($O198)+$K198*COS($O198)-2*$P198*$I198+$F198*$I198^2-$E198*$N198,0)","v":0},{"$f":"IF(Q198<>0,-$G198*SIN(O198)+$H198*COS(O198)-$E198*$I198,0)","v":0},{"$f":"$G198*COS($O198)+$H198*SIN($O198)+$F198*$I198","v":-2.3997556348834159E-2},{"$f":"-$G198*SIN($O198)+$H198*COS($O198)-$E198*$I198","v":-1.4407632043891283E-3},null,3.508369248072996,3.5463541047833393,-5.2968666465752552,-5.2711662485378881,-1.4892803893799851,-1.4666920314334544,-9.5809722451657989E-2,7.0766414042854997E-2,6.4654158347291224,3.4746269137194332,-5.2991937963366462,-3.8603117827904985,-0.38803361677320836,false,null,2.9782298356031238,null,null,null,-9.0733018570677952,-62.668059223445283,158,2.5446900494077322,-58.863953610995374,0,{"$f":"1/2*(INERTIA+mazalazo*($C198^2+$D198^2))*$I198^2","v":10.519786381890738},-62.668059223445283,-9.3865562066459365,-58.863931826461126,10.519786381890738,0.14892497665653082,10.668711358547268,null,2.9782298356031238,2.9894793348269388E-2,{"$f":"$H198-($I198*$C198)","v":-3.3979858039536737E-3},3.0087289290655652E-2,26.393394563466774,0.33881275622350615,{"$f":"BL197+mazalazo*($I198*(BM198^2+BN198^2)+BM198*BR198-BN198*BQ198)*$BS198*DT","v":-5.0351486002744048},3.4892301948371838,-5.3097178553686373,-6.0863578362584239,1.7023628924115768,-2.0304542301157551,-1.3555440196742372,-3.0261274193960324,0,0]
[0,159,3.4511579664300038,-5.3348699446246002,-6.0863578362584239,1.7023628924115768,-2.0286457427743412,-1.3299430030616728,-0.38751987067834542,{"$f":"IF(($G199+$I199*$D199)^2+($H199-$I199*$D199)^2<>0,-mew*($G199+$I199*$D199)/SQRT(($G199+$I199*$D199)^2+($H199-$I199*$C199)^2),0)","v":-2.9459815718938822},{"$f":"-mew*($H199-$C199*$I199)/SQRT(($G199+$D199*$I199)^2+($H199-$I199*$C199)^2)","v":-0.56673854471144935},-0.38803361677321757,{"$f":"($I199-$I198)/DT","v":0},{"$f":"IF(Q199<>0,mazalazo*(($D199*$J199-$C199*$K199)-2*$I199*($C199*$G199+$D199*$H199))/(INERTIA+mazalazo*($C199^2+$D199^2)),0)","v":0},-3.867626044149302,{"$f":"IF(Q199<>0,G199*COS(O199)+H199*SIN(O199)+F199*$I199,0)","v":0},0,{"$f":"R198+mazalazo*($I199^2*($E199*$P199+$F199*$U199))*DT","v":121.68091602656294},{"$f":"IF(Q199<>0,$J199*COS($O199)+$K199*SIN($Z199)+2*$U199*$I199+$E199*$I199^2+$F199*$N199,0)","v":0},{"$f":"IF(Q199<>0,-$J199*SIN($O199)+$K199*COS($O199)-2*$P199*$I199+$F199*$I199^2-$E199*$N199,0)","v":0},{"$f":"IF(Q199<>0,-$G199*SIN(O199)+$H199*COS(O199)-$E199*$I199,0)","v":0},{"$f":"$G199*COS($O199)+$H199*SIN($O199)+$F199*$I199","v":-2.5610850252778983E-2},{"$f":"-$G199*SIN($O199)+$H199*COS($O199)-$E199*$I199","v":-1.7199628695748093E-2},null,3.4701940806335938,3.508369248072996,-5.3222938999966187,-5.2968666465752552,-1.5136805543163381,-1.4892803893799851,9.8053692862078379E-2,-0.21795056860212014,6.1176499338559376,3.4362033393787961,-5.3243527531648169,-3.867626044149302,-0.38803361677320836,false,null,2.9970793915246627,null,null,null,-8.6927246330792602,-62.668059223445283,159,2.5446900494077322,-58.863953610995374,0,{"$f":"1/2*(INERTIA+mazalazo*($C199^2+$D199^2))*$I199^2","v":10.520574237734643},-62.668059223445283,-9.0733018570677952,-58.863931826461126,10.520574237734643,0.14892497665653082,10.669499214391173,null,2.9970793915246627,4.1463136853077565E-2,{"$f":"$H199-($I199*$C199)","v":7.4492857798238443E-3},4.2126993440388366E-2,-16.698166003529828,-0.53048783011526279,{"$f":"BL198+mazalazo*($I199*(BM199^2+BN199^2)+BM199*BR199-BN199*BQ199)*$BS199*DT","v":-8.4537669338656301},3.4511579664300038,-5.3348699446246002,-6.0863578362584239,1.7023628924115768,-2.0286457427743412,-1.3299430030616728,1.9465581681035047,0,0]
[0,160,3.4124963636625014,-5.360016231810282,-6.0863578362584239,1.7023628924115768,-2.0500989817941271,-1.3267956338493736,-0.38751987067834542,{"$f":"IF(($G200+$I200*$D200)^2+($H200-$I200*$D200)^2<>0,-mew*($G200+$I200*$D200)/SQRT(($G200+$I200*$D200)^2+($H200-$I200*$C200)^2),0)","v":-2.9612321119103675},{"$f":"-mew*($H200-$C200*$I200)/SQRT(($G200+$D200*$I200)^2+($H200-$I200*$C200)^2)","v":0.48073316859861542},-0.38803361677321757,{"$f":"($I200-$I199)/DT","v":0},{"$f":"IF(Q200<>0,mazalazo*(($D200*$J200-$C200*$K200)-2*$I200*($C200*$G200+$D200*$H200))/(INERTIA+mazalazo*($C200^2+$D200^2)),0)","v":0},-3.8749403055081055,{"$f":"IF(Q200<>0,G200*COS(O200)+H200*SIN(O200)+F200*$I200,0)","v":0},0,{"$f":"R199+mazalazo*($I200^2*($E200*$P200+$F200*$U200))*DT","v":121.68091602656294},{"$f":"IF(Q200<>0,$J200*COS($O200)+$K200*SIN($Z200)+2*$U200*$I200+$E200*$I200^2+$F200*$N200,0)","v":0},{"$f":"IF(Q200<>0,-$J200*SIN($O200)+$K200*COS($O200)-2*$P200*$I200+$F200*$I200^2-$E200*$N200,0)","v":0},{"$f":"IF(Q200<>0,-$G200*SIN(O200)+$H200*COS(O200)-$E200*$I200,0)","v":0},{"$f":"$G200*COS($O200)+$H200*SIN($O200)+$F200*$I200","v":-2.4708014072634343E-2},{"$f":"-$G200*SIN($O200)+$H200*COS($O200)-$E200*$I200","v":-6.0275941810505884E-4},null,3.4318271650462524,3.4701940806335938,-5.3474430882174406,-5.3222938999966187,-1.53746763814565,-1.5136805543163381,-6.6896885016678037E-2,3.1731913556195757E-2,6.4168999455714317,3.3973935625670504,-5.3493666686902523,-3.8749403055081055,-0.38803361677320836,false,null,3.0159289474462012,null,null,null,-8.3854966107184978,-62.668059223445283,160,2.5446900494077322,-58.863953610995374,0,{"$f":"1/2*(INERTIA+mazalazo*($C200^2+$D200^2))*$I200^2","v":10.521379939115292},-62.668059223445283,-8.6927246330792602,-58.863931826461126,10.521379939115292,0.14892497665653082,10.670304915771823,null,3.0159289474462012,2.9767502598369688E-2,{"$f":"$H200-($I200*$C200)","v":-4.3854843125570309E-3},3.008881326339791E-2,20.363203110636537,0.43725396619997314,{"$f":"BL199+mazalazo*($I200*(BM200^2+BN200^2)+BM200*BR200-BN200*BQ200)*$BS200*DT","v":-4.279618373457426},3.4124963636625014,-5.360016231810282,-6.0863578362584239,1.7023628924115768,-2.0500989817941271,-1.3267956338493736,-2.3687304357090464,0,0]
[0,161,3.3740456554970035,-5.3846169263575909,-6.0863578362584239,1.7023628924115768,-2.049238038435953,-1.3000849509676198,-0.38751987067834542,{"$f":"IF(($G201+$I201*$D201)^2+($H201-$I201*$D201)^2<>0,-mew*($G201+$I201*$D201)/SQRT(($G201+$I201*$D201)^2+($H201-$I201*$C201)^2),0)","v":-2.9425983968402596},{"$f":"-mew*($H201-$C201*$I201)/SQRT(($G201+$D201*$I201)^2+($H201-$I201*$C201)^2)","v":-0.58405023321041005},-0.38803361677321757,{"$f":"($I201-$I200)/DT","v":0},{"$f":"IF(Q201<>0,mazalazo*(($D201*$J201-$C201*$K201)-2*$I201*($C201*$G201+$D201*$H201))/(INERTIA+mazalazo*($C201^2+$D201^2)),0)","v":0},-3.8822545668669091,{"$f":"IF(Q201<>0,G201*COS(O201)+H201*SIN(O201)+F201*$I201,0)","v":0},0,{"$f":"R200+mazalazo*($I201^2*($E201*$P201+$F201*$U201))*DT","v":121.68091602656294},{"$f":"IF(Q201<>0,$J201*COS($O201)+$K201*SIN($Z201)+2*$U201*$I201+$E201*$I201^2+$F201*$N201,0)","v":0},{"$f":"IF(Q201<>0,-$J201*SIN($O201)+$K201*COS($O201)-2*$P201*$I201+$F201*$I201^2-$E201*$N201,0)","v":0},{"$f":"IF(Q201<>0,-$G201*SIN(O201)+$H201*COS(O201)-$E201*$I201,0)","v":0},{"$f":"$G201*COS($O201)+$H201*SIN($O201)+$F201*$I201","v":-2.4583393543280652E-2},{"$f":"-$G201*SIN($O201)+$H201*COS($O201)-$E201*$I201","v":-1.6315399449546852E-2},null,3.3932710095797525,3.4318271650462524,-5.372316579083936,-5.3474430882174406,-1.5629927883358878,-1.53746763814565,9.6431166508574431E-2,-0.21937968006526454,6.1173442591610341,3.358598759855107,-5.3739649820702429,-3.8822545668669091,-0.38803361677320836,false,null,3.0347785033677401,null,null,null,-8.0015651148944329,-62.668059223445283,161,2.5446900494077322,-58.863953610995374,0,{"$f":"1/2*(INERTIA+mazalazo*($C201^2+$D201^2))*$I201^2","v":10.522140879526283},-62.668059223445283,-8.3854966107184978,-58.863931826461126,10.522140879526283,0.14892497665653082,10.671065856182814,null,3.0347785033677401,4.0174342436869015E-2,{"$f":"$H201-($I201*$C201)","v":7.4247851134121579E-3},4.0854684238348503E-2,-16.232527335086619,-0.54520933781513625,{"$f":"BL200+mazalazo*($I201*(BM201^2+BN201^2)+BM201*BR201-BN201*BQ201)*$BS201*DT","v":-7.6362311095768547},3.3740456554970035,-5.3846169263575909,-6.0863578362584239,1.7023628924115768,-2.049238038435953,-1.3000849509676198,1.9105633381668621,0,0]
[0,162,3.3349995394701604,-5.4091890783592644,-6.0863578362584239,1.7023628924115768,-2.0697188305806336,-1.2970814347749164,-0.38751987067834542,{"$f":"IF(($G202+$I202*$D202)^2+($H202-$I202*$D202)^2<>0,-mew*($G202+$I202*$D202)/SQRT(($G202+$I202*$D202)^2+($H202-$I202*$C202)^2),0)","v":-2.9536735671945316},{"$f":"-mew*($H202-$C202*$I202)/SQRT(($G202+$D202*$I202)^2+($H202-$I202*$C202)^2)","v":0.52517850151765766},-0.38803361677321757,{"$f":"($I202-$I201)/DT","v":0},{"$f":"IF(Q202<>0,mazalazo*(($D202*$J202-$C202*$K202)-2*$I202*($C202*$G202+$D202*$H202))/(INERTIA+mazalazo*($C202^2+$D202^2)),0)","v":0},-3.8895688282257126,{"$f":"IF(Q202<>0,G202*COS(O202)+H202*SIN(O202)+F202*$I202,0)","v":0},0,{"$f":"R201+mazalazo*($I202^2*($E202*$P202+$F202*$U202))*DT","v":121.68091602656294},{"$f":"IF(Q202<>0,$J202*COS($O202)+$K202*SIN($Z202)+2*$U202*$I202+$E202*$I202^2+$F202*$N202,0)","v":0},{"$f":"IF(Q202<>0,-$J202*SIN($O202)+$K202*COS($O202)-2*$P202*$I202+$F202*$I202^2-$E202*$N202,0)","v":0},{"$f":"IF(Q202<>0,-$G202*SIN(O202)+$H202*COS(O202)-$E202*$I202,0)","v":0},{"$f":"$G202*COS($O202)+$H202*SIN($O202)+$F202*$I202","v":-2.4675546910049362E-2},{"$f":"-$G202*SIN($O202)+$H202*COS($O202)-$E202*$I202","v":-4.3228713124676688E-6},null,3.3545225974835819,3.3932710095797525,-5.3969030023584281,-5.372316579083936,-1.5890393329889823,-1.5629927883358878,8.5378337684137232E-2,-0.20210418832195831,6.137853867140322,3.3194168269411906,-5.3984055604323409,-3.8895688282257126,-0.38803361677320836,false,null,3.0536280592892791,null,null,null,-7.6943885377515171,-62.668059223445283,162,2.5446900494077322,-58.863953610995374,0,{"$f":"1/2*(INERTIA+mazalazo*($C202^2+$D202^2))*$I202^2","v":10.522876319213616},-62.668059223445283,-8.0015651148944329,-58.863931826461126,10.522876319213616,0.14892497665653082,10.671801295870146,null,3.0536280592892791,2.9228371305299206E-2,{"$f":"$H202-($I202*$C202)","v":-4.7028445270984598E-3},2.960429759015569E-2,18.645122842280561,0.47657045529723652,{"$f":"BL201+mazalazo*($I202*(BM202^2+BN202^2)+BM202*BR202-BN202*BQ202)*$BS202*DT","v":-3.7708631930805638},3.3349995394701604,-5.4091890783592644,-6.0863578362584239,1.7023628924115768,-2.0697188305806336,-1.2970814347749164,-2.1929704895070605,0,0]
[0,163,3.2961914948222084,-5.4332341753671338,-6.0863578362584239,1.7023628924115768,-2.0681444245251717,-1.2702673923012953,-0.38751987067834542,{"$f":"IF(($G203+$I203*$D203)^2+($H203-$I203*$D203)^2<>0,-mew*($G203+$I203*$D203)/SQRT(($G203+$I203*$D203)^2+($H203-$I203*$C203)^2),0)","v":-2.9476004078247513},{"$f":"-mew*($H203-$C203*$I203)/SQRT(($G203+$D203*$I203)^2+($H203-$I203*$C203)^2)","v":-0.55825785779634007},-0.38803361677321757,{"$f":"($I203-$I202)/DT","v":0},{"$f":"IF(Q203<>0,mazalazo*(($D203*$J203-$C203*$K203)-2*$I203*($C203*$G203+$D203*$H203))/(INERTIA+mazalazo*($C203^2+$D203^2)),0)","v":0},-3.8968830895845161,{"$f":"IF(Q203<>0,G203*COS(O203)+H203*SIN(O203)+F203*$I203,0)","v":0},0,{"$f":"R202+mazalazo*($I203^2*($E203*$P203+$F203*$U203))*DT","v":121.68091602656294},{"$f":"IF(Q203<>0,$J203*COS($O203)+$K203*SIN($Z203)+2*$U203*$I203+$E203*$I203^2+$F203*$N203,0)","v":0},{"$f":"IF(Q203<>0,-$J203*SIN($O203)+$K203*COS($O203)-2*$P203*$I203+$F203*$I203^2-$E203*$N203,0)","v":0},{"$f":"IF(Q203<>0,-$G203*SIN(O203)+$H203*COS(O203)-$E203*$I203,0)","v":0},{"$f":"$G203*COS($O203)+$H203*SIN($O203)+$F203*$I203","v":-2.4708903419326189E-2},{"$f":"-$G203*SIN($O203)+$H203*COS($O203)-$E203*$I203","v":-1.6024545379993427E-2},null,3.3155955171461846,3.3545225974835819,-5.4212116268631991,-5.3969030023584281,-1.6139691445308375,-1.5890393329889823,-0.1407196713843363,0.15717444119834578,6.5623543615921189,3.2802655551594602,-5.4224384973087023,-3.8968830895845161,-0.38803361677320836,false,null,3.0724776152108175,null,null,null,-7.3095635380877226,-62.668059223445283,163,2.5446900494077322,-58.863953610995374,0,{"$f":"1/2*(INERTIA+mazalazo*($C203^2+$D203^2))*$I203^2","v":10.523633986519265},-62.668059223445283,-7.6943885377515171,-58.863931826461126,10.523633986519265,0.14892497665653082,10.672558963175796,null,3.0724776152108175,4.0133083318387719E-2,{"$f":"$H203-($I203*$C203)","v":7.0723095032689809E-3},4.0751465474884209E-2,-17.024035769293171,-0.52064209869662925,{"$f":"BL202+mazalazo*($I203*(BM203^2+BN203^2)+BM203*BR203-BN203*BQ203)*$BS203*DT","v":-7.3143750718311598},3.2961914948222084,-5.4332341753671338,-6.0863578362584239,1.7023628924115768,-2.0681444245251717,-1.2702673923012953,2.016593482489625,0,0]
[0,164,3.256789410688981,-5.4572338352906389,-6.0863578362584239,1.7023628924115768,-2.0883609190374739,-1.2668868056554901,-0.38751987067834542,{"$f":"IF(($G204+$I204*$D204)^2+($H204-$I204*$D204)^2<>0,-mew*($G204+$I204*$D204)/SQRT(($G204+$I204*$D204)^2+($H204-$I204*$C204)^2),0)","v":-2.9513827413558285},{"$f":"-mew*($H204-$C204*$I204)/SQRT(($G204+$D204*$I204)^2+($H204-$I204*$C204)^2)","v":0.53790325712618048},-0.38803361677321757,{"$f":"($I204-$I203)/DT","v":0},{"$f":"IF(Q204<>0,mazalazo*(($D204*$J204-$C204*$K204)-2*$I204*($C204*$G204+$D204*$H204))/(INERTIA+mazalazo*($C204^2+$D204^2)),0)","v":0},-3.9041973509433197,{"$f":"IF(Q204<>0,G204*COS(O204)+H204*SIN(O204)+F204*$I204,0)","v":0},0,{"$f":"R203+mazalazo*($I204^2*($E204*$P204+$F204*$U204))*DT","v":121.68091602656294},{"$f":"IF(Q204<>0,$J204*COS($O204)+$K204*SIN($Z204)+2*$U204*$I204+$E204*$I204^2+$F204*$N204,0)","v":0},{"$f":"IF(Q204<>0,-$J204*SIN($O204)+$K204*COS($O204)-2*$P204*$I204+$F204*$I204^2-$E204*$N204,0)","v":0},{"$f":"IF(Q204<>0,-$G204*SIN(O204)+$H204*COS(O204)-$E204*$I204,0)","v":0},{"$f":"$G204*COS($O204)+$H204*SIN($O204)+$F204*$I204","v":-2.4907182916021453E-2},{"$f":"-$G204*SIN($O204)+$H204*COS($O204)-$E204*$I204","v":7.8639891268217355E-5},null,3.2764904527555947,3.3155955171461846,-5.4452340053288868,-5.4212116268631991,-1.6417767692881922,-1.6139691445308375,0.14293458283381047,-0.30063477282464923,6.0237932170873201,3.2407299455197545,-5.4463039591201161,-3.9041973509433197,-0.38803361677320836,false,null,3.0913271711323564,null,null,null,-6.999558661352701,-62.668059223445283,164,2.5446900494077322,-58.863953610995374,0,{"$f":"1/2*(INERTIA+mazalazo*($C204^2+$D204^2))*$I204^2","v":10.524347247127791},-62.668059223445283,-7.3095635380877226,-58.863931826461126,10.524347247127791,0.14892497665653082,10.673272223784322,null,3.0913271711323564,2.9229263647530423E-2,{"$f":"$H204-($I204*$C204)","v":-4.8161943986912981E-3},2.9623395852988038E-2,18.206862863845078,0.48774229895106713,{"$f":"BL203+mazalazo*($I204*(BM204^2+BN204^2)+BM204*BR204-BN204*BQ204)*$BS204*DT","v":-3.505535784428536},3.256789410688981,-5.4572338352906389,-6.0863578362584239,1.7023628924115768,-2.0883609190374739,-1.2668868056554901,-2.1606278206788101,0,0]
[0,165,3.217640860912852,-5.4807156180857817,-6.0863578362584239,1.7023628924115768,-2.0860448830103127,-1.2402327356443521,-0.38751987067834542,{"$f":"IF(($G205+$I205*$D205)^2+($H205-$I205*$D205)^2<>0,-mew*($G205+$I205*$D205)/SQRT(($G205+$I205*$D205)^2+($H205-$I205*$C205)^2),0)","v":-2.9544954881717449},{"$f":"-mew*($H205-$C205*$I205)/SQRT(($G205+$D205*$I205)^2+($H205-$I205*$C205)^2)","v":-0.52053473503004866},-0.38803361677321757,{"$f":"($I205-$I204)/DT","v":0},{"$f":"IF(Q205<>0,mazalazo*(($D205*$J205-$C205*$K205)-2*$I205*($C205*$G205+$D205*$H205))/(INERTIA+mazalazo*($C205^2+$D205^2)),0)","v":0},-3.9115116123021232,{"$f":"IF(Q205<>0,G205*COS(O205)+H205*SIN(O205)+F205*$I205,0)","v":0},0,{"$f":"R204+mazalazo*($I205^2*($E205*$P205+$F205*$U205))*DT","v":121.68091602656294},{"$f":"IF(Q205<>0,$J205*COS($O205)+$K205*SIN($Z205)+2*$U205*$I205+$E205*$I205^2+$F205*$N205,0)","v":0},{"$f":"IF(Q205<>0,-$J205*SIN($O205)+$K205*COS($O205)-2*$P205*$I205+$F205*$I205^2-$E205*$N205,0)","v":0},{"$f":"IF(Q205<>0,-$G205*SIN(O205)+$H205*COS(O205)-$E205*$I205,0)","v":0},{"$f":"$G205*COS($O205)+$H205*SIN($O205)+$F205*$I205","v":-2.5285439661465015E-2},{"$f":"-$G205*SIN($O205)+$H205*COS($O205)-$E205*$I205","v":-1.6090341503089522E-2},null,3.2372151358009162,3.2764904527555947,-5.4689747266882103,-5.4452340053288868,-1.6671881397449475,-1.6417767692881922,-0.2345387584677999,0.31909218994992727,6.7494283170977898,3.2012348460565399,-5.4697650910548674,-3.9115116123021232,-0.38803361677320836,false,null,3.1101767270538954,null,null,null,-6.6145304081916585,-62.668059223445283,165,2.5446900494077322,-58.863953610995374,0,{"$f":"1/2*(INERTIA+mazalazo*($C205^2+$D205^2))*$I205^2","v":10.525108166322495},-62.668059223445283,-6.999558661352701,-58.863931826461126,10.525108166322495,0.14892497665653082,10.674033142979026,null,3.1101767270538954,4.0657020780973774E-2,{"$f":"$H205-($I205*$C205)","v":6.6670346659563062E-3},4.1200032645880229E-2,-18.294649488735789,-0.48546330459932091,{"$f":"BL204+mazalazo*($I205*(BM205^2+BN205^2)+BM205*BR205-BN205*BQ205)*$BS205*DT","v":-7.335343569796505},3.217640860912852,-5.4807156180857817,-6.0863578362584239,1.7023628924115768,-2.0860448830103127,-1.2402327356443521,2.1793531514049223,0,0]
[0,166,3.1779005188389671,-5.5041433559911939,-6.0863578362584239,1.7023628924115768,-2.106250103808061,-1.236535044786965,-0.38751987067834542,{"$f":"IF(($G206+$I206*$D206)^2+($H206-$I206*$D206)^2<>0,-mew*($G206+$I206*$D206)/SQRT(($G206+$I206*$D206)^2+($H206-$I206*$C206)^2),0)","v":-2.9480871480501847},{"$f":"-mew*($H206-$C206*$I206)/SQRT(($G206+$D206*$I206)^2+($H206-$I206*$C206)^2)","v":0.55568171420456736},-0.38803361677321757,{"$f":"($I206-$I205)/DT","v":0},{"$f":"IF(Q206<>0,mazalazo*(($D206*$J206-$C206*$K206)-2*$I206*($C206*$G206+$D206*$H206))/(INERTIA+mazalazo*($C206^2+$D206^2)),0)","v":0},-3.9188258736609267,{"$f":"IF(Q206<>0,G206*COS(O206)+H206*SIN(O206)+F206*$I206,0)","v":0},0,{"$f":"R205+mazalazo*($I206^2*($E206*$P206+$F206*$U206))*DT","v":121.68091602656294},{"$f":"IF(Q206<>0,$J206*COS($O206)+$K206*SIN($Z206)+2*$U206*$I206+$E206*$I206^2+$F206*$N206,0)","v":0},{"$f":"IF(Q206<>0,-$J206*SIN($O206)+$K206*COS($O206)-2*$P206*$I206+$F206*$I206^2-$E206*$N206,0)","v":0},{"$f":"IF(Q206<>0,-$G206*SIN(O206)+$H206*COS(O206)-$E206*$I206,0)","v":0},{"$f":"$G206*COS($O206)+$H206*SIN($O206)+$F206*$I206","v":-2.5439219661377299E-2},{"$f":"-$G206*SIN($O206)+$H206*COS($O206)-$E206*$I206","v":2.1423066063341878E-5},null,3.1977706898759095,3.2372151358009162,-5.4924294870384873,-5.4689747266882103,-1.6962944623306635,-1.6671881397449475,0.13259223895601799,-0.2929842546877941,6.0356905734019115,3.1613586591702632,-5.4930531822207254,-3.9188258736609267,-0.38803361677320836,false,null,3.1290262829754338,null,null,null,-6.3022523251565925,-62.668059223445283,166,2.5446900494077322,-58.863953610995374,0,{"$f":"1/2*(INERTIA+mazalazo*($C206^2+$D206^2))*$I206^2","v":10.525826601341288},-62.668059223445283,-6.6145304081916585,-58.863931826461126,10.525826601341288,0.14892497665653082,10.674751577997819,null,3.1290262829754338,2.9542549855477773E-2,{"$f":"$H206-($I206*$C206)","v":-5.0354466978417278E-3},2.9968616508110529E-2,17.600752204252412,0.50407198775548723,{"$f":"BL205+mazalazo*($I206*(BM206^2+BN206^2)+BM206*BR206-BN206*BQ206)*$BS206*DT","v":-3.6198630365559752},3.1779005188389671,-5.5041433559911939,-6.0863578362584239,1.7023628924115768,-2.106250103808061,-1.236535044786965,-2.107494391636334,0,0]
[0,167,3.1384194857403949,-5.5270555496631975,-6.0863578362584239,1.7023628924115768,-2.1036234445287203,-1.2098814534020548,-0.38751987067834542,{"$f":"IF(($G207+$I207*$D207)^2+($H207-$I207*$D207)^2<>0,-mew*($G207+$I207*$D207)/SQRT(($G207+$I207*$D207)^2+($H207-$I207*$C207)^2),0)","v":-2.9598273104878809},{"$f":"-mew*($H207-$C207*$I207)/SQRT(($G207+$D207*$I207)^2+($H207-$I207*$C207)^2)","v":-0.48930797264103254},-0.38803361677321757,{"$f":"($I207-$I206)/DT","v":0},{"$f":"IF(Q207<>0,mazalazo*(($D207*$J207-$C207*$K207)-2*$I207*($C207*$G207+$D207*$H207))/(INERTIA+mazalazo*($C207^2+$D207^2)),0)","v":0},-3.9261401350197302,{"$f":"IF(Q207<>0,G207*COS(O207)+H207*SIN(O207)+F207*$I207,0)","v":0},0,{"$f":"R206+mazalazo*($I207^2*($E207*$P207+$F207*$U207))*DT","v":121.68091602656294},{"$f":"IF(Q207<>0,$J207*COS($O207)+$K207*SIN($Z207)+2*$U207*$I207+$E207*$I207^2+$F207*$N207,0)","v":0},{"$f":"IF(Q207<>0,-$J207*SIN($O207)+$K207*COS($O207)-2*$P207*$I207+$F207*$I207^2-$E207*$N207,0)","v":0},{"$f":"IF(Q207<>0,-$G207*SIN(O207)+$H207*COS(O207)-$E207*$I207,0)","v":0},{"$f":"$G207*COS($O207)+$H207*SIN($O207)+$F207*$I207","v":-2.5735504898017569E-2},{"$f":"-$G207*SIN($O207)+$H207*COS($O207)-$E207*$I207","v":-1.6121272843407919E-2},null,3.158160002289681,3.1977706898759095,-5.5155994528271961,-5.4924294870384873,-1.7231450494770426,-1.6962944623306635,-0.20718002911156735,0.28336956208878039,6.7047404166479696,3.1215280057829089,-5.5159368637460204,-3.9261401350197302,-0.38803361677320836,false,null,3.1478758388969728,null,null,null,-5.916682768367159,-62.668059223445283,167,2.5446900494077322,-58.863953610995374,0,{"$f":"1/2*(INERTIA+mazalazo*($C207^2+$D207^2))*$I207^2","v":10.526586648580121},-62.668059223445283,-6.3022523251565925,-58.863931826461126,10.526586648580121,0.14892497665653082,10.675511625236652,null,3.1478758388969728,4.1059910513574049E-2,{"$f":"$H207-($I207*$C207)","v":6.3184598464622876E-3},4.154322070102491E-2,-19.495214741245938,-0.4562809339170763,{"$f":"BL206+mazalazo*($I207*(BM207^2+BN207^2)+BM207*BR207-BN207*BQ207)*$BS207*DT","v":-7.7260294355781731},3.1384194857403949,-5.5270555496631975,-6.0863578362584239,1.7023628924115768,-2.1036234445287203,-1.2098814534020548,2.3364000442127386,0,0]
[0,168,3.0983471785645538,-5.5499049803414868,-6.0863578362584239,1.7023628924115768,-2.1237564039932586,-1.2059008962892677,-0.38751987067834542,{"$f":"IF(($G208+$I208*$D208)^2+($H208-$I208*$D208)^2<>0,-mew*($G208+$I208*$D208)/SQRT(($G208+$I208*$D208)^2+($H208-$I208*$C208)^2),0)","v":-2.9450290069111174},{"$f":"-mew*($H208-$C208*$I208)/SQRT(($G208+$D208*$I208)^2+($H208-$I208*$C208)^2)","v":0.57166786550593929},-0.38803361677321757,{"$f":"($I208-$I207)/DT","v":0},{"$f":"IF(Q208<>0,mazalazo*(($D208*$J208-$C208*$K208)-2*$I208*($C208*$G208+$D208*$H208))/(INERTIA+mazalazo*($C208^2+$D208^2)),0)","v":0},-3.9334543963785338,{"$f":"IF(Q208<>0,G208*COS(O208)+H208*SIN(O208)+F208*$I208,0)","v":0},0,{"$f":"R207+mazalazo*($I208^2*($E208*$P208+$F208*$U208))*DT","v":121.68091602656294},{"$f":"IF(Q208<>0,$J208*COS($O208)+$K208*SIN($Z208)+2*$U208*$I208+$E208*$I208^2+$F208*$N208,0)","v":0},{"$f":"IF(Q208<>0,-$J208*SIN($O208)+$K208*COS($O208)-2*$P208*$I208+$F208*$I208^2-$E208*$N208,0)","v":0},{"$f":"IF(Q208<>0,-$G208*SIN(O208)+$H208*COS(O208)-$E208*$I208,0)","v":0},{"$f":"$G208*COS($O208)+$H208*SIN($O208)+$F208*$I208","v":-2.5909047266297391E-2},{"$f":"-$G208*SIN($O208)+$H208*COS($O208)-$E208*$I208","v":-1.5551693508086828E-5},null,3.1183833321524741,3.158160002289681,-5.5384802650023417,-5.5155994528271961,-1.7537551696601446,-1.7231450494770426,0.13173107924089478,-0.30062343648154233,6.0295312319720695,3.0813186691539589,-5.5386419148956083,-3.9334543963785338,-0.38803361677320836,false,null,3.1667253948185117,null,null,null,-5.6019809826431652,-62.668059223445283,168,2.5446900494077322,-58.863953610995374,0,{"$f":"1/2*(INERTIA+mazalazo*($C208^2+$D208^2))*$I208^2","v":10.527303105254155},-62.668059223445283,-5.916682768367159,-58.863931826461126,10.527303105254155,0.14892497665653082,10.676228081910686,null,3.1667253948185117,2.9793298276341584E-2,{"$f":"$H208-($I208*$C208)","v":-5.2297983353153388E-3},3.0248824982321638E-2,17.090505044041141,0.51867783344032015,{"$f":"BL207+mazalazo*($I208*(BM208^2+BN208^2)+BM208*BR208-BN208*BQ208)*$BS208*DT","v":-4.0869911086825983},3.0983471785645538,-5.5499049803414868,-6.0863578362584239,1.7023628924115768,-2.1237564039932586,-1.2059008962892677,-2.0639496126122183,0,0]
[0,169,3.058542375586268,-5.5722433098219586,-6.0863578362584239,1.7023628924115768,-2.1207062878979026,-1.1793084573510022,-0.38751987067834542,{"$f":"IF(($G209+$I209*$D209)^2+($H209-$I209*$D209)^2<>0,-mew*($G209+$I209*$D209)/SQRT(($G209+$I209*$D209)^2+($H209-$I209*$C209)^2),0)","v":-2.9652126682097073},{"$f":"-mew*($H209-$C209*$I209)/SQRT(($G209+$D209*$I209)^2+($H209-$I209*$C209)^2)","v":-0.45553686161349055},-0.38803361677321757,{"$f":"($I209-$I208)/DT","v":0},{"$f":"IF(Q209<>0,mazalazo*(($D209*$J209-$C209*$K209)-2*$I209*($C209*$G209+$D209*$H209))/(INERTIA+mazalazo*($C209^2+$D209^2)),0)","v":0},-3.9407686577373373,{"$f":"IF(Q209<>0,G209*COS(O209)+H209*SIN(O209)+F209*$I209,0)","v":0},0,{"$f":"R208+mazalazo*($I209^2*($E209*$P209+$F209*$U209))*DT","v":121.68091602656294},{"$f":"IF(Q209<>0,$J209*COS($O209)+$K209*SIN($Z209)+2*$U209*$I209+$E209*$I209^2+$F209*$N209,0)","v":0},{"$f":"IF(Q209<>0,-$J209*SIN($O209)+$K209*COS($O209)-2*$P209*$I209+$F209*$I209^2-$E209*$N209,0)","v":0},{"$f":"IF(Q209<>0,-$G209*SIN(O209)+$H209*COS(O209)-$E209*$I209,0)","v":0},{"$f":"$G209*COS($O209)+$H209*SIN($O209)+$F209*$I209","v":-2.6242900482799425E-2},{"$f":"-$G209*SIN($O209)+$H209*COS($O209)-$E209*$I209","v":-1.6172084646061347E-2},null,3.0784447770754109,3.1183833321524741,-5.5610741450817223,-5.5384802650023417,-1.7819059842000851,-1.7537551696601446,-0.21227092790369967,0.30267186192175632,6.7240104082236707,3.0411611176494158,-5.5609435630899933,-3.9407686577373373,-0.38803361677320836,false,null,3.1855749507400501,null,null,null,-5.2160044529654446,-62.668059223445283,169,2.5446900494077322,-58.863953610995374,0,{"$f":"1/2*(INERTIA+mazalazo*($C209^2+$D209^2))*$I209^2","v":10.528063673012449},-62.668059223445283,-5.6019809826431652,-58.863931826461126,10.528063673012449,0.14892497665653082,10.67698864966898,null,3.1855749507400501,4.1511437152676578E-2,{"$f":"$H209-($I209*$C209)","v":5.9374885004277456E-3},4.1933914486645879E-2,-20.974240446791281,-0.42477468939742624,{"$f":"BL208+mazalazo*($I209*(BM209^2+BN209^2)+BM209*BR209-BN209*BQ209)*$BS209*DT","v":-8.5309936588498836},3.058542375586268,-5.5722433098219586,-6.0863578362584239,1.7023628924115768,-2.1207062878979026,-1.1793084573510022,2.5284134792543602,0,0]
[0,170,3.0181474402104107,-5.5945105109282895,-6.0863578362584239,1.7023628924115768,-2.1407875351488785,-1.175037689937104,-0.38751987067834542,{"$f":"IF(($G210+$I210*$D210)^2+($H210-$I210*$D210)^2<>0,-mew*($G210+$I210*$D210)/SQRT(($G210+$I210*$D210)^2+($H210-$I210*$C210)^2),0)","v":-2.9416110515693026},{"$f":"-mew*($H210-$C210*$I210)/SQRT(($G210+$D210*$I210)^2+($H210-$I210*$C210)^2)","v":0.58900290430976854},-0.38803361677321757,{"$f":"($I210-$I209)/DT","v":0},{"$f":"IF(Q210<>0,mazalazo*(($D210*$J210-$C210*$K210)-2*$I210*($C210*$G210+$D210*$H210))/(INERTIA+mazalazo*($C210^2+$D210^2)),0)","v":0},-3.9480829190961408,{"$f":"IF(Q210<>0,G210*COS(O210)+H210*SIN(O210)+F210*$I210,0)","v":0},0,{"$f":"R209+mazalazo*($I210^2*($E210*$P210+$F210*$U210))*DT","v":121.68091602656294},{"$f":"IF(Q210<>0,$J210*COS($O210)+$K210*SIN($Z210)+2*$U210*$I210+$E210*$I210^2+$F210*$N210,0)","v":0},{"$f":"IF(Q210<>0,-$J210*SIN($O210)+$K210*COS($O210)-2*$P210*$I210+$F210*$I210^2-$E210*$N210,0)","v":0},{"$f":"IF(Q210<>0,-$G210*SIN(O210)+$H210*COS(O210)-$E210*$I210,0)","v":0},{"$f":"$G210*COS($O210)+$H210*SIN($O210)+$F210*$I210","v":-2.6412850726855508E-2},{"$f":"-$G210*SIN($O210)+$H210*COS($O210)-$E210*$I210","v":-6.1137819955980888E-5},null,3.0383449078983391,3.0784447770754109,-5.5833769103751241,-5.5610741450817223,-1.8141002626671505,-1.7819059842000851,0.12612054351077809,-0.30030992599397432,6.0325664976796505,3.000627616585394,-5.583061199173402,-3.9480829190961408,-0.38803361677320836,false,null,3.2044245066615891,null,null,null,-4.8990342604998789,-62.668059223445283,170,2.5446900494077322,-58.863953610995374,0,{"$f":"1/2*(INERTIA+mazalazo*($C210^2+$D210^2))*$I210^2","v":10.528781086675494},-62.668059223445283,-5.2160044529654446,-58.863931826461126,10.528781086675494,0.14892497665653082,10.677706063332025,null,3.2044245066615891,3.0070612482406833E-2,{"$f":"$H210-($I210*$C210)","v":-5.445584218586319E-3},3.055971404559928E-2,16.566053122329567,0.53458460479644165,{"$f":"BL209+mazalazo*($I210*(BM210^2+BN210^2)+BM210*BR210-BN210*BQ210)*$BS210*DT","v":-4.9738377229428616},3.0181474402104107,-5.5945105109282895,-6.0863578362584239,1.7023628924115768,-2.1407875351488785,-1.175037689937104,-2.0173342783065142,0,0]
[0,171,2.978027141155358,-5.6162703423050635,-6.0863578362584239,1.7023628924115768,-2.1373608678346345,-1.1484900357631989,-0.38751987067834542,{"$f":"IF(($G211+$I211*$D211)^2+($H211-$I211*$D211)^2<>0,-mew*($G211+$I211*$D211)/SQRT(($G211+$I211*$D211)^2+($H211-$I211*$C211)^2),0)","v":-2.9701108724132559},{"$f":"-mew*($H211-$C211*$I211)/SQRT(($G211+$D211*$I211)^2+($H211-$I211*$C211)^2)","v":-0.4224232540622832},-0.38803361677321757,{"$f":"($I211-$I210)/DT","v":0},{"$f":"IF(Q211<>0,mazalazo*(($D211*$J211-$C211*$K211)-2*$I211*($C211*$G211+$D211*$H211))/(INERTIA+mazalazo*($C211^2+$D211^2)),0)","v":0},-3.9553971804549444,{"$f":"IF(Q211<>0,G211*COS(O211)+H211*SIN(O211)+F211*$I211,0)","v":0},0,{"$f":"R210+mazalazo*($I211^2*($E211*$P211+$F211*$U211))*DT","v":121.68091602656294},{"$f":"IF(Q211<>0,$J211*COS($O211)+$K211*SIN($Z211)+2*$U211*$I211+$E211*$I211^2+$F211*$N211,0)","v":0},{"$f":"IF(Q211<>0,-$J211*SIN($O211)+$K211*COS($O211)-2*$P211*$I211+$F211*$I211^2-$E211*$N211,0)","v":0},{"$f":"IF(Q211<>0,-$G211*SIN(O211)+$H211*COS(O211)-$E211*$I211,0)","v":0},{"$f":"$G211*COS($O211)+$H211*SIN($O211)+$F211*$I211","v":-2.6736089717566136E-2},{"$f":"-$G211*SIN($O211)+$H211*COS($O211)-$E211*$I211","v":-1.6214385614595095E-2},null,2.9980872906828844,3.0383449078983391,-5.6053904266166761,-5.5833769103751241,-1.8437780311972607,-1.8141002626671505,-0.20447391637122767,0.29942157051427731,6.7173798384334127,2.960151638261868,-5.6047761148422097,-3.9553971804549444,-0.38803361677320836,false,null,3.223274062583128,null,null,null,-4.5126175545203893,-62.668059223445283,171,2.5446900494077322,-58.863953610995374,0,{"$f":"1/2*(INERTIA+mazalazo*($C211^2+$D211^2))*$I211^2","v":10.529541642315687},-62.668059223445283,-4.8990342604998789,-58.863931826461126,10.529541642315687,0.14892497665653082,10.678466618972218,null,3.223274062583128,4.1940825866155773E-2,{"$f":"$H211-($I211*$C211)","v":5.5546568539281971E-3},4.2307057178443561E-2,-22.651710250919809,-0.39388158083175012,{"$f":"BL210+mazalazo*($I211*(BM211^2+BN211^2)+BM211*BR211-BN211*BQ211)*$BS211*DT","v":-9.8018558966792178},2.978027141155358,-5.6162703423050635,-6.0863578362584239,1.7023628924115768,-2.1373608678346345,-1.1484900357631989,2.7466588942013672,0,0]
[0,172,2.9373177691057091,-5.6379505905101208,-6.0863578362584239,1.7023628924115768,-2.157377423729208,-1.143933495591531,-0.38751987067834542,{"$f":"IF(($G212+$I212*$D212)^2+($H212-$I212*$D212)^2<>0,-mew*($G212+$I212*$D212)/SQRT(($G212+$I212*$D212)^2+($H212-$I212*$C212)^2),0)","v":-2.9380537874516954},{"$f":"-mew*($H212-$C212*$I212)/SQRT(($G212+$D212*$I212)^2+($H212-$I212*$C212)^2)","v":0.60649809731008086},-0.38803361677321757,{"$f":"($I212-$I211)/DT","v":0},{"$f":"IF(Q212<>0,mazalazo*(($D212*$J212-$C212*$K212)-2*$I212*($C212*$G212+$D212*$H212))/(INERTIA+mazalazo*($C212^2+$D212^2)),0)","v":0},-3.9627114418137479,{"$f":"IF(Q212<>0,G212*COS(O212)+H212*SIN(O212)+F212*$I212,0)","v":0},0,{"$f":"R211+mazalazo*($I212^2*($E212*$P212+$F212*$U212))*DT","v":121.68091602656294},{"$f":"IF(Q212<>0,$J212*COS($O212)+$K212*SIN($Z212)+2*$U212*$I212+$E212*$I212^2+$F212*$N212,0)","v":0},{"$f":"IF(Q212<>0,-$J212*SIN($O212)+$K212*COS($O212)-2*$P212*$I212+$F212*$I212^2-$E212*$N212,0)","v":0},{"$f":"IF(Q212<>0,-$G212*SIN(O212)+$H212*COS(O212)-$E212*$I212,0)","v":0},{"$f":"$G212*COS($O212)+$H212*SIN($O212)+$F212*$I212","v":-2.6911268124693133E-2},{"$f":"-$G212*SIN($O212)+$H212*COS($O212)-$E212*$I212","v":-1.019728261471009E-4},null,2.9576724551305338,2.9980872906828844,-5.6271104664075917,-5.6053904266166761,-1.8777170659952482,-1.8437780311972607,0.12211669199207198,-0.30273901838132211,6.0323559942856795,2.9193024202308373,-5.6263016237225472,-3.9627114418137479,-0.38803361677320836,false,null,3.2421236185046665,null,null,null,-4.1934174353592102,-62.668059223445283,172,2.5446900494077322,-58.863953610995374,0,{"$f":"1/2*(INERTIA+mazalazo*($C212^2+$D212^2))*$I212^2","v":10.530258935646383},-62.668059223445283,-4.5126175545203893,-58.863931826461126,10.530258935646383,0.14892497665653082,10.679183912302914,null,3.2421236185046665,3.033693509513169E-2,{"$f":"$H212-($I212*$C212)","v":-5.6644935664804663E-3},3.0861239740667117E-2,16.066891808995916,0.55064154396391263,{"$f":"BL211+mazalazo*($I212*(BM212^2+BN212^2)+BM212*BR212-BN212*BQ212)*$BS212*DT","v":-6.3237532355465529},2.9373177691057091,-5.6379505905101208,-6.0863578362584239,1.7023628924115768,-2.157377423729208,-1.143933495591531,-1.9723288715903611,0,0]
[0,173,2.8968904704323726,-5.659127614092438,-6.0863578362584239,1.7023628924115768,-2.1535582766590506,-1.1174447457430674,-0.38751987067834542,{"$f":"IF(($G213+$I213*$D213)^2+($H213-$I213*$D213)^2<>0,-mew*($G213+$I213*$D213)/SQRT(($G213+$I213*$D213)^2+($H213-$I213*$C213)^2),0)","v":-2.9747033164793506},{"$f":"-mew*($H213-$C213*$I213)/SQRT(($G213+$D213*$I213)^2+($H213-$I213*$C213)^2)","v":-0.38876751269460691},-0.38803361677321757,{"$f":"($I213-$I212)/DT","v":0},{"$f":"IF(Q213<>0,mazalazo*(($D213*$J213-$C213*$K213)-2*$I213*($C213*$G213+$D213*$H213))/(INERTIA+mazalazo*($C213^2+$D213^2)),0)","v":0},-3.9700257031725514,{"$f":"IF(Q213<>0,G213*COS(O213)+H213*SIN(O213)+F213*$I213,0)","v":0},0,{"$f":"R212+mazalazo*($I213^2*($E213*$P213+$F213*$U213))*DT","v":121.68091602656294},{"$f":"IF(Q213<>0,$J213*COS($O213)+$K213*SIN($Z213)+2*$U213*$I213+$E213*$I213^2+$F213*$N213,0)","v":0},{"$f":"IF(Q213<>0,-$J213*SIN($O213)+$K213*COS($O213)-2*$P213*$I213+$F213*$I213^2-$E213*$N213,0)","v":0},{"$f":"IF(Q213<>0,-$G213*SIN(O213)+$H213*COS(O213)-$E213*$I213,0)","v":0},{"$f":"$G213*COS($O213)+$H213*SIN($O213)+$F213*$I213","v":-2.7241618140673274E-2},{"$f":"-$G213*SIN($O213)+$H213*COS($O213)-$E213*$I213","v":-1.6258171686665435E-2},null,2.917104119769041,2.9576724551305338,-5.6485391023012799,-5.6271104664075917,-1.9090170304713285,-1.8777170659952482,-0.20125378174138822,0.30445923878696401,6.7202927121948814,2.8785166320979325,-5.6474253334402587,-3.9700257031725514,-0.38803361677320836,false,null,3.2609731744262054,null,null,null,-3.806589308857848,-62.668059223445283,173,2.5446900494077322,-58.863953610995374,0,{"$f":"1/2*(INERTIA+mazalazo*($C213^2+$D213^2))*$I213^2","v":10.531019678013823},-62.668059223445283,-4.1934174353592102,-58.863931826461126,10.531019678013823,0.14892497665653082,10.679944654670354,null,3.2609731744262054,4.2373479218427601E-2,{"$f":"$H213-($I213*$C213)","v":5.1578747282168269E-3},4.2686243835531996E-2,-24.645894744177067,-0.36249673886204642,{"$f":"BL212+mazalazo*($I213*(BM213^2+BN213^2)+BM213*BR213-BN213*BQ213)*$BS213*DT","v":-11.607745544949498},2.8968904704323726,-5.659127614092438,-6.0863578362584239,1.7023628924115768,-2.1535582766590506,-1.1174447457430674,3.0058026015784272,0,0]
[0,174,2.8558753522045013,-5.6802166610239846,-6.0863578362584239,1.7023628924115768,-2.1735093910798073,-1.11260202362234,-0.38751987067834542,{"$f":"IF(($G214+$I214*$D214)^2+($H214-$I214*$D214)^2<>0,-mew*($G214+$I214*$D214)/SQRT(($G214+$I214*$D214)^2+($H214-$I214*$C214)^2),0)","v":-2.9342609783269453},{"$f":"-mew*($H214-$C214*$I214)/SQRT(($G214+$D214*$I214)^2+($H214-$I214*$C214)^2)","v":0.62458987429176127},-0.38803361677321757,{"$f":"($I214-$I213)/DT","v":0},{"$f":"IF(Q214<>0,mazalazo*(($D214*$J214-$C214*$K214)-2*$I214*($C214*$G214+$D214*$H214))/(INERTIA+mazalazo*($C214^2+$D214^2)),0)","v":0},-3.977339964531355,{"$f":"IF(Q214<>0,G214*COS(O214)+H214*SIN(O214)+F214*$I214,0)","v":0},0,{"$f":"R213+mazalazo*($I214^2*($E214*$P214+$F214*$U214))*DT","v":121.68091602656294},{"$f":"IF(Q214<>0,$J214*COS($O214)+$K214*SIN($Z214)+2*$U214*$I214+$E214*$I214^2+$F214*$N214,0)","v":0},{"$f":"IF(Q214<>0,-$J214*SIN($O214)+$K214*COS($O214)-2*$P214*$I214+$F214*$I214^2-$E214*$N214,0)","v":0},{"$f":"IF(Q214<>0,-$G214*SIN(O214)+$H214*COS(O214)-$E214*$I214,0)","v":0},{"$f":"$G214*COS($O214)+$H214*SIN($O214)+$F214*$I214","v":-2.7418763224938081E-2},{"$f":"-$G214*SIN($O214)+$H214*COS($O214)-$E214*$I214","v":-1.4285506350208976E-4},null,2.8763829113184372,2.917104119769041,-5.6696721375582113,-5.6485391023012799,-1.9448540448984366,-1.9090170304713285,0.11748914544379602,-0.30402643755183512,6.0333787903738774,2.8373604279697293,-5.6683543043674067,-3.977339964531355,-0.38803361677320836,false,null,3.2798227303477439,null,null,null,-3.4852388467595152,-62.668059223445283,174,2.5446900494077322,-58.863953610995374,0,{"$f":"1/2*(INERTIA+mazalazo*($C214^2+$D214^2))*$I214^2","v":10.531737256703851},-62.668059223445283,-3.806589308857848,-58.863931826461126,10.531737256703851,0.14892497665653082,10.680662233360382,null,3.2798227303477439,3.0605623952819183E-2,{"$f":"$H214-($I214*$C214)","v":-5.8935764625773768E-3},3.116790755026114E-2,15.579143231867773,0.5672735444052609,{"$f":"BL213+mazalazo*($I214*(BM214^2+BN214^2)+BM214*BR214-BN214*BQ214)*$BS214*DT","v":-8.2086184468180257},2.8558753522045013,-5.6802166610239846,-6.0863578362584239,1.7023628924115768,-2.1735093910798073,-1.11260202362234,-1.9273762675068049,0,0]
[0,175,2.8151495478225539,-5.7008066164352167,-6.0863578362584239,1.7023628924115768,-2.1693050184005713,-1.0861745798956521,-0.38751987067834542,{"$f":"IF(($G215+$I215*$D215)^2+($H215-$I215*$D215)^2<>0,-mew*($G215+$I215*$D215)/SQRT(($G215+$I215*$D215)^2+($H215-$I215*$C215)^2),0)","v":-2.9789184717301569},{"$f":"-mew*($H215-$C215*$I215)/SQRT(($G215+$D215*$I215)^2+($H215-$I215*$C215)^2)","v":-0.35502780001693485},-0.38803361677321757,{"$f":"($I215-$I214)/DT","v":0},{"$f":"IF(Q215<>0,mazalazo*(($D215*$J215-$C215*$K215)-2*$I215*($C215*$G215+$D215*$H215))/(INERTIA+mazalazo*($C215^2+$D215^2)),0)","v":0},-3.9846542258901585,{"$f":"IF(Q215<>0,G215*COS(O215)+H215*SIN(O215)+F215*$I215,0)","v":0},0,{"$f":"R214+mazalazo*($I215^2*($E215*$P215+$F215*$U215))*DT","v":121.68091602656294},{"$f":"IF(Q215<>0,$J215*COS($O215)+$K215*SIN($Z215)+2*$U215*$I215+$E215*$I215^2+$F215*$N215,0)","v":0},{"$f":"IF(Q215<>0,-$J215*SIN($O215)+$K215*COS($O215)-2*$P215*$I215+$F215*$I215^2-$E215*$N215,0)","v":0},{"$f":"IF(Q215<>0,-$G215*SIN(O215)+$H215*COS(O215)-$E215*$I215,0)","v":0},{"$f":"$G215*COS($O215)+$H215*SIN($O215)+$F215*$I215","v":-2.7749520034389685E-2},{"$f":"-$G215*SIN($O215)+$H215*COS($O215)-$E215*$I215","v":-1.629965533940414E-2},null,2.8355124500135274,2.8763829113184372,-5.6905116387296006,-5.6696721375582113,-1.9779452441033905,-1.9448540448984366,-0.19630826266975976,0.30626372089645937,6.719616092833677,2.7962734792114006,-5.6888824235201714,-3.9846542258901585,null,false,null,3.2986722862692828,null,null,null,-3.098004599065427,-62.668059223445283,175,2.5446900494077322,-58.863953610995374,0,{"$f":"1/2*(INERTIA+mazalazo*($C215^2+$D215^2))*$I215^2","v":10.532498111376896},-62.668059223445283,-3.4852388467595152,-58.863931826461126,10.532498111376896,0.14892497665653082,10.681423088033426,null,3.2986722862692828,4.2799591499474765E-2,{"$f":"$H215-($I215*$C215)","v":4.7518088167466388E-3},4.3062567498383372E-2,-27.021031243073764,-0.33103986311951988,{"$f":"BL214+mazalazo*($I215*(BM215^2+BN215^2)+BM215*BR215-BN215*BQ215)*$BS215*DT","v":-14.035617904046912},2.8151495478225539,-5.7008066164352167,-6.0863578362584239,1.7023628924115768,-2.1693050184005713,-1.0861745798956521,3.3144047681286137,0,0]
[0,176,2.7738372694743449,-5.7213002058556457,-6.0863578362584239,1.7023628924115768,-2.1891853854940444,-1.0810472134108695,-0.38751987067834542,{"$f":"IF(($G216+$I216*$D216)^2+($H216-$I216*$D216)^2<>0,-mew*($G216+$I216*$D216)/SQRT(($G216+$I216*$D216)^2+($H216-$I216*$C216)^2),0)","v":-2.930261362996526},{"$f":"-mew*($H216-$C216*$I216)/SQRT(($G216+$D216*$I216)^2+($H216-$I216*$C216)^2)","v":0.6430927962042049},-0.38803361677321757,{"$f":"($I216-$I215)/DT","v":0},{"$f":"IF(Q216<>0,mazalazo*(($D216*$J216-$C216*$K216)-2*$I216*($C216*$G216+$D216*$H216))/(INERTIA+mazalazo*($C216^2+$D216^2)),0)","v":0},-3.991968487248962,{"$f":"IF(Q216<>0,G216*COS(O216)+H216*SIN(O216)+F216*$I216,0)","v":0},0,{"$f":"R215+mazalazo*($I216^2*($E216*$P216+$F216*$U216))*DT","v":121.68091602656294},{"$f":"IF(Q216<>0,$J216*COS($O216)+$K216*SIN($Z216)+2*$U216*$I216+$E216*$I216^2+$F216*$N216,0)","v":0},{"$f":"IF(Q216<>0,-$J216*SIN($O216)+$K216*COS($O216)-2*$P216*$I216+$F216*$I216^2-$E216*$N216,0)","v":0},{"$f":"IF(Q216<>0,-$G216*SIN(O216)+$H216*COS(O216)-$E216*$I216,0)","v":0},{"$f":"$G216*COS($O216)+$H216*SIN($O216)+$F216*$I216","v":-2.7929901188947448E-2},{"$f":"-$G216*SIN($O216)+$H216*COS($O216)-$E216*$I216","v":-1.8197069252678943E-4},null,2.7944934086484494,2.8355124500135274,-5.7110534111454312,-5.6905116387296006,-2.0158634732394347,-1.9779452441033905,0.11306042725120141,-0.30565060800720278,6.0339434316568932,2.7548190006156412,-5.7092105062088567,-3.991968487248962,null,false,null,3.3175218421908217,null,null,null,-2.7745647857225535,-62.668059223445283,176,2.5446900494077322,-58.863953610995374,0,{"$f":"1/2*(INERTIA+mazalazo*($C216^2+$D216^2))*$I216^2","v":10.533215824143209},-62.668059223445283,-3.098004599065427,-58.863931826461126,10.533215824143209,0.14892497665653082,10.68214080079974,null,3.3175218421908217,3.0871426029476012E-2,{"$f":"$H216-($I216*$C216)","v":-6.1301534613966702E-3},3.147417555002327E-2,15.107986883468193,0.58430316482670863,{"$f":"BL215+mazalazo*($I216*(BM216^2+BN216^2)+BM216*BR216-BN216*BQ216)*$BS216*DT","v":-10.714178760437836},2.7738372694743449,-5.7213002058556457,-6.0863578362584239,1.7023628924115768,-2.1891853854940444,-1.0810472134108695,-1.8831611771654875,0,0]
[0,177,2.7328215327147585,-5.7412989859817891,-6.0863578362584239,1.7023628924115768,-2.1845945268492777,-1.0546879646288121,-0.38751987067834542,{"$f":"IF(($G217+$I217*$D217)^2+($H217-$I217*$D217)^2<>0,-mew*($G217+$I217*$D217)/SQRT(($G217+$I217*$D217)^2+($H217-$I217*$C217)^2),0)","v":-2.9827723443415795},{"$f":"-mew*($H217-$C217*$I217)/SQRT(($G217+$D217*$I217)^2+($H217-$I217*$C217)^2)","v":-0.32104383163524342},-0.38803361677321757,{"$f":"($I217-$I216)/DT","v":0},{"$f":"IF(Q217<>0,mazalazo*(($D217*$J217-$C217*$K217)-2*$I217*($C217*$G217+$D217*$H217))/(INERTIA+mazalazo*($C217^2+$D217^2)),0)","v":0},-3.9992827486077656,{"$f":"IF(Q217<>0,G217*COS(O217)+H217*SIN(O217)+F217*$I217,0)","v":0},0,{"$f":"R216+mazalazo*($I217^2*($E217*$P217+$F217*$U217))*DT","v":121.68091602656294},{"$f":"IF(Q217<>0,$J217*COS($O217)+$K217*SIN($Z217)+2*$U217*$I217+$E217*$I217^2+$F217*$N217,0)","v":0},{"$f":"IF(Q217<>0,-$J217*SIN($O217)+$K217*COS($O217)-2*$P217*$I217+$F217*$I217^2-$E217*$N217,0)","v":0},{"$f":"IF(Q217<>0,-$G217*SIN(O217)+$H217*COS(O217)-$E217*$I217,0)","v":0},{"$f":"$G217*COS($O217)+$H217*SIN($O217)+$F217*$I217","v":-2.8263514368294329E-2},{"$f":"-$G217*SIN($O217)+$H217*COS($O217)-$E217*$I217","v":-1.634024815252122E-2},null,2.7533294010945517,2.7944934086484494,-5.731299595918717,-5.7110534111454312,-2.0509119306716421,-2.0158634732394347,-0.19194156305579615,0.30919176351800193,6.7202786998216437,2.7134396126332136,-5.7291387914511587,-3.9992827486077656,null,false,null,3.3363713981123602,null,null,null,-2.3869378503967118,-62.668059223445283,177,2.5446900494077322,-58.863953610995374,0,{"$f":"1/2*(INERTIA+mazalazo*($C217^2+$D217^2))*$I217^2","v":10.533976818918026},-62.668059223445283,-2.7745647857225535,-58.863931826461126,10.533976818918026,0.14892497665653082,10.682901795574557,null,3.3363713981123602,4.3222483657642474E-2,{"$f":"$H217-($I217*$C217)","v":4.3346823158088021E-3},4.3439297465706746E-2,-29.913945596433624,-0.29936135495037602,{"$f":"BL216+mazalazo*($I217*(BM217^2+BN217^2)+BM217*BR217-BN217*BQ217)*$BS217*DT","v":-17.202190745144105},2.7328215327147585,-5.7412989859817891,-6.0863578362584239,1.7023628924115768,-2.1845945268492777,-1.0546879646288121,3.6900695601182454,0,0]
[0,178,2.6912207971549131,-5.7611930389210517,-6.0863578362584239,1.7023628924115768,-2.2044005498392334,-1.0492768131001566,-0.38751987067834542,{"$f":"IF(($G218+$I218*$D218)^2+($H218-$I218*$D218)^2<>0,-mew*($G218+$I218*$D218)/SQRT(($G218+$I218*$D218)^2+($H218-$I218*$C218)^2),0)","v":-2.9260348401600007},{"$f":"-mew*($H218-$C218*$I218)/SQRT(($G218+$D218*$I218)^2+($H218-$I218*$C218)^2)","v":0.66205748554777344},-0.38803361677321757,{"$f":"($I218-$I217)/DT","v":0},{"$f":"IF(Q218<>0,mazalazo*(($D218*$J218-$C218*$K218)-2*$I218*($C218*$G218+$D218*$H218))/(INERTIA+mazalazo*($C218^2+$D218^2)),0)","v":0},-4.0065970099665691,{"$f":"IF(Q218<>0,G218*COS(O218)+H218*SIN(O218)+F218*$I218,0)","v":0},0,{"$f":"R217+mazalazo*($I218^2*($E218*$P218+$F218*$U218))*DT","v":121.68091602656294},{"$f":"IF(Q218<>0,$J218*COS($O218)+$K218*SIN($Z218)+2*$U218*$I218+$E218*$I218^2+$F218*$N218,0)","v":0},{"$f":"IF(Q218<>0,-$J218*SIN($O218)+$K218*COS($O218)-2*$P218*$I218+$F218*$I218^2-$E218*$N218,0)","v":0},{"$f":"IF(Q218<>0,-$G218*SIN(O218)+$H218*COS(O218)-$E218*$I218,0)","v":0},{"$f":"$G218*COS($O218)+$H218*SIN($O218)+$F218*$I218","v":-2.8446706855195902E-2},{"$f":"-$G218*SIN($O218)+$H218*COS($O218)-$E218*$I218","v":-2.2000054628623644E-4},null,2.7120211649348356,2.7533294010945517,-5.7512460124514204,-5.731299595918717,-2.0911141478739479,-2.0509119306716421,0.10853364132471181,-0.30705641801698214,6.0346796653931873,2.6716956616580063,-5.7488617891229481,-4.0065970099665691,null,false,null,3.3552209540338991,null,null,null,-2.0614736193055894,-62.668059223445283,178,2.5446900494077322,-58.863953610995374,0,{"$f":"1/2*(INERTIA+mazalazo*($C218^2+$D218^2))*$I218^2","v":10.534694722296059},-62.668059223445283,-2.3869378503967118,-58.863931826461126,10.534694722296059,0.14892497665653082,10.68361969895259,null,3.3552209540338991,3.113602198198695E-2,{"$f":"$H218-($I218*$C218)","v":-6.3752778198109539E-3},3.1782007994186713E-2,14.651607127723679,0.60178178367242219,{"$f":"BL217+mazalazo*($I218*(BM218^2+BN218^2)+BM218*BR218-BN218*BQ218)*$BS218*DT","v":-13.957411093345435},2.6912207971549131,-5.7611930389210517,-6.0863578362584239,1.7023628924115768,-2.2044005498392334,-1.0492768131001566,-1.839536951029892,0,0]
[0,179,2.6499237484473084,-5.7805966514910052,-6.0863578362584239,1.7023628924115768,-2.1994252073850484,-1.0229909027388655,-0.38751987067834542,{"$f":"IF(($G219+$I219*$D219)^2+($H219-$I219*$D219)^2<>0,-mew*($G219+$I219*$D219)/SQRT(($G219+$I219*$D219)^2+($H219-$I219*$C219)^2),0)","v":-2.9862512388192592},{"$f":"-mew*($H219-$C219*$I219)/SQRT(($G219+$D219*$I219)^2+($H219-$I219*$C219)^2)","v":-0.28688593316933453},-0.38803361677321757,{"$f":"($I219-$I218)/DT","v":0},{"$f":"IF(Q219<>0,mazalazo*(($D219*$J219-$C219*$K219)-2*$I219*($C219*$G219+$D219*$H219))/(INERTIA+mazalazo*($C219^2+$D219^2)),0)","v":0},-4.0139112713253731,{"$f":"IF(Q219<>0,G219*COS(O219)+H219*SIN(O219)+F219*$I219,0)","v":0},0,{"$f":"R218+mazalazo*($I219^2*($E219*$P219+$F219*$U219))*DT","v":121.68091602656294},{"$f":"IF(Q219<>0,$J219*COS($O219)+$K219*SIN($Z219)+2*$U219*$I219+$E219*$I219^2+$F219*$N219,0)","v":0},{"$f":"IF(Q219<>0,-$J219*SIN($O219)+$K219*COS($O219)-2*$P219*$I219+$F219*$I219^2-$E219*$N219,0)","v":0},{"$f":"IF(Q219<>0,-$G219*SIN(O219)+$H219*COS(O219)-$E219*$I219,0)","v":0},{"$f":"$G219*COS($O219)+$H219*SIN($O219)+$F219*$I219","v":-2.8782212488736469E-2},{"$f":"-$G219*SIN($O219)+$H219*COS($O219)-$E219*$I219","v":-1.637942869835296E-2},null,2.6705722728011105,2.7120211649348356,-5.770894845206028,-5.7512460124514204,-2.1283175263740977,-2.0911141478739479,-0.18731864451739891,0.31160448258830264,6.7204410164719048,2.6300326109598648,-5.7681861196363382,-4.0139112713253731,null,false,null,3.374070509955438,null,null,null,-1.6734639203900947,-62.668059223445283,179,2.5446900494077322,-58.863953610995374,0,{"$f":"1/2*(INERTIA+mazalazo*($C219^2+$D219^2))*$I219^2","v":10.535455846820609},-62.668059223445283,-2.0614736193055894,-58.863931826461126,10.535455846820609,0.14892497665653082,10.68438082347714,null,3.374070509955438,4.3640618400157205E-2,{"$f":"$H219-($I219*$C219)","v":3.90720556691182E-3},4.3815178074387034E-2,-33.507798081878178,-0.26752411415138228,{"$f":"BL218+mazalazo*($I219*(BM219^2+BN219^2)+BM219*BR219-BN219*BQ219)*$BS219*DT","v":-21.266206674639793},2.6499237484473084,-5.7805966514910052,-6.0863578362584239,1.7023628924115768,-2.1994252073850484,-1.0229909027388655,4.1565311675551087,0,0]
[0,180,2.6080432913444342,-5.7998871970037991,-6.0863578362584239,1.7023628924115768,-2.2191526786378999,-1.0172971680228466,-0.38751987067834542,{"$f":"IF(($G220+$I220*$D220)^2+($H220-$I220*$D220)^2<>0,-mew*($G220+$I220*$D220)/SQRT(($G220+$I220*$D220)^2+($H220-$I220*$C220)^2),0)","v":-2.9215804418898434},{"$f":"-mew*($H220-$C220*$I220)/SQRT(($G220+$D220*$I220)^2+($H220-$I220*$C220)^2)","v":0.68144531810464903},-0.38803361677321757,{"$f":"($I220-$I219)/DT","v":0},{"$f":"IF(Q220<>0,mazalazo*(($D220*$J220-$C220*$K220)-2*$I220*($C220*$G220+$D220*$H220))/(INERTIA+mazalazo*($C220^2+$D220^2)),0)","v":0},-4.021225532684177,{"$f":"IF(Q220<>0,G220*COS(O220)+H220*SIN(O220)+F220*$I220,0)","v":0},0,{"$f":"R219+mazalazo*($I220^2*($E220*$P220+$F220*$U220))*DT","v":121.68091602656294},{"$f":"IF(Q220<>0,$J220*COS($O220)+$K220*SIN($Z220)+2*$U220*$I220+$E220*$I220^2+$F220*$N220,0)","v":0},{"$f":"IF(Q220<>0,-$J220*SIN($O220)+$K220*COS($O220)-2*$P220*$I220+$F220*$I220^2-$E220*$N220,0)","v":0},{"$f":"IF(Q220<>0,-$G220*SIN(O220)+$H220*COS(O220)-$E220*$I220,0)","v":0},{"$f":"$G220*COS($O220)+$H220*SIN($O220)+$F220*$I220","v":-2.8968424396864756E-2},{"$f":"-$G220*SIN($O220)+$H220*COS($O220)-$E220*$I220","v":-2.5669498852609607E-4},null,2.6289835198958711,2.6705722728011105,-5.7902419242474021,-5.770894845206028,-2.1710353952975683,-2.1283175263740977,0.10401789151044563,-0.30845217311287687,6.0353526274797291,2.5880080371539647,-5.7872999548598631,-4.021225532684177,null,false,null,3.3929200658769765,null,null,null,-1.3460357863436279,-62.668059223445283,180,2.5446900494077322,-58.863953610995374,0,{"$f":"1/2*(INERTIA+mazalazo*($C220^2+$D220^2))*$I220^2","v":10.536173919825337},-62.668059223445283,-1.6734639203900947,-58.863931826461126,10.536173919825337,0.14892497665653082,10.685098896481868,null,3.3929200658769765,3.1398527292163525E-2,{"$f":"$H220-($I220*$C220)","v":-6.6285690375251782E-3},3.2090581852032153E-2,14.210545495300316,0.61967424599115717,{"$f":"BL219+mazalazo*($I220*(BM220^2+BN220^2)+BM220*BR220-BN220*BQ220)*$BS220*DT","v":-18.096823936482458},2.6080432913444342,-5.7998871970037991,-6.0863578362584239,1.7023628924115768,-2.2191526786378999,-1.0172971680228466,-1.7966359836675778,0,0]
[0,181,2.5664736075194168,-5.8186917800837428,-6.0863578362584239,1.7023628924115768,-2.2137937605876044,-0.99109038021469364,-0.38751987067834542,{"$f":"IF(($G221+$I221*$D221)^2+($H221-$I221*$D221)^2<>0,-mew*($G221+$I221*$D221)/SQRT(($G221+$I221*$D221)^2+($H221-$I221*$C221)^2),0)","v":-2.9893518079566244},{"$f":"-mew*($H221-$C221*$I221)/SQRT(($G221+$D221*$I221)^2+($H221-$I221*$C221)^2)","v":-0.2525386470749757},-0.38803361677321757,{"$f":"($I221-$I220)/DT","v":0},{"$f":"IF(Q221<>0,mazalazo*(($D221*$J221-$C221*$K221)-2*$I221*($C221*$G221+$D221*$H221))/(INERTIA+mazalazo*($C221^2+$D221^2)),0)","v":0},-4.028539794042981,{"$f":"IF(Q221<>0,G221*COS(O221)+H221*SIN(O221)+F221*$I221,0)","v":0},0,{"$f":"R220+mazalazo*($I221^2*($E221*$P221+$F221*$U221))*DT","v":121.68091602656294},{"$f":"IF(Q221<>0,$J221*COS($O221)+$K221*SIN($Z221)+2*$U221*$I221+$E221*$I221^2+$F221*$N221,0)","v":0},{"$f":"IF(Q221<>0,-$J221*SIN($O221)+$K221*COS($O221)-2*$P221*$I221+$F221*$I221^2-$E221*$N221,0)","v":0},{"$f":"IF(Q221<>0,-$G221*SIN(O221)+$H221*COS(O221)-$E221*$I221,0)","v":0},{"$f":"$G221*COS($O221)+$H221*SIN($O221)+$F221*$I221","v":-2.9306130333872971E-2},{"$f":"-$G221*SIN($O221)+$H221*COS($O221)-$E221*$I221","v":-1.6417395511227895E-2},null,2.5872584494319257,2.6289835198958711,-5.8092894885437705,-5.7902419242474021,-2.2106144894727393,-2.1710353952975683,-0.18274352837116314,0.31411701945588266,6.7207891729711866,2.5460701590509807,-5.8060163405548124,-4.028539794042981,null,false,null,3.4117696217985154,null,null,null,-0.95765405066642462,-62.668059223445283,181,2.5446900494077322,-58.863953610995374,0,{"$f":"1/2*(INERTIA+mazalazo*($C221^2+$D221^2))*$I221^2","v":10.536935177961357},-62.668059223445283,-1.3460357863436279,-58.863931826461126,10.536935177961357,0.14892497665653082,10.685860154617888,null,3.4117696217985154,4.405425572688193E-2,{"$f":"$H221-($I221*$C221)","v":3.469140270617399E-3},4.4190636812188266E-2,-38.096691650097192,-0.23551189941172596,{"$f":"BL220+mazalazo*($I221*(BM221^2+BN221^2)+BM221*BR221-BN221*BQ221)*$BS221*DT","v":-26.453095616320432},2.5664736075194168,-5.8186917800837428,-6.0863578362584239,1.7023628924115768,-2.2137937605876044,-0.99109038021469364,4.7518212778019251,0,0]
[0,182,2.5243222257104385,-5.837374982484123,-6.0863578362584239,1.7023628924115768,-2.2334387218127461,-0.98511521143956882,-0.38751987067834542,{"$f":"IF(($G222+$I222*$D222)^2+($H222-$I222*$D222)^2<>0,-mew*($G222+$I222*$D222)/SQRT(($G222+$I222*$D222)^2+($H222-$I222*$C222)^2),0)","v":-2.9168898344358487},{"$f":"-mew*($H222-$C222*$I222)/SQRT(($G222+$D222*$I222)^2+($H222-$I222*$C222)^2)","v":0.70125151961675458},-0.38803361677321757,{"$f":"($I222-$I221)/DT","v":0},{"$f":"IF(Q222<>0,mazalazo*(($D222*$J222-$C222*$K222)-2*$I222*($C222*$G222+$D222*$H222))/(INERTIA+mazalazo*($C222^2+$D222^2)),0)","v":0},-4.035854055401785,{"$f":"IF(Q222<>0,G222*COS(O222)+H222*SIN(O222)+F222*$I222,0)","v":0},0,{"$f":"R221+mazalazo*($I222^2*($E222*$P222+$F222*$U222))*DT","v":121.68091602656294},{"$f":"IF(Q222<>0,$J222*COS($O222)+$K222*SIN($Z222)+2*$U222*$I222+$E222*$I222^2+$F222*$N222,0)","v":0},{"$f":"IF(Q222<>0,-$J222*SIN($O222)+$K222*COS($O222)-2*$P222*$I222+$F222*$I222^2-$E222*$N222,0)","v":0},{"$f":"IF(Q222<>0,-$G222*SIN(O222)+$H222*COS(O222)-$E222*$I222,0)","v":0},{"$f":"$G222*COS($O222)+$H222*SIN($O222)+$F222*$I222","v":-2.9495333860230177E-2},{"$f":"-$G222*SIN($O222)+$H222*COS($O222)-$E222*$I222","v":-2.921518626388675E-4},null,2.5453979166149274,2.5872584494319257,-5.8280333812839329,-5.8092894885437705,-2.2561111797472364,-2.2106144894727393,9.9475093414606391E-2,-0.3097595550627652,6.0360496614698578,2.5037738726689582,-5.8245170693107351,-4.035854055401785,null,false,null,3.4306191777200543,null,null,null,-0.62832132959612386,-62.668059223445283,182,2.5446900494077322,-58.863953610995374,0,{"$f":"1/2*(INERTIA+mazalazo*($C222^2+$D222^2))*$I222^2","v":10.537653428459544},-62.668059223445283,-0.95765405066642462,-58.863931826461126,{"$f":"AW222+AX222","v":10.537653428459544},0.14892497665653082,{"$f":"BB222+BC222","v":10.686578405116075},null,3.4306191777200543,3.1659005102065763E-2,{"$f":"$H222-($I222*$C222)","v":-6.8901889817866158E-3},3.2400112781553088E-2,13.784384660167897,0.63797824053034091,{"$f":"BL221+mazalazo*($I222*(BM222^2+BN222^2)+BM222*BR222-BN222*BQ222)*$BS222*DT","v":-23.357821353142345},2.5243222257104385,-5.837374982484123,-6.0863578362584239,1.7023628924115768,-2.2334387218127461,-0.98511521143956882,-1.7544728067442075,0,0]
[0,183,2.4824886340862626,-5.855576799600323,-6.0863578362584239,1.7023628924115768,-2.227697651197166,-0.95899305747072772,-0.38751987067834542,{"$f":"IF(($G223+$I223*$D223)^2+($H223-$I223*$D223)^2<>0,-mew*($G223+$I223*$D223)/SQRT(($G223+$I223*$D223)^2+($H223-$I223*$C223)^2),0)","v":-2.992067509315719},{"$f":"-mew*($H223-$C223*$I223)/SQRT(($G223+$D223*$I223)^2+($H223-$I223*$C223)^2)","v":-0.21801839302506132},-0.38803361677321757,{"$f":"($I223-$I222)/DT","v":0},{"$f":"IF(Q223<>0,mazalazo*(($D223*$J223-$C223*$K223)-2*$I223*($C223*$G223+$D223*$H223))/(INERTIA+mazalazo*($C223^2+$D223^2)),0)","v":0},-4.043168316760589,{"$f":"IF(Q223<>0,G223*COS(O223)+H223*SIN(O223)+F223*$I223,0)","v":0},0,{"$f":"R222+mazalazo*($I223^2*($E223*$P223+$F223*$U223))*DT","v":121.68091602656294},{"$f":"IF(Q223<>0,$J223*COS($O223)+$K223*SIN($Z223)+2*$U223*$I223+$E223*$I223^2+$F223*$N223,0)","v":0},{"$f":"IF(Q223<>0,-$J223*SIN($O223)+$K223*COS($O223)-2*$P223*$I223+$F223*$I223^2-$E223*$N223,0)","v":0},{"$f":"IF(Q223<>0,-$G223*SIN(O223)+$H223*COS(O223)-$E223*$I223,0)","v":0},{"$f":"$G223*COS($O223)+$H223*SIN($O223)+$F223*$I223","v":-2.9835075091280694E-2},{"$f":"-$G223*SIN($O223)+$H223*COS($O223)-$E223*$I223","v":-1.6454079781943687E-2},null,2.5034054298983506,2.5453979166149274,-5.846475891042223,-5.8280333812839329,-2.2983195225570761,-2.2561111797472364,-0.17810777271335432,0.31649825251480657,6.7210677900581333,2.4615700573555293,-5.8426216488286649,-4.043168316760589,null,false,null,3.4494687336415928,null,null,null,-0.23957751937957456,-62.668059223445283,183,2.5446900494077322,-58.863953610995374,0,{"$f":"1/2*(INERTIA+mazalazo*($C223^2+$D223^2))*$I223^2","v":10.538414818782345},-62.668059223445283,-0.62832132959612386,-58.863931826461126,10.538414818782345,0.14892497665653082,10.687339795438875,null,3.4494687336415928,4.4462992645089461E-2,{"$f":"$H223-($I223*$C223)","v":3.0206169708431041E-3},4.4565478139943986E-2,-44.159514173039064,-0.2033379039280897,{"$f":"BL222+mazalazo*($I223*(BM223^2+BN223^2)+BM223*BR223-BN223*BQ223)*$BS223*DT","v":-33.097284291426902},2.4824886340862626,-5.855576799600323,-6.0863578362584239,1.7023628924115768,-2.227697651197166,-0.95899305747072772,5.53789694052168,0,0]
[0,184,2.4400751725755874,-5.8736489491193185,-6.0863578362584239,1.7023628924115768,-2.2472560768462309,-0.95273770312745232,-0.38751987067834542,{"$f":"IF(($G224+$I224*$D224)^2+($H224-$I224*$D224)^2<>0,-mew*($G224+$I224*$D224)/SQRT(($G224+$I224*$D224)^2+($H224-$I224*$C224)^2),0)","v":-2.911957636136604},{"$f":"-mew*($H224-$C224*$I224)/SQRT(($G224+$D224*$I224)^2+($H224-$I224*$C224)^2)","v":0.72145874819404798},-0.38803361677321757,{"$f":"($I224-$I223)/DT","v":0},{"$f":"IF(Q224<>0,mazalazo*(($D224*$J224-$C224*$K224)-2*$I224*($C224*$G224+$D224*$H224))/(INERTIA+mazalazo*($C224^2+$D224^2)),0)","v":0},-4.0504825781193929,{"$f":"IF(Q224<>0,G224*COS(O224)+H224*SIN(O224)+F224*$I224,0)","v":0},0,{"$f":"R223+mazalazo*($I224^2*($E224*$P224+$F224*$U224))*DT","v":121.68091602656294},{"$f":"IF(Q224<>0,$J224*COS($O224)+$K224*SIN($Z224)+2*$U224*$I224+$E224*$I224^2+$F224*$N224,0)","v":0},{"$f":"IF(Q224<>0,-$J224*SIN($O224)+$K224*COS($O224)-2*$P224*$I224+$F224*$I224^2-$E224*$N224,0)","v":0},{"$f":"IF(Q224<>0,-$G224*SIN(O224)+$H224*COS(O224)-$E224*$I224,0)","v":0},{"$f":"$G224*COS($O224)+$H224*SIN($O224)+$F224*$I224","v":-3.0027330226370608E-2},{"$f":"-$G224*SIN($O224)+$H224*COS($O224)-$E224*$I224","v":-3.2633965199480031E-4},null,2.4612819033309252,2.5034054298983506,-5.8646128743598211,-5.846475891042223,-2.3468963371565073,-2.2983195225570761,9.4920343101953186E-2,-0.31100759627048902,6.0367383292423513,2.4190110218918601,-5.8605054562720689,-4.0504825781193929,null,false,null,3.4683182895631317,null,null,null,9.1602781150623591E-2,-62.668059223445283,184,2.5446900494077322,-58.863953610995374,0,{"$f":"1/2*(INERTIA+mazalazo*($C224^2+$D224^2))*$I224^2","v":10.539133243919464},-62.668059223445283,-0.23957751937957456,-58.863931826461126,10.539133243919464,0.14892497665653082,10.688058220575995,null,3.4683182895631317,3.1917168536746754E-2,{"$f":"$H224-($I224*$C224)","v":-7.1600878055193551E-3},3.2710434188280714E-2,13.372951311634781,0.65667925081391543,{"$f":"BL223+mazalazo*($I224*(BM224^2+BN224^2)+BM224*BR224-BN224*BQ224)*$BS224*DT","v":-30.074756938960448},2.4400751725755874,-5.8736489491193185,-6.0863578362584239,1.7023628924115768,-2.2472560768462309,-0.95273770312745232,-1.713088652875447,0,0]
[0,185,2.3979864505681725,-5.8912443920154729,-6.0863578362584239,1.7023628924115768,-2.2411341981035884,-0.92670576798799209,-0.38751987067834542,{"$f":"IF(($G225+$I225*$D225)^2+($H225-$I225*$D225)^2<>0,-mew*($G225+$I225*$D225)/SQRT(($G225+$I225*$D225)^2+($H225-$I225*$C225)^2),0)","v":-2.9943931247912046},{"$f":"-mew*($H225-$C225*$I225)/SQRT(($G225+$D225*$I225)^2+($H225-$I225*$C225)^2)","v":-0.18332979627754162},-0.38803361677321757,{"$f":"($I225-$I224)/DT","v":0},{"$f":"IF(Q225<>0,mazalazo*(($D225*$J225-$C225*$K225)-2*$I225*($C225*$G225+$D225*$H225))/(INERTIA+mazalazo*($C225^2+$D225^2)),0)","v":0},-4.0577968394781969,{"$f":"IF(Q225<>0,G225*COS(O225)+H225*SIN(O225)+F225*$I225,0)","v":0},0,{"$f":"R224+mazalazo*($I225^2*($E225*$P225+$F225*$U225))*DT","v":121.68091602656294},{"$f":"IF(Q225<>0,$J225*COS($O225)+$K225*SIN($Z225)+2*$U225*$I225+$E225*$I225^2+$F225*$N225,0)","v":0},{"$f":"IF(Q225<>0,-$J225*SIN($O225)+$K225*COS($O225)-2*$P225*$I225+$F225*$I225^2-$E225*$N225,0)","v":0},{"$f":"IF(Q225<>0,-$G225*SIN(O225)+$H225*COS(O225)-$E225*$I225,0)","v":0},{"$f":"$G225*COS($O225)+$H225*SIN($O225)+$F225*$I225","v":-3.0369117270692358E-2},{"$f":"-$G225*SIN($O225)+$H225*COS($O225)-$E225*$I225","v":-1.6489511894915321E-2},null,2.4190308115718802,2.4612819033309252,-5.8824466705673952,-5.8646128743598211,-2.3920240175718184,-2.3468963371565073,-0.17345184255644613,0.31883410324589434,6.7213717674726903,2.376550213282286,-5.8779944987905299,-4.0577968394781969,null,false,null,3.4871678454846706,null,null,null,0.48069887408162698,-62.668059223445283,185,2.5446900494077322,-58.863953610995374,0,{"$f":"1/2*(INERTIA+mazalazo*($C225^2+$D225^2))*$I225^2","v":10.539894766967173},-62.668059223445283,9.1602781150623591E-2,-58.863931826461126,10.539894766967173,0.14892497665653082,10.688819743623704,null,3.4871678454846706,4.4866670625110849E-2,{"$f":"$H225-($I225*$C225)","v":2.5616312246107276E-3},4.4939738400585794E-2,-52.544648340545869,-0.1710044149641069,{"$f":"BL224+mazalazo*($I225*(BM225^2+BN225^2)+BM225*BR225-BN225*BQ225)*$BS225*DT","v":-41.726240491158833},2.3979864505681725,-5.8912443920154729,-6.0863578362584239,1.7023628924115768,-2.2411341981035884,-0.92670576798799209,6.6245044626371108,0,0]
[0,186,2.3553198047163453,-5.9087019092407491,-6.0863578362584239,1.7023628924115768,-2.2606021131863727,-0.92017151706087741,-0.38751987067834542,{"$f":"IF(($G226+$I226*$D226)^2+($H226-$I226*$D226)^2<>0,-mew*($G226+$I226*$D226)/SQRT(($G226+$I226*$D226)^2+($H226-$I226*$C226)^2),0)","v":-2.9067774317188202},{"$f":"-mew*($H226-$C226*$I226)/SQRT(($G226+$D226*$I226)^2+($H226-$I226*$C226)^2)","v":0.74205455490155081},-0.38803361677321757,{"$f":"($I226-$I225)/DT","v":0},{"$f":"IF(Q226<>0,mazalazo*(($D226*$J226-$C226*$K226)-2*$I226*($C226*$G226+$D226*$H226))/(INERTIA+mazalazo*($C226^2+$D226^2)),0)","v":0},-4.0651111008370009,{"$f":"IF(Q226<>0,G226*COS(O226)+H226*SIN(O226)+F226*$I226,0)","v":0},0,{"$f":"R225+mazalazo*($I226^2*($E226*$P226+$F226*$U226))*DT","v":121.68091602656294},{"$f":"IF(Q226<>0,$J226*COS($O226)+$K226*SIN($Z226)+2*$U226*$I226+$E226*$I226^2+$F226*$N226,0)","v":0},{"$f":"IF(Q226<>0,-$J226*SIN($O226)+$K226*COS($O226)-2*$P226*$I226+$F226*$I226^2-$E226*$N226,0)","v":0},{"$f":"IF(Q226<>0,-$G226*SIN(O226)+$H226*COS(O226)-$E226*$I226,0)","v":0},{"$f":"$G226*COS($O226)+$H226*SIN($O226)+$F226*$I226","v":-3.0564451394978431E-2},{"$f":"-$G226*SIN($O226)+$H226*COS($O226)-$E226*$I226","v":-3.5927499013865827E-4},null,2.3766531276422587,2.4190308115718802,-5.899973150628111,-5.8824466705673952,-2.4440271374930367,-2.3920240175718184,9.0349574902414909E-2,-0.31218522318519071,6.0374306533664566,2.3337374455939557,-5.8952577018901646,-4.0651111008370009,null,false,null,3.5060174014062091,null,null,null,0.81367155229762378,-62.668059223445283,186,2.5446900494077322,-58.863953610995374,0,{"$f":"1/2*(INERTIA+mazalazo*($C226^2+$D226^2))*$I226^2","v":10.540613367865221},-62.668059223445283,0.48069887408162698,-58.863931826461126,10.540613367865221,0.14892497665653082,10.689538344521752,null,3.5060174014062091,3.2172859091131212E-2,{"$f":"$H226-($I226*$C226)","v":-7.4382909310535261E-3},3.3021523799981994E-2,12.975907794954072,0.67576750631879523,{"$f":"BL225+mazalazo*($I226*(BM226^2+BN226^2)+BM226*BR226-BN226*BQ226)*$BS226*DT","v":-38.775065849097771},2.3553198047163453,-5.9087019092407491,-6.0863578362584239,1.7023628924115768,-2.2606021131863727,-0.92017151706087741,-1.6725018237328393,0,0]
[0,187,2.3129847774328587,-5.9256874977292204,-6.0863578362584239,1.7023628924115768,-2.2541009099237299,-0.89423532608242806,-0.38751987067834542,{"$f":"IF(($G227+$I227*$D227)^2+($H227-$I227*$D227)^2<>0,-mew*($G227+$I227*$D227)/SQRT(($G227+$I227*$D227)^2+($H227-$I227*$C227)^2),0)","v":-2.9963232695498223},{"$f":"-mew*($H227-$C227*$I227)/SQRT(($G227+$D227*$I227)^2+($H227-$I227*$C227)^2)","v":-0.14848186540537656},-0.38803361677321757,{"$f":"($I227-$I226)/DT","v":0},{"$f":"IF(Q227<>0,mazalazo*(($D227*$J227-$C227*$K227)-2*$I227*($C227*$G227+$D227*$H227))/(INERTIA+mazalazo*($C227^2+$D227^2)),0)","v":0},-4.0724253621958049,{"$f":"IF(Q227<>0,G227*COS(O227)+H227*SIN(O227)+F227*$I227,0)","v":0},0,{"$f":"R226+mazalazo*($I227^2*($E227*$P227+$F227*$U227))*DT","v":121.68091602656294},{"$f":"IF(Q227<>0,$J227*COS($O227)+$K227*SIN($Z227)+2*$U227*$I227+$E227*$I227^2+$F227*$N227,0)","v":0},{"$f":"IF(Q227<>0,-$J227*SIN($O227)+$K227*COS($O227)-2*$P227*$I227+$F227*$I227^2-$E227*$N227,0)","v":0},{"$f":"IF(Q227<>0,-$G227*SIN(O227)+$H227*COS(O227)-$E227*$I227,0)","v":0},{"$f":"$G227*COS($O227)+$H227*SIN($O227)+$F227*$I227","v":-3.0908229740372772E-2},{"$f":"-$G227*SIN($O227)+$H227*COS($O227)-$E227*$I227","v":-1.652368556106909E-2},null,2.3341522910746022,2.3766531276422587,-5.9171947034849843,-5.899973150628111,-2.4924086270087602,-2.4440271374930367,-0.16876260481811592,0.32109197570675985,6.721665906392305,2.291028639144463,-5.9121276074607536,-4.0724253621958049,null,false,null,3.524866957327748,null,null,null,1.2031105067825398,-62.668059223445283,187,2.5446900494077322,-58.863953610995374,0,{"$f":"1/2*(INERTIA+mazalazo*($C227^2+$D227^2))*$I227^2","v":10.541375023448605},-62.668059223445283,0.81367155229762378,-58.863931826461126,{"$f":"AW227+AX227","v":10.541375023448605},0.14892497665653082,{"$f":"BB227+BC227","v":10.690300000105136},null,3.524866957327748,4.5265041687977181E-2,{"$f":"$H227-($I227*$C227)","v":2.0922357493349253E-3},4.531336943381177E-2,-64.904313534981782,-0.13851777800750445,{"$f":"BL226+mazalazo*($I227*(BM227^2+BN227^2)+BM227*BR227-BN227*BQ227)*$BS227*DT","v":-53.243495959563681},2.3129847774328587,-5.9256874977292204,-6.0863578362584239,1.7023628924115768,-2.2541009099237299,-0.89423532608242806,8.2253784204703333,0,0]
[0,188,2.2700738895695061,-5.9425269328104893,-6.0863578362584239,1.7023628924115768,-2.273474347767992,-0.88742353019958309,-0.38751987067834542,{"$f":"IF(($G228+$I228*$D228)^2+($H228-$I228*$D228)^2<>0,-mew*($G228+$I228*$D228)/SQRT(($G228+$I228*$D228)^2+($H228-$I228*$C228)^2),0)","v":-2.9013433256536092},{"$f":"-mew*($H228-$C228*$I228)/SQRT(($G228+$D228*$I228)^2+($H228-$I228*$C228)^2)","v":0.76302484014955729},-0.38803361677321757,{"$f":"($I228-$I227)/DT","v":0},{"$f":"IF(Q228<>0,mazalazo*(($D228*$J228-$C228*$K228)-2*$I228*($C228*$G228+$D228*$H228))/(INERTIA+mazalazo*($C228^2+$D228^2)),0)","v":0},-4.0797396235546088,{"$f":"IF(Q228<>0,G228*COS(O228)+H228*SIN(O228)+F228*$I228,0)","v":0},0,{"$f":"R227+mazalazo*($I228^2*($E228*$P228+$F228*$U228))*DT","v":121.68091602656294},{"$f":"IF(Q228<>0,$J228*COS($O228)+$K228*SIN($Z228)+2*$U228*$I228+$E228*$I228^2+$F228*$N228,0)","v":0},{"$f":"IF(Q228<>0,-$J228*SIN($O228)+$K228*COS($O228)-2*$P228*$I228+$F228*$I228^2-$E228*$N228,0)","v":0},{"$f":"IF(Q228<>0,-$G228*SIN(O228)+$H228*COS(O228)-$E228*$I228,0)","v":0},{"$f":"$G228*COS($O228)+$H228*SIN($O228)+$F228*$I228","v":-3.1106682331163871E-2},{"$f":"-$G228*SIN($O228)+$H228*COS($O228)-$E228*$I228","v":-3.9095668356203817E-4},null,2.2915293335011824,2.3341522910746022,-5.9341072152698544,-5.9171947034849843,-2.5482379697573156,-2.4924086270087602,8.5765609860058892E-2,-0.31329634237426074,6.0381221840835915,2.2479712067796802,-5.9287666550068838,-4.0797396235546088,null,false,null,3.5437165132492865,null,null,null,1.5378222651112416,-62.668059223445283,188,2.5446900494077322,-58.863953610995374,0,{"$f":"1/2*(INERTIA+mazalazo*($C228^2+$D228^2))*$I228^2","v":10.542093799757067},-62.668059223445283,1.2031105067825398,-58.863931826461126,10.542093799757067,0.14892497665653082,10.691018776413598,null,3.5437165132492865,3.2425870742717411E-2,{"$f":"$H228-($I228*$C228)","v":-7.7247900833194993E-3},3.3333308795479161E-2,12.592913358022289,0.69523161928351762,{"$f":"BL227+mazalazo*($I228*(BM228^2+BN228^2)+BM228*BR228-BN228*BQ228)*$BS228*DT","v":-50.362253108957333},2.2700738895695061,-5.9425269328104893,-6.0863578362584239,1.7023628924115768,-2.273474347767992,-0.88742353019958309,-1.6327272504444821,0,0]
[0,189,2.2275014281213124,-5.9588993156753478,-6.0863578362584239,1.7023628924115768,-2.266595362293391,-0.86158859801866106,-0.38751987067834542,{"$f":"IF(($G229+$I229*$D229)^2+($H229-$I229*$D229)^2<>0,-mew*($G229+$I229*$D229)/SQRT(($G229+$I229*$D229)^2+($H229-$I229*$C229)^2),0)","v":-2.9978528705227276},{"$f":"-mew*($H229-$C229*$I229)/SQRT(($G229+$D229*$I229)^2+($H229-$I229*$C229)^2)","v":-0.11348201046263763},-0.38803361677321757,{"$f":"($I229-$I228)/DT","v":0},{"$f":"IF(Q229<>0,mazalazo*(($D229*$J229-$C229*$K229)-2*$I229*($C229*$G229+$D229*$H229))/(INERTIA+mazalazo*($C229^2+$D229^2)),0)","v":0},-4.0870538849134128,{"$f":"IF(Q229<>0,G229*COS(O229)+H229*SIN(O229)+F229*$I229,0)","v":0},0,{"$f":"R228+mazalazo*($I229^2*($E229*$P229+$F229*$U229))*DT","v":121.68091602656294},{"$f":"IF(Q229<>0,$J229*COS($O229)+$K229*SIN($Z229)+2*$U229*$I229+$E229*$I229^2+$F229*$N229,0)","v":0},{"$f":"IF(Q229<>0,-$J229*SIN($O229)+$K229*COS($O229)-2*$P229*$I229+$F229*$I229^2-$E229*$N229,0)","v":0},{"$f":"IF(Q229<>0,-$G229*SIN(O229)+$H229*COS(O229)-$E229*$I229,0)","v":0},{"$f":"$G229*COS($O229)+$H229*SIN($O229)+$F229*$I229","v":-3.1452421524774232E-2},{"$f":"-$G229*SIN($O229)+$H229*COS($O229)-$E229*$I229","v":-1.6556608087662905E-2},null,2.2487876588454094,2.2915293335011824,-5.9507131242429185,-5.9341072152698544,-2.6002605607013178,-2.5482379697573156,-0.1640461686168303,0.32328351683315137,6.7219632415545627,2.2050234476642006,-5.9450139554047503,-4.0870538849134128,null,false,null,3.5625660691708254,null,null,null,1.927594940530553,-62.668059223445283,189,2.5446900494077322,-58.863953610995374,0,{"$f":"1/2*(INERTIA+mazalazo*($C229^2+$D229^2))*$I229^2","v":10.542855587956092},-62.668059223445283,1.5378222651112416,-58.863931826461126,10.542855587956092,0.14892497665653082,10.691780564612623,null,3.5625660691708254,4.5657891155565178E-2,{"$f":"$H229-($I229*$C229)","v":1.6124673427396763E-3},4.5686355465333839E-2,-84.946634164986719,-0.10588286106318069,{"$f":"BL228+mazalazo*($I229*(BM229^2+BN229^2)+BM229*BR229-BN229*BQ229)*$BS229*DT","v":-69.396631878502518},2.2275014281213124,-5.9588993156753478,-6.0863578362584239,1.7023628924115768,-2.266595362293391,-0.86158859801866106,10.820204926200381,0,0]
[0,190,2.1843552861857343,-5.9751173494605014,-6.0863578362584239,1.7023628924115768,-2.2858703811400156,-0.8545006625613083,-0.38751987067834542,{"$f":"IF(($G230+$I230*$D230)^2+($H230-$I230*$D230)^2<>0,-mew*($G230+$I230*$D230)/SQRT(($G230+$I230*$D230)^2+($H230-$I230*$C230)^2),0)","v":-2.8956493554367975},{"$f":"-mew*($H230-$C230*$I230)/SQRT(($G230+$D230*$I230)^2+($H230-$I230*$C230)^2)","v":0.78435630319291694},-0.38803361677321757,null,{"$f":"IF(Q230<>0,mazalazo*(($D230*$J230-$C230*$K230)-2*$I230*($C230*$G230+$D230*$H230))/(INERTIA+mazalazo*($C230^2+$D230^2)),0)","v":0},-4.0943681462722168,{"$f":"IF(Q230<>0,G230*COS(O230)+H230*SIN(O230)+F230*$I230,0)","v":0},0,{"$f":"R229+mazalazo*($I230^2*($E230*$P230+$F230*$U230))*DT","v":121.68091602656294},{"$f":"IF(Q230<>0,$J230*COS($O230)+$K230*SIN($Z230)+2*$U230*$I230+$E230*$I230^2+$F230*$N230,0)","v":0},{"$f":"IF(Q230<>0,-$J230*SIN($O230)+$K230*COS($O230)-2*$P230*$I230+$F230*$I230^2-$E230*$N230,0)","v":0},{"$f":"IF(Q230<>0,-$G230*SIN(O230)+$H230*COS(O230)-$E230*$I230,0)","v":0},{"$f":"$G230*COS($O230)+$H230*SIN($O230)+$F230*$I230","v":-3.1654027585379163E-2},{"$f":"-$G230*SIN($O230)+$H230*COS($O230)-$E230*$I230","v":-4.2139018915099413E-4},null,2.2059283571535233,2.2487876588454094,-5.9670083325679251,-5.9507131242429185,-2.6603805681472363,-2.6002605607013178,8.1168803713228516E-2,-0.31433930461016502,6.0388145637836947,2.1617304671991135,-5.9610254289680391,-4.0943681462722168,null,false,null,3.5814156250923643,null,null,null,2.2639942630703844,-62.668059223445283,190,2.5446900494077322,-58.863953610995374,0,{"$f":"1/2*(INERTIA+mazalazo*($C230^2+$D230^2))*$I230^2","v":10.543574539868542},-62.668059223445283,1.927594940530553,-58.863931826461126,10.543574539868542,0.14892497665653082,10.692499516525073,null,3.5814156250923643,3.2676014615544258E-2,{"$f":"$H230-($I230*$C230)","v":-8.0195845430522938E-3},3.3645737730036852E-2,12.223581323992478,0.7150609632101691,{"$f":"BL229+mazalazo*($I230*(BM230^2+BN230^2)+BM230*BR230-BN230*BQ230)*$BS230*DT","v":-66.58388846504613},2.1843552861857343,-5.9751173494605014,-6.0863578362584239,1.7023628924115768,-2.2858703811400156,-0.8545006625613083,-1.5937712028663205,0,0]
[0,191,2.1415543057314625,-5.9908733049291776,-6.0863578362584239,1.7023628924115768,-2.2786152433801941,-0.82877247300420376,-0.38751987067834542,{"$f":"IF(($G231+$I231*$D231)^2+($H231-$I231*$D231)^2<>0,-mew*($G231+$I231*$D231)/SQRT(($G231+$I231*$D231)^2+($H231-$I231*$C231)^2),0)","v":-2.9989770120210548},{"$f":"-mew*($H231-$C231*$I231)/SQRT(($G231+$D231*$I231)^2+($H231-$I231*$C231)^2)","v":-7.8338249720473277E-2},-0.38803361677321757,null,{"$f":"IF(Q231<>0,mazalazo*(($D231*$J231-$C231*$K231)-2*$I231*($C231*$G231+$D231*$H231))/(INERTIA+mazalazo*($C231^2+$D231^2)),0)","v":0},-4.1016824076310208,{"$f":"IF(Q231<>0,G231*COS(O231)+H231*SIN(O231)+F231*$I231,0)","v":0},0,{"$f":"R230+mazalazo*($I231^2*($E231*$P231+$F231*$U231))*DT","v":121.68091602656294},{"$f":"IF(Q231<>0,$J231*COS($O231)+$K231*SIN($Z231)+2*$U231*$I231+$E231*$I231^2+$F231*$N231,0)","v":0},{"$f":"IF(Q231<>0,-$J231*SIN($O231)+$K231*COS($O231)-2*$P231*$I231+$F231*$I231^2-$E231*$N231,0)","v":0},{"$f":"IF(Q231<>0,-$G231*SIN(O231)+$H231*COS(O231)-$E231*$I231,0)","v":0},{"$f":"$G231*COS($O231)+$H231*SIN($O231)+$F231*$I231","v":-3.2001688297721986E-2},{"$f":"-$G231*SIN($O231)+$H231*COS($O231)-$E231*$I231","v":-1.6588281811377836E-2},null,2.1629547959585986,2.2059283571535233,-5.9829953271948391,-5.9670083325679251,-2.7164953937171781,-2.6603805681472363,-0.15930176370147303,0.32540392015124642,6.7222589568366153,2.1185528483444069,-5.9766467883113119,-4.1016824076310208,null,false,null,3.6002651810139028,null,null,null,2.6540918162199492,-62.668059223445283,191,2.5446900494077322,-58.863953610995374,0,{"$f":"1/2*(INERTIA+mazalazo*($C231^2+$D231^2))*$I231^2","v":10.544336460663855},-62.668059223445283,2.2639942630703844,-58.863931826461126,10.544336460663855,0.14892497665653082,10.693261437320386,null,3.6002651810139028,4.6044992761594017E-2,{"$f":"$H231-($I231*$C231)","v":1.1223746035063931E-3},4.6058670010822519E-2,-123.07386308745468,-7.3105102898715871E-2,{"$f":"BL230+mazalazo*($I231*(BM231^2+BN231^2)+BM231*BR231-BN231*BQ231)*$BS231*DT","v":-94.301069185794347},2.1415543057314625,-5.9908733049291776,-6.0863578362584239,1.7023628924115768,-2.2786152433801941,-0.82877247300420376,15.754627182268102,0,0]
[{"$f":"IF(B232=XRON,1,0)","v":0},192,2.0981819411636651,-6.0064667493373447,-6.0863578362584239,1.7023628924115768,-2.2977879213873722,-0.82140986005116268,-0.38751987067834542,{"$f":"IF(($G232+$I232*$D232)^2+($H232-$I232*$D232)^2<>0,-mew*($G232+$I232*$D232)/SQRT(($G232+$I232*$D232)^2+($H232-$I232*$C232)^2),0)","v":-2.8896897279007621},{"$f":"-mew*($H232-$C232*$I232)/SQRT(($G232+$D232*$I232)^2+($H232-$I232*$C232)^2)","v":0.80603553052258192},-0.38803361677321757,null,{"$f":"IF(Q232<>0,mazalazo*(($D232*$J232-$C232*$K232)-2*$I232*($C232*$G232+$D232*$H232))/(INERTIA+mazalazo*($C232^2+$D232^2)),0)","v":0},-4.1089966689898247,{"$f":"IF(Q232<>0,G232*COS(O232)+H232*SIN(O232)+F232*$I232,0)","v":0},0,{"$f":"R231+mazalazo*($I232^2*($E232*$P232+$F232*$U232))*DT","v":121.68091602656294},{"$f":"IF(Q232<>0,$J232*COS($O232)+$K232*SIN($Z232)+2*$U232*$I232+$E232*$I232^2+$F232*$N232,0)","v":0},{"$f":"IF(Q232<>0,-$J232*SIN($O232)+$K232*COS($O232)-2*$P232*$I232+$F232*$I232^2-$E232*$N232,0)","v":0},{"$f":"IF(Q232<>0,-$G232*SIN(O232)+$H232*COS(O232)-$E232*$I232,0)","v":0},{"$f":"$G232*COS($O232)+$H232*SIN($O232)+$F232*$I232","v":-3.2206484488522813E-2},{"$f":"-$G232*SIN($O232)+$H232*COS($O232)-$E232*$I232","v":-4.5057854896635163E-4},null,2.1198681234475636,2.1629547959585986,-5.9986700271332616,-5.9829953271948391,-2.7814486288277038,-2.7164953937171781,7.6560394134138995E-2,-0.31531454516138702,6.0395071857723437,2.0750334833394284,-5.9920274028057214,-4.1089966689898247,null,false,null,{"$f":"B232*DT","v":3.6191147369354417},null,null,null,2.9921289298896037,-62.668059223445283,192,2.5446900494077322,-58.863953610995374,{"$f":"1/2*mazalazo*(P232^2+U232^2)","v":0},{"$f":"1/2*(INERTIA+mazalazo*($C232^2+$D232^2))*$I232^2","v":10.54505558817298},-62.668059223445283,2.6540918162199492,-58.863931826461126,10.54505558817298,0.14892497665653082,10.693980564829511,null,3.6191147369354417,3.2923095386069079E-2,{"$f":"$H232-($I232*$C232)","v":-8.3226655517794068E-3},3.3958753977243905E-2,11.867506334805213,0.73524478171576968,{"$f":"BL231+mazalazo*($I232*(BM232^2+BN232^2)+BM232*BR232-BN232*BQ232)*$BS232*DT","v":-91.555390764358421},2.0981819411636651,-6.0064667493373447,-6.0863578362584239,1.7023628924115768,-2.2977879213873722,-0.82140986005116268,-1.5556346527888569,0,0]
[0,193,2.0551613990399225,-6.0216031856753522,-6.0863578362584239,1.7023628924115768,-2.2901583377366599,-0.79579387213788233,{"$f":"IF(AND(Q233<>0,B233>=0),(L0+mazalazo*(D233*G233-C233*H233))/(INERTIA+mazalazo*($C233^2+$D233^2)),I232)","v":-0.38751987067834542},{"$f":"IF(($G233+$I233*$D233)^2+($H233-$I233*$D233)^2<>0,-mew*($G233+$I233*$D233)/SQRT(($G233+$I233*$D233)^2+($H233-$I233*$C233)^2),0)","v":-2.9996909798364664},{"$f":"-mew*($H233-$C233*$I233)/SQRT(($G233+$D233*$I233)^2+($H233-$I233*$C233)^2)","v":-4.3058396251388145E-2},-0.38803361677321757,null,{"$f":"IF(Q233<>0,mazalazo*(($D233*$J233-$C233*$K233)-2*$I233*($C233*$G233+$D233*$H233))/(INERTIA+mazalazo*($C233^2+$D233^2)),0)","v":0},-4.1163109303486287,{"$f":"IF(Q233<>0,G233*COS(O233)+H233*SIN(O233)+F233*$I233,0)","v":0},0,{"$f":"R232+mazalazo*($I233^2*($E233*$P233+$F233*$U233))*DT","v":121.68091602656294},{"$f":"IF(Q233<>0,$J233*COS($O233)+$K233*SIN($Z233)+2*$U233*$I233+$E233*$I233^2+$F233*$N233,0)","v":0},{"$f":"IF(Q233<>0,-$J233*SIN($O233)+$K233*COS($O233)-2*$P233*$I233+$F233*$I233^2-$E233*$N233,0)","v":0},{"$f":"IF(Q233<>0,-$G233*SIN(O233)+$H233*COS(O233)-$E233*$I233,0)","v":0},{"$f":"$G233*COS($O233)+$H233*SIN($O233)+$F233*$I233","v":-3.2556030667688307E-2},{"$f":"-$G233*SIN($O233)+$H233*COS($O233)-$E233*$I233","v":-1.6618710943557158E-2},null,2.0766716701017938,2.1198681234475636,-6.0140349675063485,-5.9986700271332616,-2.8421843268166223,-2.7814486288277038,-0.15453107867740837,0.32745451502406553,6.7225548308297167,2.0316351434985229,-6.0070196182220039,{"$f":"IF(Q233<>0,O233,AJ232+TEL_OMEGA*DT)","v":-4.1163109303486287},null,false,null,3.6379642928569806,null,null,null,{"$f":"mazalazo*(J233*G233+K233*H233)*DT+AR232","v":3.3825427934917203},{"$f":"AS232+mazalazo*($F233*$P233-$E233*$U233)*$N233*DT","v":-62.668059223445283},193,2.5446900494077322,-58.863953610995374,0,{"$f":"1/2*(INERTIA+mazalazo*($C233^2+$D233^2))*$I233^2","v":10.54581764158193},-62.668059223445283,2.9921289298896037,{"$f":"IF(($P233^2+$U233^2)<>0,-mazalazo*mew*($P233^2+$U233^2)/SQRT($P233^2+$U233^2)*DT+BA232,BA232)","v":-58.863931826461126},10.54581764158193,0.14892497665653082,10.694742618238461,null,{"$f":"B233*DT","v":3.6379642928569806},4.642612517407585E-2,{"$f":"$H233-($I233*$C233)","v":6.2200744119589313E-4},4.6430291749415729E-2,{"$f":"-mew*BG233/BH233","v":-223.91753908031407},{"$f":"-mew*BH233/BI233","v":-4.0189760892707746E-2},{"$f":"BL232+mazalazo*($I233*(BM233^2+BN233^2)+BM233*BR233-BN233*BQ233)*$BS233*DT","v":-142.23163635219001},2.0551613990399225,-6.0216031856753522,-6.0863578362584239,1.7023628924115768,-2.2901583377366599,-0.79579387213788233,{"$f":"($BN233*$BJ233-$BM233*$BK233)/(INERTIA+mazalazo*($BM233^2+$BN233^2))*mazalazo","v":28.802209381438864},0,0]
[0,194,2.0115718849350599,-6.0365689843172872,-6.0863578362584239,1.7023628924115768,-2.3092247758809656,-0.78815809888979338,-0.38751987067834542,{"$f":"IF(($G234+$I234*$D234)^2+($H234-$I234*$D234)^2<>0,-mew*($G234+$I234*$D234)/SQRT(($G234+$I234*$D234)^2+($H234-$I234*$C234)^2),0)","v":-2.8834587386056376},{"$f":"-mew*($H234-$C234*$I234)/SQRT(($G234+$D234*$I234)^2+($H234-$I234*$C234)^2)","v":0.82804933594489538},-0.38803361677321757,null,{"$f":"IF(Q234<>0,mazalazo*(($D234*$J234-$C234*$K234)-2*$I234*($C234*$G234+$D234*$H234))/(INERTIA+mazalazo*($C234^2+$D234^2)),0)","v":0},-4.1236251917074327,{"$f":"IF(Q234<>0,G234*COS(O234)+H234*SIN(O234)+F234*$I234,0)","v":0},0,{"$f":"R233+mazalazo*($I234^2*($E234*$P234+$F234*$U234))*DT","v":121.68091602656294},{"$f":"IF(Q234<>0,$J234*COS($O234)+$K234*SIN($Z234)+2*$U234*$I234+$E234*$I234^2+$F234*$N234,0)","v":0},{"$f":"IF(Q234<>0,-$J234*SIN($O234)+$K234*COS($O234)-2*$P234*$I234+$F234*$I234^2-$E234*$N234,0)","v":0},{"$f":"IF(Q234<>0,-$G234*SIN(O234)+$H234*COS(O234)-$E234*$I234,0)","v":0},{"$f":"$G234*COS($O234)+$H234*SIN($O234)+$F234*$I234","v":-3.2764053041723029E-2},{"$f":"-$G234*SIN($O234)+$H234*COS($O234)-$E234*$I234","v":-4.7852574149809257E-4},null,2.0333666419874912,2.0766716701017938,-6.0290860849963197,-6.0140349675063485,-2.9126086183414586,-2.8421843268166223,7.1941305957221438E-2,-0.31622174704126405,6.0402002721954453,1.9878986025809626,-6.021766222576856,-4.1236251917074327,null,{"$f":"AND(ABS(L234)>ABS(exactome)/10,ABS(L235)<ABS(exactome)/10)","v":false},null,3.6568138487785191,null,null,null,3.7221696003695302,-62.668059223445283,194,{"$f":"IF(AND(AT234>0,Q234<>0),AN234,AU233)","v":2.5446900494077322},{"$f":"IF(AU234<>AU233,Q234,AV233)","v":-58.863953610995374},0,{"$f":"1/2*(INERTIA+mazalazo*($C234^2+$D234^2))*$I234^2","v":10.546536944754248},-62.668059223445283,{"$f":"IF(AU234<>AU233,AR234,AR233)","v":3.3825427934917203},-58.863931826461126,10.546536944754248,{"$f":"BA234+AY234+$R234","v":0.14892497665653082},10.695461921410779,null,3.6568138487785191,{"$f":"G234-(-D234*L234)","v":3.3166920004700007E-2},{"$f":"$H234-($I234*$C234)","v":-8.6340221795634386E-3},{"$f":"SQRT(BG234^2+BH234^2)","v":3.4272305460755964E-2},11.524265046436453,0.7557725163353799,{"$f":"BL233+mazalazo*($I234*(BM234^2+BN234^2)+BM234*BR234-BN234*BQ234)*$BS234*DT","v":-139.55159551838409},{"$f":"C234","v":2.0115718849350599},{"$f":"D234","v":-6.0365689843172872},{"$f":"E234","v":-6.0863578362584239},{"$f":"F234","v":1.7023628924115768},{"$f":"G234","v":-2.3092247758809656},{"$f":"H234","v":-0.78815809888979338},-1.5183133988212085,{"$f":"$M234","v":0},{"$f":"$N234","v":0}]
[0,195,1.9683407787466747,-6.0510829403390387,-6.0863578362584239,1.7023628924115768,-2.3012225326662188,-0.76265974300039752,-0.38751987067834542,{"$f":"IF(($G235+$I235*$D235)^2+($H235-$I235*$D235)^2<>0,-mew*($G235+$I235*$D235)/SQRT(($G235+$I235*$D235)^2+($H235-$I235*$C235)^2),0)","v":-2.9999902453260705},{"$f":"-mew*($H235-$C235*$I235)/SQRT(($G235+$D235*$I235)^2+($H235-$I235*$C235)^2)","v":-7.650356097771884E-3},-0.38803361677321757,null,{"$f":"IF(Q235<>0,mazalazo*(($D235*$J235-$C235*$K235)-2*$I235*($C235*$G235+$D235*$H235))/(INERTIA+mazalazo*($C235^2+$D235^2)),0)","v":0},-4.1309394530662367,{"$f":"IF(Q235<>0,G235*COS(O235)+H235*SIN(O235)+F235*$I235,0)","v":0},0,{"$f":"R234+mazalazo*($I235^2*($E235*$P235+$F235*$U235))*DT","v":121.68091602656294},{"$f":"IF(Q235<>0,$J235*COS($O235)+$K235*SIN($Z235)+2*$U235*$I235+$E235*$I235^2+$F235*$N235,0)","v":0},{"$f":"IF(Q235<>0,-$J235*SIN($O235)+$K235*COS($O235)-2*$P235*$I235+$F235*$I235^2-$E235*$N235,0)","v":0},{"$f":"IF(Q235<>0,-$G235*SIN(O235)+$H235*COS(O235)-$E235*$I235,0)","v":0},{"$f":"$G235*COS($O235)+$H235*SIN($O235)+$F235*$I235","v":-3.3115447436195655E-2},{"$f":"-$G235*SIN($O235)+$H235*COS($O235)-$E235*$I235","v":-1.6647899051006387E-2},null,{"$f":"(C235+C234)/2","v":1.9899563318408673},{"$f":"(C234+C233)/2","v":2.0333666419874912},{"$f":"(D235+D234)/2","v":-6.0438259623281629},{"$f":"(D234+D233)/2","v":-6.0290860849963197},{"$f":"-(C234-C235)/(D234-D235)","v":-2.9785887544096403},{"$f":"-(C233-C234)/(D233-D234)","v":-2.9126086183414586},{"$f":"((AA235-AB235)+AD235*Z235-AC235*Y235)/(AD235-AC235)","v":-0.14973493287382009},{"$f":"AA235+AC235*(AE235-Y235)","v":0.32943437665954622},{"$f":"SQRT((AE235-Z235)^2+(AF235-AB235)^2)","v":6.722850210101238},1.9442887243810643,-6.0361262248132164,-4.1309394530662367,null,false,null,3.675663404700058,null,null,null,4.112891476249577,-62.668059223445283,195,2.5446900494077322,-58.863953610995374,0,{"$f":"1/2*(INERTIA+mazalazo*($C235^2+$D235^2))*$I235^2","v":10.547299130780777},{"$f":"IF(AU235<>AU234,AS235,AY234)","v":-62.668059223445283},3.7221696003695302,-58.863931826461126,10.547299130780777,0.14892497665653082,10.696224107437308,null,3.675663404700058,4.6801066068254293E-2,{"$f":"$H235-($I235*$C235)","v":1.1142103042760532E-4},4.6801198700152168E-2,-1260.1139808699618,-7.1421908106325737E-3,{"$f":"BL234+mazalazo*($I235*(BM235^2+BN235^2)+BM235*BR235-BN235*BQ235)*$BS235*DT","v":-426.10001959482508},1.9683407787466747,-6.0510829403390387,-6.0863578362584239,1.7023628924115768,-2.3012225326662188,-0.76265974300039752,162.84772111175732,0,0]
[0,196,1.9245432279049981,-6.0654181690065379,-6.0863578362584239,1.7023628924115768,-2.3201788547519042,-0.75475238190430416,-0.38751987067834542,{"$f":"IF(($G236+$I236*$D236)^2+($H236-$I236*$D236)^2<>0,-mew*($G236+$I236*$D236)/SQRT(($G236+$I236*$D236)^2+($H236-$I236*$C236)^2),0)","v":-2.8769508116770428},{"$f":"-mew*($H236-$C236*$I236)/SQRT(($G236+$D236*$I236)^2+($H236-$I236*$C236)^2)","v":0.85038463485108173},-0.38803361677321757,null,{"$f":"IF(Q236<>0,mazalazo*(($D236*$J236-$C236*$K236)-2*$I236*($C236*$G236+$D236*$H236))/(INERTIA+mazalazo*($C236^2+$D236^2)),0)","v":0},-4.1382537144250406,{"$f":"IF(Q236<>0,G236*COS(O236)+H236*SIN(O236)+F236*$I236,0)","v":0},0,{"$f":"R235+mazalazo*($I236^2*($E236*$P236+$F236*$U236))*DT","v":121.68091602656294},{"$f":"IF(Q236<>0,$J236*COS($O236)+$K236*SIN($Z236)+2*$U236*$I236+$E236*$I236^2+$F236*$N236,0)","v":0},{"$f":"IF(Q236<>0,-$J236*SIN($O236)+$K236*COS($O236)-2*$P236*$I236+$F236*$I236^2-$E236*$N236,0)","v":0},{"$f":"IF(Q236<>0,-$G236*SIN(O236)+$H236*COS(O236)-$E236*$I236,0)","v":0},{"$f":"$G236*COS($O236)+$H236*SIN($O236)+$F236*$I236","v":-3.332673227395011E-2},{"$f":"-$G236*SIN($O236)+$H236*COS($O236)-$E236*$I236","v":-5.0523544495906236E-4},null,1.9464420033258363,1.9899563318408673,-6.0582505546727887,-6.0438259623281629,-3.0552390797207485,-2.9785887544096403,6.7312575882810088E-2,-0.31706089209558019,6.0408937403301923,1.9003442592703226,-6.0502358025651786,-4.1382537144250406,null,false,null,3.694512960621597,null,null,null,4.4540614986294642,-62.668059223445283,196,2.5446900494077322,-58.863953610995374,0,{"$f":"1/2*(INERTIA+mazalazo*($C236^2+$D236^2))*$I236^2","v":10.548018609655513},-62.668059223445283,4.112891476249577,-58.863931826461126,10.548018609655513,0.14892497665653082,10.696943586312043,null,3.694512960621597,3.3407294609689497E-2,{"$f":"$H236-($I236*$C236)","v":-8.9536391116737946E-3},3.458634103921205E-2,11.193424548282135,0.77663368046270009,{"$f":"BL235+mazalazo*($I236*(BM236^2+BN236^2)+BM236*BR236-BN236*BQ236)*$BS236*DT","v":-423.48420315083013},1.9245432279049981,-6.0654181690065379,-6.0863578362584239,1.7023628924115768,-2.3201788547519042,-0.75475238190430416,-1.4817991814995763,0,0]
[0,197,1.8811105936213259,-6.07930681457922,-6.0863578362584239,1.7023628924115768,-2.3118058163466135,-0.72937705965525079,-0.38751987067834542,{"$f":"IF(($G237+$I237*$D237)^2+($H237-$I237*$D237)^2<>0,-mew*($G237+$I237*$D237)/SQRT(($G237+$I237*$D237)^2+($H237-$I237*$C237)^2),0)","v":-2.9998704668900196},{"$f":"-mew*($H237-$C237*$I237)/SQRT(($G237+$D237*$I237)^2+($H237-$I237*$C237)^2)","v":2.7877982011912762E-2},-0.38803361677321757,null,{"$f":"IF(Q237<>0,mazalazo*(($D237*$J237-$C237*$K237)-2*$I237*($C237*$G237+$D237*$H237))/(INERTIA+mazalazo*($C237^2+$D237^2)),0)","v":0},-4.1455679757838446,{"$f":"IF(Q237<>0,G237*COS(O237)+H237*SIN(O237)+F237*$I237,0)","v":0},0,{"$f":"R236+mazalazo*($I237^2*($E237*$P237+$F237*$U237))*DT","v":121.68091602656294},{"$f":"IF(Q237<>0,$J237*COS($O237)+$K237*SIN($Z237)+2*$U237*$I237+$E237*$I237^2+$F237*$N237,0)","v":0},{"$f":"IF(Q237<>0,-$J237*SIN($O237)+$K237*COS($O237)-2*$P237*$I237+$F237*$I237^2-$E237*$N237,0)","v":0},{"$f":"IF(Q237<>0,-$G237*SIN(O237)+$H237*COS(O237)-$E237*$I237,0)","v":0},{"$f":"$G237*COS($O237)+$H237*SIN($O237)+$F237*$I237","v":-3.3679938078800431E-2},{"$f":"-$G237*SIN($O237)+$H237*COS($O237)-$E237*$I237","v":-1.6675849981412139E-2},null,1.9028269107631619,1.9464420033258363,-6.0723624917928785,-6.0582505546727887,-3.1272044531902248,-3.0552390797207485,-0.1449144581566412,0.33134343607497652,6.7231453364912808,1.8565320672586765,-6.0639606565800461,-4.1455679757838446,null,false,null,3.7133625165431354,null,null,null,4.8450833462004264,-62.668059223445283,197,2.5446900494077322,-58.863953610995374,0,{"$f":"1/2*(INERTIA+mazalazo*($C237^2+$D237^2))*$I237^2","v":10.548780928308581},-62.668059223445283,4.4540614986294642,-58.863931826461126,10.548780928308581,0.14892497665653082,10.697705904965112,null,3.7133625165431354,4.7169594388629665E-2,{"$f":"$H237-($I237*$C237)","v":-4.0932568344898002E-4},4.7171370367024255E-2,345.7119572208012,2.6032253055030451E-2,{"$f":"BL236+mazalazo*($I237*(BM237^2+BN237^2)+BM237*BR237-BN237*BQ237)*$BS237*DT","v":-344.505577184652},1.8811105936213259,-6.07930681457922,-6.0863578362584239,1.7023628924115768,-2.3118058163466135,-0.72937705965525079,-44.880276196836988,0,0]
[0,198,1.8371141566277289,-6.093008681744764,-6.0863578362584239,1.7023628924115768,-2.3306481700615618,-0.72119973787060254,-0.38751987067834542,{"$f":"IF(($G238+$I238*$D238)^2+($H238-$I238*$D238)^2<>0,-mew*($G238+$I238*$D238)/SQRT(($G238+$I238*$D238)^2+($H238-$I238*$C238)^2),0)","v":-2.870160492837563},{"$f":"-mew*($H238-$C238*$I238)/SQRT(($G238+$D238*$I238)^2+($H238-$I238*$C238)^2)","v":0.87302849057429877},-0.38803361677321757,null,{"$f":"IF(Q238<>0,mazalazo*(($D238*$J238-$C238*$K238)-2*$I238*($C238*$G238+$D238*$H238))/(INERTIA+mazalazo*($C238^2+$D238^2)),0)","v":0},-4.1528822371426486,{"$f":"IF(Q238<>0,G238*COS(O238)+H238*SIN(O238)+F238*$I238,0)","v":0},0,{"$f":"R237+mazalazo*($I238^2*($E238*$P238+$F238*$U238))*DT","v":121.68091602656294},{"$f":"IF(Q238<>0,$J238*COS($O238)+$K238*SIN($Z238)+2*$U238*$I238+$E238*$I238^2+$F238*$N238,0)","v":0},{"$f":"IF(Q238<>0,-$J238*SIN($O238)+$K238*COS($O238)-2*$P238*$I238+$F238*$I238^2-$E238*$N238,0)","v":0},{"$f":"IF(Q238<>0,-$G238*SIN(O238)+$H238*COS(O238)-$E238*$I238,0)","v":0},{"$f":"$G238*COS($O238)+$H238*SIN($O238)+$F238*$I238","v":-3.3894521580987047E-2},{"$f":"-$G238*SIN($O238)+$H238*COS($O238)-$E238*$I238","v":-5.3071149281302965E-4},null,1.8591123751245275,1.9028269107631619,-6.086157748161992,-6.0723624917928785,-3.2109811357852434,-3.1272044531902248,6.2675201610301393E-2,-0.31783187238444999,6.041587619360274,1.8123889708012686,-6.0774303264555734,-4.1528822371426486,null,false,null,3.7322120724646743,null,null,null,5.1877516691393017,-62.668059223445283,198,2.5446900494077322,-58.863953610995374,0,{"$f":"1/2*(INERTIA+mazalazo*($C238^2+$D238^2))*$I238^2","v":10.549500582934824},-62.668059223445283,4.8450833462004264,-58.863931826461126,10.549500582934824,0.14892497665653082,10.698425559591355,null,3.7322120724646743,3.3644025746473627E-2,{"$f":"$H238-($I238*$C238)","v":-9.2814974728674393E-3},3.4900811792395674E-2,10.874546648800495,0.79781790132082786,{"$f":"BL237+mazalazo*($I238*(BM238^2+BN238^2)+BM238*BR238-BN238*BQ238)*$BS238*DT","v":-341.95259220817678},1.8371141566277289,-6.093008681744764,-6.0863578362584239,1.7023628924115768,-2.3306481700615618,-0.72119973787060254,-1.44608030660874,0,0]
[0,199,1.7934890666689209,-6.1062693182565893,-6.0863578362584239,1.7023628924115768,-2.3219062789243949,-0.69595282060976593,-0.38751987067834542,{"$f":"IF(($G239+$I239*$D239)^2+($H239-$I239*$D239)^2<>0,-mew*($G239+$I239*$D239)/SQRT(($G239+$I239*$D239)^2+($H239-$I239*$C239)^2),0)","v":-2.9993274869252251},{"$f":"-mew*($H239-$C239*$I239)/SQRT(($G239+$D239*$I239)^2+($H239-$I239*$C239)^2)","v":6.3518707282292058E-2},-0.38803361677321757,null,{"$f":"IF(Q239<>0,mazalazo*(($D239*$J239-$C239*$K239)-2*$I239*($C239*$G239+$D239*$H239))/(INERTIA+mazalazo*($C239^2+$D239^2)),0)","v":0},-4.1601964985014526,{"$f":"IF(Q239<>0,G239*COS(O239)+H239*SIN(O239)+F239*$I239,0)","v":0},0,{"$f":"R238+mazalazo*($I239^2*($E239*$P239+$F239*$U239))*DT","v":121.68091602656294},{"$f":"IF(Q239<>0,$J239*COS($O239)+$K239*SIN($Z239)+2*$U239*$I239+$E239*$I239^2+$F239*$N239,0)","v":0},{"$f":"IF(Q239<>0,-$J239*SIN($O239)+$K239*COS($O239)-2*$P239*$I239+$F239*$I239^2-$E239*$N239,0)","v":0},{"$f":"IF(Q239<>0,-$G239*SIN(O239)+$H239*COS(O239)-$E239*$I239,0)","v":0},{"$f":"$G239*COS($O239)+$H239*SIN($O239)+$F239*$I239","v":-3.4249501833659379E-2},{"$f":"-$G239*SIN($O239)+$H239*COS($O239)-$E239*$I239","v":-1.6702567523991352E-2},null,1.8153016116483249,1.8591123751245275,-6.0996390000006766,-6.086157748161992,-3.2898186991178666,-3.2109811357852434,-0.14007068029730363,0.33318132977901271,6.7234401229330683,1.7683837294811391,-6.0905172319781204,-4.1601964985014526,null,false,null,3.7510616283862128,null,null,null,5.5790656962039122,-62.668059223445283,199,2.5446900494077322,-58.863953610995374,0,{"$f":"1/2*(INERTIA+mazalazo*($C239^2+$D239^2))*$I239^2","v":10.550263034221649},-62.668059223445283,5.1877516691393017,-58.863931826461126,10.550263034221649,0.14892497665653082,10.69918801087818,null,3.7510616283862128,4.7531489630038948E-2,{"$f":"$H239-($I239*$C239)","v":-9.4016943119923368E-4},4.7540786962458469E-2,151.66890579310837,5.9328178471781963E-2,{"$f":"BL238+mazalazo*($I239*(BM239^2+BN239^2)+BM239*BR239-BN239*BQ239)*$BS239*DT","v":-307.14851703356658},1.7934890666689209,-6.1062693182565893,-6.0863578362584239,1.7023628924115768,-2.3219062789243949,-0.69595282060976593,-19.775994250353822,0,0]
[0,200,1.7493029299540805,-6.1193351655305142,-6.0863578362584239,1.7023628924115768,-2.3406308365078439,-0.68750721970799444,-0.38751987067834542,{"$f":"IF(($G240+$I240*$D240)^2+($H240-$I240*$D240)^2<>0,-mew*($G240+$I240*$D240)/SQRT(($G240+$I240*$D240)^2+($H240-$I240*$C240)^2),0)","v":-2.8630824594809883},{"$f":"-mew*($H240-$C240*$I240)/SQRT(($G240+$D240*$I240)^2+($H240-$I240*$C240)^2)","v":0.89596809664869959},-0.38803361677321757,null,{"$f":"IF(Q240<>0,mazalazo*(($D240*$J240-$C240*$K240)-2*$I240*($C240*$G240+$D240*$H240))/(INERTIA+mazalazo*($C240^2+$D240^2)),0)","v":0},-4.1675107598602565,{"$f":"IF(Q240<>0,G240*COS(O240)+H240*SIN(O240)+F240*$I240,0)","v":0},0,{"$f":"R239+mazalazo*($I240^2*($E240*$P240+$F240*$U240))*DT","v":121.68091602656294},{"$f":"IF(Q240<>0,$J240*COS($O240)+$K240*SIN($Z240)+2*$U240*$I240+$E240*$I240^2+$F240*$N240,0)","v":0},{"$f":"IF(Q240<>0,-$J240*SIN($O240)+$K240*COS($O240)-2*$P240*$I240+$F240*$I240^2-$E240*$N240,0)","v":0},{"$f":"IF(Q240<>0,-$G240*SIN(O240)+$H240*COS(O240)-$E240*$I240,0)","v":0},{"$f":"$G240*COS($O240)+$H240*SIN($O240)+$F240*$I240","v":-3.4467420234038482E-2},{"$f":"-$G240*SIN($O240)+$H240*COS($O240)-$E240*$I240","v":-5.549577062664568E-4},null,1.7713959983115006,1.8153016116483249,-6.1128022418935517,-6.0996390000006766,-3.3818041638234413,-3.2898186991178666,5.8030194822253786E-2,-0.31853463350092071,6.0422818974917458,{"$f":"IF(Q240<>0,C240,(E240*COS(AJ240)-F240*SIN(AJ240)+C240)/2)","v":1.7240513336717562},{"$f":"IF(Q240<>0,D240,(E240*SIN(AJ240)+F240*COS(AJ240)+D240)/2)","v":-6.1033442484399245},-4.1675107598602565,null,false,null,3.7699111843077517,null,null,null,5.9231889131739557,-62.668059223445283,200,2.5446900494077322,-58.863953610995374,0,{"$f":"1/2*(INERTIA+mazalazo*($C240^2+$D240^2))*$I240^2","v":10.550982864644721},-62.668059223445283,5.5790656962039122,-58.863931826461126,10.550982864644721,0.14892497665653082,10.699907841301252,null,3.7699111843077517,3.3876920020497359E-2,{"$f":"$H240-($I240*$C240)","v":-9.6175745149383873E-3},3.5215670512224628E-2,10.56719237304949,0.81931489945078118,{"$f":"BL239+mazalazo*($I240*(BM240^2+BN240^2)+BM240*BR240-BN240*BQ240)*$BS240*DT","v":-304.65699576996934},1.7493029299540805,-6.1193351655305142,-6.0863578362584239,1.7023628924115768,-2.3406308365078439,-0.68750721970799444,-1.4111423131276872,0,0]
[0,201,1.7054944912736094,-6.131965226333902,-6.0863578362584239,1.7023628924115768,-2.3315221125006698,-0.66239404753743392,-0.38751987067834542,{"$f":"IF(($G241+$I241*$D241)^2+($H241-$I241*$D241)^2<>0,-mew*($G241+$I241*$D241)/SQRT(($G241+$I241*$D241)^2+($H241-$I241*$C241)^2),0)","v":-2.9983573298886688},{"$f":"-mew*($H241-$C241*$I241)/SQRT(($G241+$D241*$I241)^2+($H241-$I241*$C241)^2)","v":9.9263902315462518E-2},-0.38803361677321757,null,{"$f":"IF(Q241<>0,mazalazo*(($D241*$J241-$C241*$K241)-2*$I241*($C241*$G241+$D241*$H241))/(INERTIA+mazalazo*($C241^2+$D241^2)),0)","v":0},-4.1748250212190605,{"$f":"IF(Q241<>0,G241*COS(O241)+H241*SIN(O241)+F241*$I241,0)","v":0},0,{"$f":"R240+mazalazo*($I241^2*($E241*$P241+$F241*$U241))*DT","v":121.68091602656294},{"$f":"IF(Q241<>0,$J241*COS($O241)+$K241*SIN($Z241)+2*$U241*$I241+$E241*$I241^2+$F241*$N241,0)","v":0},{"$f":"IF(Q241<>0,-$J241*SIN($O241)+$K241*COS($O241)-2*$P241*$I241+$F241*$I241^2-$E241*$N241,0)","v":0},{"$f":"IF(Q241<>0,-$G241*SIN(O241)+$H241*COS(O241)-$E241*$I241,0)","v":0},{"$f":"$G241*COS($O241)+$H241*SIN($O241)+$F241*$I241","v":-3.4824138035648322E-2},{"$f":"-$G241*SIN($O241)+$H241*COS($O241)-$E241*$I241","v":-1.6728055533671959E-2},null,1.7273987106138451,1.7713959983115006,-6.1256501959322076,-6.1128022418935517,-3.4685849389355479,-3.3818041638234413,-0.13520466625983882,0.33494782430234427,6.7237346029028426,1.6798623455318804,-6.1157905405021493,-4.1748250212190605,null,false,null,3.7887607402292907,null,null,null,6.3147875664691728,-62.668059223445283,201,2.5446900494077322,-58.863953610995374,0,{"$f":"1/2*(INERTIA+mazalazo*($C241^2+$D241^2))*$I241^2","v":10.551745448573248},-62.668059223445283,5.9231889131739557,-58.863931826461126,10.551745448573248,0.14892497665653082,10.700670425229779,null,3.7887607402292907,4.7886532201276033E-2,{"$f":"$H241-($I241*$C241)","v":-1.4810428364542272E-3},4.790942969966621E-2,96.998947679166619,9.2740166961195053E-2,{"$f":"BL240+mazalazo*($I241*(BM241^2+BN241^2)+BM241*BR241-BN241*BQ241)*$BS241*DT","v":-282.30241252213847},1.7054944912736094,-6.131965226333902,-6.0863578362584239,1.7023628924115768,-2.3315221125006698,-0.66239404753743392,-12.700975692640569,0,0]
[0,202,1.6611278751746288,-6.1443925288986057,-6.0863578362584239,1.7023628924115768,-2.3501250715440336,-0.65368190309880836,-0.38751987067834542,{"$f":"IF(($G242+$I242*$D242)^2+($H242-$I242*$D242)^2<>0,-mew*($G242+$I242*$D242)/SQRT(($G242+$I242*$D242)^2+($H242-$I242*$C242)^2),0)","v":-2.8557115235522619},{"$f":"-mew*($H242-$C242*$I242)/SQRT(($G242+$D242*$I242)^2+($H242-$I242*$C242)^2)","v":0.91919078229213147},-0.38803361677321757,null,{"$f":"IF(Q242<>0,mazalazo*(($D242*$J242-$C242*$K242)-2*$I242*($C242*$G242+$D242*$H242))/(INERTIA+mazalazo*($C242^2+$D242^2)),0)","v":0},-4.1821392825778645,{"$f":"IF(Q242<>0,G242*COS(O242)+H242*SIN(O242)+F242*$I242,0)","v":0},0,{"$f":"R241+mazalazo*($I242^2*($E242*$P242+$F242*$U242))*DT","v":121.68091602656294},{"$f":"IF(Q242<>0,$J242*COS($O242)+$K242*SIN($Z242)+2*$U242*$I242+$E242*$I242^2+$F242*$N242,0)","v":0},{"$f":"IF(Q242<>0,-$J242*SIN($O242)+$K242*COS($O242)-2*$P242*$I242+$F242*$I242^2-$E242*$N242,0)","v":0},{"$f":"IF(Q242<>0,-$G242*SIN(O242)+$H242*COS(O242)-$E242*$I242,0)","v":0},{"$f":"$G242*COS($O242)+$H242*SIN($O242)+$F242*$I242","v":-3.5045427559647124E-2},{"$f":"-$G242*SIN($O242)+$H242*COS($O242)-$E242*$I242","v":-5.7797795573000244E-4},null,1.6833111832241192,1.7273987106138451,-6.1381788776162534,-6.1256501959322076,-3.5700922117235372,-3.4685849389355479,5.3378562253012157E-2,-0.31916912185317159,6.0429765778758453,1.6353500195296609,-6.1279722942693784,-4.1821392825778645,null,false,null,3.8076102961508291,null,null,null,6.660323726076272,-62.668059223445283,202,2.5446900494077322,-58.863953610995374,0,{"$f":"1/2*(INERTIA+mazalazo*($C242^2+$D242^2))*$I242^2","v":10.5524654548397},-62.668059223445283,6.3147875664691728,-58.863931826461126,10.5524654548397,0.14892497665653082,10.701390431496231,null,3.8076102961508291,3.4105784318829269E-2,{"$f":"$H242-($I242*$C242)","v":-9.9618437309414443E-3},3.5530871851422362E-2,10.270925314627306,0.84111449102051694,{"$f":"BL241+mazalazo*($I242*(BM242^2+BN242^2)+BM242*BR242-BN242*BQ242)*$BS242*DT","v":-279.87101633119028},1.6611278751746288,-6.1443925288986057,-6.0863578362584239,1.7023628924115768,-2.3501250715440336,-0.65368190309880836,-1.3769685098548365,0,0]
[0,203,1.6171452273363891,-6.1563895797243173,-6.0863578362584239,1.7023628924115768,-2.340651611489152,-0.62870778371166458,-0.38751987067834542,{"$f":"IF(($G243+$I243*$D243)^2+($H243-$I243*$D243)^2<>0,-mew*($G243+$I243*$D243)/SQRT(($G243+$I243*$D243)^2+($H243-$I243*$C243)^2),0)","v":-2.9969562002824182},{"$f":"-mew*($H243-$C243*$I243)/SQRT(($G243+$D243*$I243)^2+($H243-$I243*$C243)^2)","v":0.13510563862685743},-0.38803361677321757,null,{"$f":"IF(Q243<>0,mazalazo*(($D243*$J243-$C243*$K243)-2*$I243*($C243*$G243+$D243*$H243))/(INERTIA+mazalazo*($C243^2+$D243^2)),0)","v":0},-4.1894535439366685,{"$f":"IF(Q243<>0,G243*COS(O243)+H243*SIN(O243)+F243*$I243,0)","v":0},0,{"$f":"R242+mazalazo*($I243^2*($E243*$P243+$F243*$U243))*DT","v":121.68091602656294},{"$f":"IF(Q243<>0,$J243*COS($O243)+$K243*SIN($Z243)+2*$U243*$I243+$E243*$I243^2+$F243*$N243,0)","v":0},{"$f":"IF(Q243<>0,-$J243*SIN($O243)+$K243*COS($O243)-2*$P243*$I243+$F243*$I243^2-$E243*$N243,0)","v":0},{"$f":"IF(Q243<>0,-$G243*SIN(O243)+$H243*COS(O243)-$E243*$I243,0)","v":0},{"$f":"$G243*COS($O243)+$H243*SIN($O243)+$F243*$I243","v":-3.5403845994035898E-2},{"$f":"-$G243*SIN($O243)+$H243*COS($O243)-$E243*$I243","v":-1.6752317885716295E-2},null,1.6391365512555089,1.6833111832241192,-6.150391054311461,-6.1381788776162534,-3.6661216558304113,-3.5700922117235372,-0.13031747216869019,0.33664265996024678,6.7240287657866578,1.5909866230665597,-6.1397754437088334,-4.1894535439366685,null,false,null,3.8264598520723681,null,null,null,7.0521996824649911,-62.668059223445283,203,2.5446900494077322,-58.863953610995374,0,{"$f":"1/2*(INERTIA+mazalazo*($C243^2+$D243^2))*$I243^2","v":10.553228171417699},-62.668059223445283,6.660323726076272,-58.863931826461126,10.553228171417699,0.14892497665653082,10.702153148074229,null,3.8264598520723681,4.8234503396223705E-2,{"$f":"$H243-($I243*$C243)","v":-2.0318743461635869E-3},4.8277280694327782E-2,71.216761244064145,0.12626276689206628,{"$f":"BL242+mazalazo*($I243*(BM243^2+BN243^2)+BM243*BR243-BN243*BQ243)*$BS243*DT","v":-263.39046921981799},1.6171452273363891,-6.1563895797243173,-6.0863578362584239,1.7023628924115768,-2.340651611489152,-0.62870778371166458,-9.3627711017967012,0,0]
[0,204,1.5726073841510468,-6.1681759467382102,-6.0863578362584239,1.7023628924115768,-2.3591291956806892,-0.61973088494600259,-0.38751987067834542,{"$f":"IF(($G244+$I244*$D244)^2+($H244-$I244*$D244)^2<>0,-mew*($G244+$I244*$D244)/SQRT(($G244+$I244*$D244)^2+($H244-$I244*$C244)^2),0)","v":-2.8480426364732705},{"$f":"-mew*($H244-$C244*$I244)/SQRT(($G244+$D244*$I244)^2+($H244-$I244*$C244)^2)","v":0.94268400900321914},-0.38803361677321757,null,{"$f":"IF(Q244<>0,mazalazo*(($D244*$J244-$C244*$K244)-2*$I244*($C244*$G244+$D244*$H244))/(INERTIA+mazalazo*($C244^2+$D244^2)),0)","v":0},-4.1967678052954724,{"$f":"IF(Q244<>0,G244*COS(O244)+H244*SIN(O244)+F244*$I244,0)","v":0},0,{"$f":"R243+mazalazo*($I244^2*($E244*$P244+$F244*$U244))*DT","v":121.68091602656294},{"$f":"IF(Q244<>0,$J244*COS($O244)+$K244*SIN($Z244)+2*$U244*$I244+$E244*$I244^2+$F244*$N244,0)","v":0},{"$f":"IF(Q244<>0,-$J244*SIN($O244)+$K244*COS($O244)-2*$P244*$I244+$F244*$I244^2-$E244*$N244,0)","v":0},{"$f":"IF(Q244<>0,-$G244*SIN(O244)+$H244*COS(O244)-$E244*$I244,0)","v":0},{"$f":"$G244*COS($O244)+$H244*SIN($O244)+$F244*$I244","v":-3.5628542873864966E-2},{"$f":"-$G244*SIN($O244)+$H244*COS($O244)-$E244*$I244","v":-5.997761382801059E-4},null,1.5948763057437181,1.6391365512555089,-6.1622827632312642,-6.150391054311461,-3.7787592336845028,-3.6661216558304113,4.8721311994234996E-2,-0.3197353038930002,6.0436716582854135,1.5463037712038359,-6.1513094622472746,-4.1967678052954724,null,false,null,3.845309407993907,null,null,null,7.3991082369811529,-62.668059223445283,204,2.5446900494077322,-58.863953610995374,0,{"$f":"1/2*(INERTIA+mazalazo*($C244^2+$D244^2))*$I244^2","v":10.553948353573483},-62.668059223445283,7.0521996824649911,-58.863931826461126,10.553948353573483,0.14892497665653082,10.702873330230014,null,3.845309407993907,3.4330425825703781E-2,{"$f":"$H244-($I244*$C244)","v":-1.0314274811977886E-2},3.5846372233060773E-2,9.9853144651050396,0.86320658154063856,{"$f":"BL243+mazalazo*($I244*(BM244^2+BN244^2)+BM244*BR244-BN244*BQ244)*$BS244*DT","v":-261.01789167756476},1.5726073841510468,-6.1681759467382102,-6.0863578362584239,1.7023628924115768,-2.3591291956806892,-0.61973088494600259,-1.3435404548231222,0,0]
[0,205,1.5284596974021765,-6.1795376860818498,-6.0863578362584239,1.7023628924115768,-2.3492931728100546,-0.59490109254403523,-0.38751987067834542,{"$f":"IF(($G245+$I245*$D245)^2+($H245-$I245*$D245)^2<>0,-mew*($G245+$I245*$D245)/SQRT(($G245+$I245*$D245)^2+($H245-$I245*$C245)^2),0)","v":-2.9951204806677749},{"$f":"-mew*($H245-$C245*$I245)/SQRT(($G245+$D245*$I245)^2+($H245-$I245*$C245)^2)","v":0.17103597950266464},-0.38803361677321757,null,{"$f":"IF(Q245<>0,mazalazo*(($D245*$J245-$C245*$K245)-2*$I245*($C245*$G245+$D245*$H245))/(INERTIA+mazalazo*($C245^2+$D245^2)),0)","v":0},-4.2040820666542764,{"$f":"IF(Q245<>0,G245*COS(O245)+H245*SIN(O245)+F245*$I245,0)","v":0},0,{"$f":"R244+mazalazo*($I245^2*($E245*$P245+$F245*$U245))*DT","v":121.68091602656294},{"$f":"IF(Q245<>0,$J245*COS($O245)+$K245*SIN($Z245)+2*$U245*$I245+$E245*$I245^2+$F245*$N245,0)","v":0},{"$f":"IF(Q245<>0,-$J245*SIN($O245)+$K245*COS($O245)-2*$P245*$I245+$F245*$I245^2-$E245*$N245,0)","v":0},{"$f":"IF(Q245<>0,-$G245*SIN(O245)+$H245*COS(O245)-$E245*$I245,0)","v":0},{"$f":"$G245*COS($O245)+$H245*SIN($O245)+$F245*$I245","v":-3.5988625037104094E-2},{"$f":"-$G245*SIN($O245)+$H245*COS($O245)-$E245*$I245","v":-1.6775358492244763E-2},null,1.5505335407766117,1.5948763057437181,-6.17385681641003,-6.1622827632312642,-3.8856450947877654,-3.7787592336845028,-0.12541016119028522,0.33826560827809082,6.7243226170856198,1.5017753389377688,-6.1624670761810734,-4.2040820666542764,null,false,null,3.8641589639154454,null,null,null,7.7912543949369049,-62.668059223445283,205,2.5446900494077322,-58.863953610995374,0,{"$f":"1/2*(INERTIA+mazalazo*($C245^2+$D245^2))*$I245^2","v":10.554711202808878},-62.668059223445283,7.3991082369811529,-58.863931826461126,10.554711202808878,0.14892497665653082,10.703636179465409,null,3.8641589639154454,4.8575185506685603E-2,{"$f":"$H245-($I245*$C245)","v":-2.5925882696807845E-3},4.8644323008394365E-2,56.208522666038078,0.15989049344360645,{"$f":"BL244+mazalazo*($I245*(BM245^2+BN245^2)+BM245*BR245-BN245*BQ245)*$BS245*DT","v":-247.95914733510949},1.5284596974021765,-6.1795376860818498,-6.0863578362584239,1.7023628924115768,-2.3492931728100546,-0.59490109254403523,-7.418164682661522,0,0]
[0,206,1.4837599094394636,-6.1906808610556796,-6.0863578362584239,1.7023628924115768,-2.3676416326916447,-0.58566128188793309,-0.38751987067834542,{"$f":"IF(($G246+$I246*$D246)^2+($H246-$I246*$D246)^2<>0,-mew*($G246+$I246*$D246)/SQRT(($G246+$I246*$D246)^2+($H246-$I246*$C246)^2),0)","v":-2.8400708926649152},{"$f":"-mew*($H246-$C246*$I246)/SQRT(($G246+$D246*$I246)^2+($H246-$I246*$C246)^2)","v":0.96643537012958602},-0.38803361677321757,null,{"$f":"IF(Q246<>0,mazalazo*(($D246*$J246-$C246*$K246)-2*$I246*($C246*$G246+$D246*$H246))/(INERTIA+mazalazo*($C246^2+$D246^2)),0)","v":0},-4.2113963280130804,{"$f":"IF(Q246<>0,G246*COS(O246)+H246*SIN(O246)+F246*$I246,0)","v":0},0,{"$f":"R245+mazalazo*($I246^2*($E246*$P246+$F246*$U246))*DT","v":121.68091602656294},{"$f":"IF(Q246<>0,$J246*COS($O246)+$K246*SIN($Z246)+2*$U246*$I246+$E246*$I246^2+$F246*$N246,0)","v":0},{"$f":"IF(Q246<>0,-$J246*SIN($O246)+$K246*COS($O246)-2*$P246*$I246+$F246*$I246^2-$E246*$N246,0)","v":0},{"$f":"IF(Q246<>0,-$G246*SIN(O246)+$H246*COS(O246)-$E246*$I246,0)","v":0},{"$f":"$G246*COS($O246)+$H246*SIN($O246)+$F246*$I246","v":-3.6216765506212112E-2},{"$f":"-$G246*SIN($O246)+$H246*COS($O246)-$E246*$I246","v":-6.2035618588751618E-4},null,1.50610980342082,1.5505335407766117,-6.1851092735687647,-6.17385681641003,-4.0114050140729445,-3.8856450947877654,4.4059451031043848E-2,-0.32023315916530137,6.0443671383966979,1.4569313987228556,-6.1733510241645977,-4.2113963280130804,null,false,null,3.8830085198369844,null,null,null,8.139496150367858,-62.668059223445283,206,2.5446900494077322,-58.863953610995374,0,{"$f":"1/2*(INERTIA+mazalazo*($C246^2+$D246^2))*$I246^2","v":10.555431560900015},-62.668059223445283,7.7912543949369049,-58.863931826461126,10.555431560900015,0.14892497665653082,10.704356537556546,null,3.8830085198369844,3.4550652112527391E-2,{"$f":"$H246-($I246*$C246)","v":-1.0674833664238603E-2},3.6162129848227351E-2,9.7099364353397899,0.88558116258978137,{"$f":"BL245+mazalazo*($I246*(BM246^2+BN246^2)+BM246*BR246-BN246*BQ246)*$BS246*DT","v":-245.64411661711233},1.4837599094394636,-6.1906808610556796,-6.0863578362584239,1.7023628924115768,-2.3676416326916447,-0.58566128188793309,-1.3108383629761957,0,0]
[0,207,1.4394563827790348,-6.2014051205359744,-6.0863578362584239,1.7023628924115768,-2.357445296113672,-0.56098105608083249,-0.38751987067834542,{"$f":"IF(($G247+$I247*$D247)^2+($H247-$I247*$D247)^2<>0,-mew*($G247+$I247*$D247)/SQRT(($G247+$I247*$D247)^2+($H247-$I247*$C247)^2),0)","v":-2.9928467297820509},{"$f":"-mew*($H247-$C247*$I247)/SQRT(($G247+$D247*$I247)^2+($H247-$I247*$C247)^2)","v":0.20704698025541127},-0.38803361677321757,null,{"$f":"IF(Q247<>0,mazalazo*(($D247*$J247-$C247*$K247)-2*$I247*($C247*$G247+$D247*$H247))/(INERTIA+mazalazo*($C247^2+$D247^2)),0)","v":0},-4.2187105893718844,{"$f":"IF(Q247<>0,G247*COS(O247)+H247*SIN(O247)+F247*$I247,0)","v":0},0,{"$f":"R246+mazalazo*($I247^2*($E247*$P247+$F247*$U247))*DT","v":121.68091602656294},{"$f":"IF(Q247<>0,$J247*COS($O247)+$K247*SIN($Z247)+2*$U247*$I247+$E247*$I247^2+$F247*$N247,0)","v":0},{"$f":"IF(Q247<>0,-$J247*SIN($O247)+$K247*COS($O247)-2*$P247*$I247+$F247*$I247^2-$E247*$N247,0)","v":0},{"$f":"IF(Q247<>0,-$G247*SIN(O247)+$H247*COS(O247)-$E247*$I247,0)","v":0},{"$f":"$G247*COS($O247)+$H247*SIN($O247)+$F247*$I247","v":-3.6578474495818636E-2},{"$f":"-$G247*SIN($O247)+$H247*COS($O247)-$E247*$I247","v":-1.6797181296206443E-2},null,1.4616081461092492,1.50610980342082,-6.196042990795827,-6.1851092735687647,-4.1311501966018351,-4.0114050140729445,-0.12048379696783976,0.33981645088926893,6.7246161563705282,1.4122473352077098,-6.1838608464343618,-4.2187105893718844,null,false,null,3.9018580757585233,null,null,null,8.5319056218549356,-62.668059223445283,207,2.5446900494077322,-58.863953610995374,0,{"$f":"1/2*(INERTIA+mazalazo*($C247^2+$D247^2))*$I247^2","v":10.556194542800769},-62.668059223445283,8.139496150367858,-58.863931826461126,10.556194542800769,0.14892497665653082,10.7051195194573,null,3.9018580757585233,4.8908361883853502E-2,{"$f":"$H247-($I247*$C247)","v":-3.1631047791820244E-3},4.9010540641846199E-2,46.386413316824573,0.19361782615072609,{"$f":"BL246+mazalazo*($I247*(BM247^2+BN247^2)+BM247*BR247-BN247*BQ247)*$BS247*DT","v":-234.82688881510933},1.4394563827790348,-6.2014051205359744,-6.0863578362584239,1.7023628924115768,-2.357445296113672,-0.56098105608083249,-6.144312451266388,0,0]
[0,208,1.3946039604055775,-6.2119029816805034,-6.0863578362584239,1.7023628924115768,-2.3756609098248678,-0.55148022878925029,-0.38751987067834542,{"$f":"IF(($G248+$I248*$D248)^2+($H248-$I248*$D248)^2<>0,-mew*($G248+$I248*$D248)/SQRT(($G248+$I248*$D248)^2+($H248-$I248*$C248)^2),0)","v":-2.8317915330091314},{"$f":"-mew*($H248-$C248*$I248)/SQRT(($G248+$D248*$I248)^2+($H248-$I248*$C248)^2)","v":0.9904325891133593},-0.38803361677321757,null,{"$f":"IF(Q248<>0,mazalazo*(($D248*$J248-$C248*$K248)-2*$I248*($C248*$G248+$D248*$H248))/(INERTIA+mazalazo*($C248^2+$D248^2)),0)","v":0},-4.2260248507306883,{"$f":"IF(Q248<>0,G248*COS(O248)+H248*SIN(O248)+F248*$I248,0)","v":0},0,{"$f":"R247+mazalazo*($I248^2*($E248*$P248+$F248*$U248))*DT","v":121.68091602656294},{"$f":"IF(Q248<>0,$J248*COS($O248)+$K248*SIN($Z248)+2*$U248*$I248+$E248*$I248^2+$F248*$N248,0)","v":0},{"$f":"IF(Q248<>0,-$J248*SIN($O248)+$K248*COS($O248)-2*$P248*$I248+$F248*$I248^2-$E248*$N248,0)","v":0},{"$f":"IF(Q248<>0,-$G248*SIN(O248)+$H248*COS(O248)-$E248*$I248,0)","v":0},{"$f":"$G248*COS($O248)+$H248*SIN($O248)+$F248*$I248","v":-3.6810094790890924E-2},{"$f":"-$G248*SIN($O248)+$H248*COS($O248)-$E248*$I248","v":-6.397220623934885E-4},null,1.4170301715923062,1.4616081461092492,-6.2066540511082389,-6.196042990795827,-4.2725295901663012,-4.1311501966018351,3.9393985782937298E-2,-0.32066268275386989,6.0450630172033675,1.3672517753217432,-6.1940925261770658,-4.2260248507306883,null,false,null,3.9207076316800618,null,null,null,8.8814426896289707,-62.668059223445283,208,2.5446900494077322,-58.863953610995374,0,{"$f":"1/2*(INERTIA+mazalazo*($C248^2+$D248^2))*$I248^2","v":10.556915076873095},-62.668059223445283,8.5319056218549356,-58.863931826461126,10.556915076873095,0.14892497665653082,10.705840053529625,null,3.9207076316800618,3.4766271200952215E-2,{"$f":"$H248-($I248*$C248)","v":-1.1043482405372562E-2},3.6478104622580554E-2,9.4443772149368517,0.90822830733396676,{"$f":"BL247+mazalazo*($I248*(BM248^2+BN248^2)+BM248*BR248-BN248*BQ248)*$BS248*DT","v":-232.56816945974239},1.3946039604055775,-6.2119029816805034,-6.0863578362584239,1.7023628924115768,-2.3756609098248678,-0.55148022878925029,-1.2788414577558993,0,0]
[0,209,1.350153819649657,-6.2219877263695418,-6.0863578362584239,1.7023628924115768,-2.3651065839637466,-0.52695477351273468,-0.38751987067834542,{"$f":"IF(($G249+$I249*$D249)^2+($H249-$I249*$D249)^2<>0,-mew*($G249+$I249*$D249)/SQRT(($G249+$I249*$D249)^2+($H249-$I249*$C249)^2),0)","v":-2.9901316806838487},{"$f":"-mew*($H249-$C249*$I249)/SQRT(($G249+$D249*$I249)^2+($H249-$I249*$C249)^2)","v":0.24313068948774114},-0.38803361677321757,null,{"$f":"IF(Q249<>0,mazalazo*(($D249*$J249-$C249*$K249)-2*$I249*($C249*$G249+$D249*$H249))/(INERTIA+mazalazo*($C249^2+$D249^2)),0)","v":0},-4.2333391120894923,{"$f":"IF(Q249<>0,G249*COS(O249)+H249*SIN(O249)+F249*$I249,0)","v":0},0,{"$f":"R248+mazalazo*($I249^2*($E249*$P249+$F249*$U249))*DT","v":121.68091602656294},{"$f":"IF(Q249<>0,$J249*COS($O249)+$K249*SIN($Z249)+2*$U249*$I249+$E249*$I249^2+$F249*$N249,0)","v":0},{"$f":"IF(Q249<>0,-$J249*SIN($O249)+$K249*COS($O249)-2*$P249*$I249+$F249*$I249^2-$E249*$N249,0)","v":0},{"$f":"IF(Q249<>0,-$G249*SIN(O249)+$H249*COS(O249)-$E249*$I249,0)","v":0},{"$f":"$G249*COS($O249)+$H249*SIN($O249)+$F249*$I249","v":-3.7173393709719504E-2},{"$f":"-$G249*SIN($O249)+$H249*COS($O249)-$E249*$I249","v":-1.6817790273551125E-2},null,1.3723788900276173,1.4170301715923062,-6.2169453540250226,-6.2066540511082389,-4.4076614853954137,-4.2725295901663012,-0.1155394456093079,0.34129498737549913,6.7249093854229454,1.3224215151493328,-6.2039524377648316,-4.2333391120894923,null,false,null,3.9395571876016007,null,null,null,9.2741087923169303,-62.668059223445283,209,2.5446900494077322,-58.863953610995374,0,{"$f":"1/2*(INERTIA+mazalazo*($C249^2+$D249^2))*$I249^2","v":10.557678191447236},-62.668059223445283,8.8814426896289707,-58.863931826461126,10.557678191447236,0.14892497665653082,10.706603168103767,null,3.9395571876016007,4.9233817017995563E-2,{"$f":"$H249-($I249*$C249)","v":-3.7433399262254419E-3},4.9375918542997686E-2,39.457130253976139,0.22743920741235357,{"$f":"BL248+mazalazo*($I249*(BM249^2+BN249^2)+BM249*BR249-BN249*BQ249)*$BS249*DT","v":-223.33419343218733},1.350153819649657,-6.2219877263695418,-6.0863578362584239,1.7023628924115768,-2.3651065839637466,-0.52695477351273468,-5.2445510992954558,0,0]
[0,210,1.3051580993327307,-6.2318382869149165,-6.0863578362584239,1.7023628924115768,-2.3831856579818465,-0.51719487723840551,-0.38751987067834542,{"$f":"IF(($G250+$I250*$D250)^2+($H250-$I250*$D250)^2<>0,-mew*($G250+$I250*$D250)/SQRT(($G250+$I250*$D250)^2+($H250-$I250*$C250)^2),0)","v":-2.823199947786498},{"$f":"-mew*($H250-$C250*$I250)/SQRT(($G250+$D250*$I250)^2+($H250-$I250*$C250)^2)","v":1.0146635180286694},-0.38803361677321757,null,{"$f":"IF(Q250<>0,mazalazo*(($D250*$J250-$C250*$K250)-2*$I250*($C250*$G250+$D250*$H250))/(INERTIA+mazalazo*($C250^2+$D250^2)),0)","v":0},-4.2406533734482963,{"$f":"IF(Q250<>0,G250*COS(O250)+H250*SIN(O250)+F250*$I250,0)","v":0},0,{"$f":"R249+mazalazo*($I250^2*($E250*$P250+$F250*$U250))*DT","v":121.68091602656294},{"$f":"IF(Q250<>0,$J250*COS($O250)+$K250*SIN($Z250)+2*$U250*$I250+$E250*$I250^2+$F250*$N250,0)","v":0},{"$f":"IF(Q250<>0,-$J250*SIN($O250)+$K250*COS($O250)-2*$P250*$I250+$F250*$I250^2-$E250*$N250,0)","v":0},{"$f":"IF(Q250<>0,-$G250*SIN(O250)+$H250*COS(O250)-$E250*$I250,0)","v":0},{"$f":"$G250*COS($O250)+$H250*SIN($O250)+$F250*$I250","v":-3.7408530069920731E-2},{"$f":"-$G250*SIN($O250)+$H250*COS($O250)-$E250*$I250","v":-6.5787776459380609E-4},null,1.3276559594911939,1.3723788900276173,-6.2269130066422296,-6.2169453540250226,-4.5678334861921979,-4.4076614853954137,3.4725921616731242E-2,-0.32102388433551265,6.0457592939716154,1.2772838334377372,-6.2135297896239869,-4.2406533734482963,null,false,null,3.9584067435231396,null,null,null,9.6249045425411399,-62.668059223445283,210,2.5446900494077322,-58.863953610995374,0,{"$f":"1/2*(INERTIA+mazalazo*($C250^2+$D250^2))*$I250^2","v":10.558398901546507},-62.668059223445283,9.2741087923169303,-58.863931826461126,10.558398901546507,0.14892497665653082,10.707323878203038,null,3.9584067435231396,3.4977091635560953E-2,{"$f":"$H250-($I250*$C250)","v":-1.1420179370190575E-2},3.6794258195128139E-2,9.1882335211458077,0.9311381664193491,{"$f":"BL249+mazalazo*($I250*(BM250^2+BN250^2)+BM250*BR250-BN250*BQ250)*$BS250*DT","v":-221.13058757536032},1.3051580993327307,-6.2318382869149165,-6.0863578362584239,1.7023628924115768,-2.3831856579818465,-0.51719487723840551,-1.2475282707817659,0,0]
[0,211,1.2605705951761856,-6.2412816156402373,-6.0863578362584239,1.7023628924115768,-2.3722757420057814,-0.49282935967768171,-0.38751987067834542,{"$f":"IF(($G251+$I251*$D251)^2+($H251-$I251*$D251)^2<>0,-mew*($G251+$I251*$D251)/SQRT(($G251+$I251*$D251)^2+($H251-$I251*$C251)^2),0)","v":-2.9869722389650333},{"$f":"-mew*($H251-$C251*$I251)/SQRT(($G251+$D251*$I251)^2+($H251-$I251*$C251)^2)","v":0.27927915004922504},-0.38803361677321757,null,{"$f":"IF(Q251<>0,mazalazo*(($D251*$J251-$C251*$K251)-2*$I251*($C251*$G251+$D251*$H251))/(INERTIA+mazalazo*($C251^2+$D251^2)),0)","v":0},-4.2479676348071003,{"$f":"IF(Q251<>0,G251*COS(O251)+H251*SIN(O251)+F251*$I251,0)","v":0},0,{"$f":"R250+mazalazo*($I251^2*($E251*$P251+$F251*$U251))*DT","v":121.68091602656294},{"$f":"IF(Q251<>0,$J251*COS($O251)+$K251*SIN($Z251)+2*$U251*$I251+$E251*$I251^2+$F251*$N251,0)","v":0},{"$f":"IF(Q251<>0,-$J251*SIN($O251)+$K251*COS($O251)-2*$P251*$I251+$F251*$I251^2-$E251*$N251,0)","v":0},{"$f":"IF(Q251<>0,-$G251*SIN(O251)+$H251*COS(O251)-$E251*$I251,0)","v":0},{"$f":"$G251*COS($O251)+$H251*SIN($O251)+$F251*$I251","v":-3.7773382024708591E-2},{"$f":"-$G251*SIN($O251)+$H251*COS($O251)-$E251*$I251","v":-1.6837189432423738E-2},null,1.2828643472544581,1.3276559594911939,-6.2365599512775773,-6.2269130066422296,-4.7215876364645215,-4.5678334861921979,-0.11057817466367321,0.3427010323350137,6.7252023051931369,1.2323168392369139,-6.2227378090389722,-4.2479676348071003,null,false,null,3.9772562994446781,null,null,null,10.017820792352842,-62.668059223445283,211,2.5446900494077322,-58.863953610995374,0,{"$f":"1/2*(INERTIA+mazalazo*($C251^2+$D251^2))*$I251^2","v":10.559162148802139},-62.668059223445283,9.6249045425411399,-58.863931826461126,10.559162148802139,0.14892497665653082,10.70808712545867,null,3.9772562994446781,4.955133661129052E-2,{"$f":"$H251-($I251*$C251)","v":-4.3332056540813513E-3},4.9740442611681521E-2,34.305782300883322,0.26134904073392984,{"$f":"BL250+mazalazo*($I251*(BM251^2+BN251^2)+BM251*BR251-BN251*BQ251)*$BS251*DT","v":-213.07537978723383},1.2605705951761856,-6.2412816156402373,-6.0863578362584239,1.7023628924115768,-2.3722757420057814,-0.49282935967768171,-4.5746574956678554,0,0]
[0,212,1.215440937523627,-6.2504830241268845,-6.0863578362584239,1.7023628924115768,-2.3902146118785796,-0.48281239404092319,-0.38751987067834542,{"$f":"IF(($G252+$I252*$D252)^2+($H252-$I252*$D252)^2<>0,-mew*($G252+$I252*$D252)/SQRT(($G252+$I252*$D252)^2+($H252-$I252*$C252)^2),0)","v":-2.8142916793020221},{"$f":"-mew*($H252-$C252*$I252)/SQRT(($G252+$D252*$I252)^2+($H252-$I252*$C252)^2)","v":1.0391161358632655},-0.38803361677321757,null,{"$f":"IF(Q252<>0,mazalazo*(($D252*$J252-$C252*$K252)-2*$I252*($C252*$G252+$D252*$H252))/(INERTIA+mazalazo*($C252^2+$D252^2)),0)","v":0},-4.2552818961659042,{"$f":"IF(Q252<>0,G252*COS(O252)+H252*SIN(O252)+F252*$I252,0)","v":0},0,{"$f":"R251+mazalazo*($I252^2*($E252*$P252+$F252*$U252))*DT","v":121.68091602656294},{"$f":"IF(Q252<>0,$J252*COS($O252)+$K252*SIN($Z252)+2*$U252*$I252+$E252*$I252^2+$F252*$N252,0)","v":0},{"$f":"IF(Q252<>0,-$J252*SIN($O252)+$K252*COS($O252)-2*$P252*$I252+$F252*$I252^2-$E252*$N252,0)","v":0},{"$f":"IF(Q252<>0,-$G252*SIN(O252)+$H252*COS(O252)-$E252*$I252,0)","v":0},{"$f":"$G252*COS($O252)+$H252*SIN($O252)+$F252*$I252","v":-3.801207069193735E-2},{"$f":"-$G252*SIN($O252)+$H252*COS($O252)-$E252*$I252","v":-6.7482732182888583E-4},null,1.2380057663499064,1.2828643472544581,-6.2458823198835614,-6.2365599512775773,-4.9046466873033001,-4.7215876364645215,3.0056262727680739E-2,-0.32131678851314671,6.0464559678614211,1.1870465606958704,-6.2316589117886423,-4.2552818961659042,null,false,null,3.996105855366217,null,null,null,10.369839808627258,-62.668059223445283,212,2.5446900494077322,-58.863953610995374,0,{"$f":"1/2*(INERTIA+mazalazo*($C252^2+$D252^2))*$I252^2","v":10.559883034973991},-62.668059223445283,10.017820792352842,-58.863931826461126,10.559883034973991,0.14892497665653082,10.708808011630522,null,3.996105855366217,3.5182922552973839E-2,{"$f":"$H252-($I252*$C252)","v":-1.180487911460032E-2},3.7110553893453031E-2,8.9411138084741921,0.95430096369563311,{"$f":"BL251+mazalazo*($I252*(BM252^2+BN252^2)+BM252*BR252-BN252*BQ252)*$BS252*DT","v":-210.92572794710739},1.215440937523627,-6.2504830241268845,-6.0863578362584239,1.7023628924115768,-2.3902146118785796,-0.48281239404092319,-1.2168768968969563,0,0]
[0,213,1.1707253435990963,-6.2592831697454256,-6.0863578362584239,1.7023628924115768,-2.3789515791112477,-0.45861194356478235,-0.38751987067834542,{"$f":"IF(($G253+$I253*$D253)^2+($H253-$I253*$D253)^2<>0,-mew*($G253+$I253*$D253)/SQRT(($G253+$I253*$D253)^2+($H253-$I253*$C253)^2),0)","v":-2.9833654810055736},{"$f":"-mew*($H253-$C253*$I253)/SQRT(($G253+$D253*$I253)^2+($H253-$I253*$C253)^2)","v":0.31548440016010654},-0.38803361677321757,null,{"$f":"IF(Q253<>0,mazalazo*(($D253*$J253-$C253*$K253)-2*$I253*($C253*$G253+$D253*$H253))/(INERTIA+mazalazo*($C253^2+$D253^2)),0)","v":0},-4.2625961575247082,{"$f":"IF(Q253<>0,G253*COS(O253)+H253*SIN(O253)+F253*$I253,0)","v":0},0,{"$f":"R252+mazalazo*($I253^2*($E253*$P253+$F253*$U253))*DT","v":121.68091602656294},{"$f":"IF(Q253<>0,$J253*COS($O253)+$K253*SIN($Z253)+2*$U253*$I253+$E253*$I253^2+$F253*$N253,0)","v":0},{"$f":"IF(Q253<>0,-$J253*SIN($O253)+$K253*COS($O253)-2*$P253*$I253+$F253*$I253^2-$E253*$N253,0)","v":0},{"$f":"IF(Q253<>0,-$G253*SIN(O253)+$H253*COS(O253)-$E253*$I253,0)","v":0},{"$f":"$G253*COS($O253)+$H253*SIN($O253)+$F253*$I253","v":-3.8378438793800207E-2},{"$f":"-$G253*SIN($O253)+$H253*COS($O253)-$E253*$I253","v":-1.6855382813442787E-2},null,1.1930831405613618,1.2380057663499064,-6.2548830969361546,-6.2458823198835614,-5.0812334094016407,-4.9046466873033001,-0.10560105316658817,0.34403441649613686,6.7254949169461486,1.1419523211268796,-6.240213195424821,-4.2625961575247082,null,false,null,4.0149554112877555,null,null,null,10.762999912599097,-62.668059223445283,213,2.5446900494077322,-58.863953610995374,0,{"$f":"1/2*(INERTIA+mazalazo*($C253^2+$D253^2))*$I253^2","v":10.560646414919274},-62.668059223445283,10.369839808627258,-58.863931826461126,10.560646414919274,0.14892497665653082,10.709571391575805,null,4.0149554112877555,4.9860707652799263E-2,{"$f":"$H253-($I253*$C253)","v":-4.932609813399047E-3},5.0104099704606567E-2,30.325148069095128,0.29534168915196835,{"$f":"BL252+mazalazo*($I253*(BM253^2+BN253^2)+BM253*BR253-BN253*BQ253)*$BS253*DT","v":-203.78302581603754},1.1707253435990963,-6.2592831697454256,-6.0863578362584239,1.7023628924115768,-2.3789515791112477,-0.45861194356478235,-4.0560810939000209,0,0]
[0,214,1.125471131396564,-6.2678337102865118,-6.0863578362584239,1.7023628924115768,-2.3967466101834778,-0.44833995971288065,-0.38751987067834542,{"$f":"IF(($G254+$I254*$D254)^2+($H254-$I254*$D254)^2<>0,-mew*($G254+$I254*$D254)/SQRT(($G254+$I254*$D254)^2+($H254-$I254*$C254)^2),0)","v":-2.8050624241558775},{"$f":"-mew*($H254-$C254*$I254)/SQRT(($G254+$D254*$I254)^2+($H254-$I254*$C254)^2)","v":1.0637785467797092},-0.38803361677321757,null,{"$f":"IF(Q254<>0,mazalazo*(($D254*$J254-$C254*$K254)-2*$I254*($C254*$G254+$D254*$H254))/(INERTIA+mazalazo*($C254^2+$D254^2)),0)","v":0},-4.2699104188835122,{"$f":"IF(Q254<>0,G254*COS(O254)+H254*SIN(O254)+F254*$I254,0)","v":0},0,{"$f":"R253+mazalazo*($I254^2*($E254*$P254+$F254*$U254))*DT","v":121.68091602656294},{"$f":"IF(Q254<>0,$J254*COS($O254)+$K254*SIN($Z254)+2*$U254*$I254+$E254*$I254^2+$F254*$N254,0)","v":0},{"$f":"IF(Q254<>0,-$J254*SIN($O254)+$K254*COS($O254)-2*$P254*$I254+$F254*$I254^2-$E254*$N254,0)","v":0},{"$f":"IF(Q254<>0,-$G254*SIN(O254)+$H254*COS(O254)-$E254*$I254,0)","v":0},{"$f":"$G254*COS($O254)+$H254*SIN($O254)+$F254*$I254","v":-3.8620716012566891E-2},{"$f":"-$G254*SIN($O254)+$H254*COS($O254)-$E254*$I254","v":-6.9057479611656092E-4},null,1.1480982374978301,1.1930831405613618,-6.2635584400159683,-6.2548830969361546,-5.2925557144699207,-5.0812334094016407,2.5386011884609583E-2,-0.32154143464147555,6.0471530380702054,1.0965589958852422,-6.2484762666001128,-4.2699104188835122,null,false,null,4.0338049672092948,null,null,null,11.116207948357809,-62.668059223445283,214,2.5446900494077322,-58.863953610995374,0,{"$f":"1/2*(INERTIA+mazalazo*($C254^2+$D254^2))*$I254^2","v":10.561367477209236},-62.668059223445283,10.762999912599097,-58.863931826461126,10.561367477209236,0.14892497665653082,10.710292453865767,null,4.0338049672092948,3.5383573752092889E-2,{"$f":"$H254-($I254*$C254)","v":-1.2197532421873103E-2},3.7426956711071796E-2,8.7026389916312041,0.97770699199794509,{"$f":"BL253+mazalazo*($I254*(BM254^2+BN254^2)+BM254*BR254-BN254*BQ254)*$BS254*DT","v":-201.68620729695033},1.125471131396564,-6.2678337102865118,-6.0863578362584239,1.7023628924115768,-2.3967466101834778,-0.44833995971288065,-1.1868652099009973,0,0]
[0,215,1.0806367423309984,-6.2759890399303906,-6.0863578362584239,1.7023628924115768,-2.3851330075009627,-0.42430966681677129,-0.38751987067834542,{"$f":"IF(($G255+$I255*$D255)^2+($H255-$I255*$D255)^2<>0,-mew*($G255+$I255*$D255)/SQRT(($G255+$I255*$D255)^2+($H255-$I255*$C255)^2),0)","v":-2.9793086522779184},{"$f":"-mew*($H255-$C255*$I255)/SQRT(($G255+$D255*$I255)^2+($H255-$I255*$C255)^2)","v":0.35173847452608076},-0.38803361677321757,null,{"$f":"IF(Q255<>0,mazalazo*(($D255*$J255-$C255*$K255)-2*$I255*($C255*$G255+$D255*$H255))/(INERTIA+mazalazo*($C255^2+$D255^2)),0)","v":0},-4.2772246802423162,{"$f":"IF(Q255<>0,G255*COS(O255)+H255*SIN(O255)+F255*$I255,0)","v":0},0,{"$f":"R254+mazalazo*($I255^2*($E255*$P255+$F255*$U255))*DT","v":121.68091602656294},{"$f":"IF(Q255<>0,$J255*COS($O255)+$K255*SIN($Z255)+2*$U255*$I255+$E255*$I255^2+$F255*$N255,0)","v":0},{"$f":"IF(Q255<>0,-$J255*SIN($O255)+$K255*COS($O255)-2*$P255*$I255+$F255*$I255^2-$E255*$N255,0)","v":0},{"$f":"IF(Q255<>0,-$G255*SIN(O255)+$H255*COS(O255)-$E255*$I255,0)","v":0},{"$f":"$G255*COS($O255)+$H255*SIN($O255)+$F255*$I255","v":-3.898856337678569E-2},{"$f":"-$G255*SIN($O255)+$H255*COS($O255)-$E255*$I255","v":-1.6872374489577791E-2},null,1.1030539368637813,1.1480982374978301,-6.2719113751084512,-6.2635584400159683,-5.4975569380224112,-5.2925557144699207,-0.10060915129500059,0.34529498624034094,6.7257872217730448,1.0513470236297484,-6.2563751090645496,-4.2772246802423162,null,false,null,4.0526545231308333,null,null,null,11.509605797799312,-62.668059223445283,215,2.5446900494077322,-58.863953610995374,0,{"$f":"1/2*(INERTIA+mazalazo*($C255^2+$D255^2))*$I255^2","v":10.56213098985239},-62.668059223445283,11.116207948357809,-58.863931826461126,10.56213098985239,0.14892497665653082,10.711055966508921,null,4.0526545231308333,5.01617184923E-2,{"$f":"$H255-($I255*$C255)","v":-5.5414561783942995E-3},5.0466877639475737E-2,27.156247497477242,0.32941147367871115,{"$f":"BL254+mazalazo*($I255*(BM255^2+BN255^2)+BM255*BR255-BN255*BQ255)*$BS255*DT","v":-195.27146221147785},1.0806367423309984,-6.2759890399303906,-6.0863578362584239,1.7023628924115768,-2.3851330075009627,-0.42430966681677129,-3.6423841078949577,0,0]
[0,216,1.0352673785769817,-6.2838871324458099,-6.0863578362584239,1.7023628924115768,-2.4027805956338746,-0.41378476697338795,-0.38751987067834542,{"$f":"IF(($G256+$I256*$D256)^2+($H256-$I256*$D256)^2<>0,-mew*($G256+$I256*$D256)/SQRT(($G256+$I256*$D256)^2+($H256-$I256*$C256)^2),0)","v":-2.795508035209505},{"$f":"-mew*($H256-$C256*$I256)/SQRT(($G256+$D256*$I256)^2+($H256-$I256*$C256)^2)","v":1.0886389783023085},-0.38803361677321757,null,{"$f":"IF(Q256<>0,mazalazo*(($D256*$J256-$C256*$K256)-2*$I256*($C256*$G256+$D256*$H256))/(INERTIA+mazalazo*($C256^2+$D256^2)),0)","v":0},-4.2845389416011201,{"$f":"IF(Q256<>0,G256*COS(O256)+H256*SIN(O256)+F256*$I256,0)","v":0},0,{"$f":"R255+mazalazo*($I256^2*($E256*$P256+$F256*$U256))*DT","v":121.68091602656294},{"$f":"IF(Q256<>0,$J256*COS($O256)+$K256*SIN($Z256)+2*$U256*$I256+$E256*$I256^2+$F256*$N256,0)","v":0},{"$f":"IF(Q256<>0,-$J256*SIN($O256)+$K256*COS($O256)-2*$P256*$I256+$F256*$I256^2-$E256*$N256,0)","v":0},{"$f":"IF(Q256<>0,-$G256*SIN(O256)+$H256*COS(O256)-$E256*$I256,0)","v":0},{"$f":"$G256*COS($O256)+$H256*SIN($O256)+$F256*$I256","v":-3.9234465394229812E-2},{"$f":"-$G256*SIN($O256)+$H256*COS($O256)-$E256*$I256","v":-7.0512428208013844E-4},null,1.05795206045399,1.1030539368637813,-6.2799380861880998,-6.2719113751084512,-5.7443444306891811,-5.4975569380224112,2.0716170222859022E-2,-0.32169787682796791,6.047850503791949,1.005840224926827,-6.2639785052764498,-4.2845389416011201,null,false,null,4.0715040790523718,null,null,null,11.863969734150951,-62.668059223445283,216,2.5446900494077322,-58.863953610995374,0,{"$f":"1/2*(INERTIA+mazalazo*($C256^2+$D256^2))*$I256^2","v":10.56285222830588},-62.668059223445283,11.509605797799312,-58.863931826461126,10.56285222830588,0.14892497665653082,10.711777204962411,null,4.0715040790523718,3.5578855763755968E-2,{"$f":"$H256-($I256*$C256)","v":-1.2598086309726308E-2},3.7743433284817433E-2,8.4724429303887447,1.0013466089313592,{"$f":"BL255+mazalazo*($I256*(BM256^2+BN256^2)+BM256*BR256-BN256*BQ256)*$BS256*DT","v":-193.22639518721039},1.0352673785769817,-6.2838871324458099,-6.0863578362584239,1.7023628924115768,-2.4027805956338746,-0.41378476697338795,-1.1574710441394682,0,0]
[0,217,0.99032350804616309,-6.2913961477399374,-6.0863578362584239,1.7023628924115768,-2.3908190428464757,-0.38992968223235708,-0.38751987067834542,{"$f":"IF(($G257+$I257*$D257)^2+($H257-$I257*$D257)^2<>0,-mew*($G257+$I257*$D257)/SQRT(($G257+$I257*$D257)^2+($H257-$I257*$C257)^2),0)","v":-2.9747991656939345},{"$f":"-mew*($H257-$C257*$I257)/SQRT(($G257+$D257*$I257)^2+($H257-$I257*$C257)^2)","v":0.38803340550353332},-0.38803361677321757,null,{"$f":"IF(Q257<>0,mazalazo*(($D257*$J257-$C257*$K257)-2*$I257*($C257*$G257+$D257*$H257))/(INERTIA+mazalazo*($C257^2+$D257^2)),0)","v":0},-4.2918532029599241,{"$f":"IF(Q257<>0,G257*COS(O257)+H257*SIN(O257)+F257*$I257,0)","v":0},0,{"$f":"R256+mazalazo*($I257^2*($E257*$P257+$F257*$U257))*DT","v":121.68091602656294},{"$f":"IF(Q257<>0,$J257*COS($O257)+$K257*SIN($Z257)+2*$U257*$I257+$E257*$I257^2+$F257*$N257,0)","v":0},{"$f":"IF(Q257<>0,-$J257*SIN($O257)+$K257*COS($O257)-2*$P257*$I257+$F257*$I257^2-$E257*$N257,0)","v":0},{"$f":"IF(Q257<>0,-$G257*SIN(O257)+$H257*COS(O257)-$E257*$I257,0)","v":0},{"$f":"$G257*COS($O257)+$H257*SIN($O257)+$F257*$I257","v":-3.9603755140284025E-2},{"$f":"-$G257*SIN($O257)+$H257*COS($O257)-$E257*$I257","v":-1.6888168566176809E-2},null,1.0127954433115725,1.05795206045399,-6.2876416400928736,-6.2799380861880998,-5.9853214796309393,-5.7443444306891811,-9.5603540195518921E-2,0.34648260389321894,6.7260792208929292,0.96052005467403312,-6.2712203396883259,-4.2918532029599241,null,false,null,4.0903536349739111,null,null,null,12.257599398088937,-62.668059223445283,217,2.5446900494077322,-58.863953610995374,0,{"$f":"1/2*(INERTIA+mazalazo*($C257^2+$D257^2))*$I257^2","v":10.563615873655198},-62.668059223445283,11.863969734150951,-58.863931826461126,10.563615873655198,0.14892497665653082,10.712540850311729,null,4.0903536349739111,5.045415891414029E-2,{"$f":"$H257-($I257*$C257)","v":-6.1596444645825588E-3},5.0828765199081756E-2,24.573248929015705,0.36355267182610029,{"$f":"BL256+mazalazo*($I257*(BM257^2+BN257^2)+BM257*BR257-BN257*BQ257)*$BS257*DT","v":-187.4064639476166},0.99032350804616309,-6.2913961477399374,-6.0863578362584239,1.7023628924115768,-2.3908190428464757,-0.38992968223235708,-3.304353021242715,0,0]
[0,218,0.94484841398515462,-6.2986403481618343,-6.0863578362584239,1.7023628924115768,-2.4083156151305531,-0.3791540192369382,-0.38751987067834542,{"$f":"IF(($G258+$I258*$D258)^2+($H258-$I258*$D258)^2<>0,-mew*($G258+$I258*$D258)/SQRT(($G258+$I258*$D258)^2+($H258-$I258*$C258)^2),0)","v":-2.7856245232607391},{"$f":"-mew*($H258-$C258*$I258)/SQRT(($G258+$D258*$I258)^2+($H258-$I258*$C258)^2)","v":1.1136857794765902},-0.38803361677321757,null,{"$f":"IF(Q258<>0,mazalazo*(($D258*$J258-$C258*$K258)-2*$I258*($C258*$G258+$D258*$H258))/(INERTIA+mazalazo*($C258^2+$D258^2)),0)","v":0},-4.2991674643187281,{"$f":"IF(Q258<>0,G258*COS(O258)+H258*SIN(O258)+F258*$I258,0)","v":0},0,{"$f":"R257+mazalazo*($I258^2*($E258*$P258+$F258*$U258))*DT","v":121.68091602656294},{"$f":"IF(Q258<>0,$J258*COS($O258)+$K258*SIN($Z258)+2*$U258*$I258+$E258*$I258^2+$F258*$N258,0)","v":0},{"$f":"IF(Q258<>0,-$J258*SIN($O258)+$K258*COS($O258)-2*$P258*$I258+$F258*$I258^2-$E258*$N258,0)","v":0},{"$f":"IF(Q258<>0,-$G258*SIN(O258)+$H258*COS(O258)-$E258*$I258,0)","v":0},{"$f":"$G258*COS($O258)+$H258*SIN($O258)+$F258*$I258","v":-3.9853318206145127E-2},{"$f":"-$G258*SIN($O258)+$H258*COS($O258)-$E258*$I258","v":-7.1847990696349839E-4},null,0.96758596101565886,1.0127954433115725,-6.2950182479508854,-6.2876416400928736,-6.2774483604224844,-5.9853214796309393,1.6047737030405577E-2,-0.32178618391533487,6.0485483641928566,0.91490937683367735,-6.27816255690907,-4.2991674643187281,null,false,null,4.1092031908954496,null,null,null,12.613087203124104,-62.668059223445283,218,2.5446900494077322,-58.863953610995374,0,{"$f":"1/2*(INERTIA+mazalazo*($C258^2+$D258^2))*$I258^2","v":10.56433728831751},-62.668059223445283,12.257599398088937,-58.863931826461126,10.56433728831751,0.14892497665653082,10.713262264974041,null,4.1092031908954496,3.5768579920401944E-2,{"$f":"$H258-($I258*$C258)","v":-1.3006484038771304E-2},3.805995187297264E-2,8.25017271703374,1.0252102327019137,{"$f":"BL257+mazalazo*($I258*(BM258^2+BN258^2)+BM258*BR258-BN258*BQ258)*$BS258*DT","v":-185.41210527629244},0.94484841398515462,-6.2986403481618343,-6.0863578362584239,1.7023628924115768,-2.4083156151305531,-0.3791540192369382,-1.1286723464000752,0,0]
[0,219,0.89980439276660096,-6.3055016854133505,-6.0863578362584239,1.7023628924115768,-2.3960088043498806,-0.35547915226842997,-0.38751987067834542,{"$f":"IF(($G259+$I259*$D259)^2+($H259-$I259*$D259)^2<>0,-mew*($G259+$I259*$D259)/SQRT(($G259+$I259*$D259)^2+($H259-$I259*$C259)^2),0)","v":-2.9698345999932232},{"$f":"-mew*($H259-$C259*$I259)/SQRT(($G259+$D259*$I259)^2+($H259-$I259*$C259)^2)","v":0.42436122429257317},-0.38803361677321757,null,{"$f":"IF(Q259<>0,mazalazo*(($D259*$J259-$C259*$K259)-2*$I259*($C259*$G259+$D259*$H259))/(INERTIA+mazalazo*($C259^2+$D259^2)),0)","v":0},-4.3064817256775321,{"$f":"IF(Q259<>0,G259*COS(O259)+H259*SIN(O259)+F259*$I259,0)","v":0},0,{"$f":"R258+mazalazo*($I259^2*($E259*$P259+$F259*$U259))*DT","v":121.68091602656294},{"$f":"IF(Q259<>0,$J259*COS($O259)+$K259*SIN($Z259)+2*$U259*$I259+$E259*$I259^2+$F259*$N259,0)","v":0},{"$f":"IF(Q259<>0,-$J259*SIN($O259)+$K259*COS($O259)-2*$P259*$I259+$F259*$I259^2-$E259*$N259,0)","v":0},{"$f":"IF(Q259<>0,-$G259*SIN(O259)+$H259*COS(O259)-$E259*$I259,0)","v":0},{"$f":"$G259*COS($O259)+$H259*SIN($O259)+$F259*$I259","v":-4.0224013457681118E-2},{"$f":"-$G259*SIN($O259)+$H259*COS($O259)-$E259*$I259","v":-1.6902769180945132E-2},null,0.92232640337587779,0.96758596101565886,-6.3020710167875924,-6.2950182479508854,-6.5649041239882884,-6.2774483604224844,-9.0585291711228338E-2,0.34759714752571913,6.726370915458082,0.86949056326296725,-6.2847459551693863,-4.3064817256775321,null,false,null,4.1280527468169881,null,null,null,13.006942922018254,-62.668059223445283,{"$f":"AT258+1","v":219},2.5446900494077322,-58.863953610995374,0,{"$f":"1/2*(INERTIA+mazalazo*($C259^2+$D259^2))*$I259^2","v":10.565101066381342},-62.668059223445283,12.613087203124104,-58.863931826461126,10.565101066381342,0.14892497665653082,10.714026043037872,null,4.1280527468169881,5.0737820210680962E-2,{"$f":"$H259-($I259*$C259)","v":-6.787070347709645E-3},5.1189752134935616E-2,22.426975533472792,0.39775951619099481,{"$f":"BL258+mazalazo*($I259*(BM259^2+BN259^2)+BM259*BR259-BN259*BQ259)*$BS259*DT","v":-180.08780108000073},0.89980439276660096,-6.3055016854133505,-6.0863578362584239,1.7023628924115768,-2.3960088043498806,-0.35547915226842997,-3.0226905437712119,0,0]
[0,220,0.85423300592084472,-6.3120906858631738,-6.0863578362584239,1.7023628924115768,-2.4133508198105265,-0.34445492910575815,-0.38751987067834542,{"$f":"IF(($G260+$I260*$D260)^2+($H260-$I260*$D260)^2<>0,-mew*($G260+$I260*$D260)/SQRT(($G260+$I260*$D260)^2+($H260-$I260*$C260)^2),0)","v":-2.7754080584525593},{"$f":"-mew*($H260-$C260*$I260)/SQRT(($G260+$D260*$I260)^2+($H260-$I260*$C260)^2)","v":1.1389074190102535},-0.38803361677321757,null,{"$f":"IF(Q260<>0,mazalazo*(($D260*$J260-$C260*$K260)-2*$I260*($C260*$G260+$D260*$H260))/(INERTIA+mazalazo*($C260^2+$D260^2)),0)","v":0},-4.313795987036336,{"$f":"IF(Q260<>0,G260*COS(O260)+H260*SIN(O260)+F260*$I260,0)","v":0},0,{"$f":"R259+mazalazo*($I260^2*($E260*$P260+$F260*$U260))*DT","v":121.68091602656294},{"$f":"IF(Q260<>0,$J260*COS($O260)+$K260*SIN($Z260)+2*$U260*$I260+$E260*$I260^2+$F260*$N260,0)","v":0},{"$f":"IF(Q260<>0,-$J260*SIN($O260)+$K260*COS($O260)-2*$P260*$I260+$F260*$I260^2-$E260*$N260,0)","v":0},{"$f":"IF(Q260<>0,-$G260*SIN(O260)+$H260*COS(O260)-$E260*$I260,0)","v":0},{"$f":"$G260*COS($O260)+$H260*SIN($O260)+$F260*$I260","v":-4.047727382427424E-2},{"$f":"-$G260*SIN($O260)+$H260*COS($O260)-$E260*$I260","v":-7.3064583060622468E-4},null,0.87701869934372279,0.92232640337587779,-6.3087961856382622,-6.3020710167875924,-6.916282248391517,-6.5649041239882884,1.1381709515762402E-2,-0.32180643934007236,6.0492466185092395,0.82378561966437702,-6.2910256289883213,-4.313795987036336,null,false,null,4.1469023027385266,null,null,null,13.363523611550153,-62.668059223445283,220,2.5446900494077322,-58.863953610995374,0,{"$f":"1/2*(INERTIA+mazalazo*($C260^2+$D260^2))*$I260^2","v":10.565822657297673},-62.668059223445283,13.006942922018254,-58.863931826461126,10.565822657297673,0.14892497665653082,10.714747633954204,null,4.1469023027385266,3.5952558425500492E-2,{"$f":"$H260-($I260*$C260)","v":-1.3422665122138133E-2},3.8376482333847245E-2,8.0354888015950543,1.0492883380011846,{"$f":"BL259+mazalazo*($I260*(BM260^2+BN260^2)+BM260*BR260-BN260*BQ260)*$BS260*DT","v":-178.14314589591567},0.85423300592084472,-6.3120906858631738,-6.0863578362584239,1.7023628924115768,-2.4133508198105265,-0.34445492910575815,-1.100447302099731,0,0]
[0,221,0.8090981799455087,-6.3183031162227152,-6.0863578362584239,1.7023628924115768,-2.4007015148019817,-0.32096524754250472,-0.38751987067834542,{"$f":"IF(($G261+$I261*$D261)^2+($H261-$I261*$D261)^2<>0,-mew*($G261+$I261*$D261)/SQRT(($G261+$I261*$D261)^2+($H261-$I261*$C261)^2),0)","v":-2.9644126981700065},{"$f":"-mew*($H261-$C261*$I261)/SQRT(($G261+$D261*$I261)^2+($H261-$I261*$C261)^2)","v":0.46071396215919053},-0.38803361677321757,null,{"$f":"IF(Q261<>0,mazalazo*(($D261*$J261-$C261*$K261)-2*$I261*($C261*$G261+$D261*$H261))/(INERTIA+mazalazo*($C261^2+$D261^2)),0)","v":0},-4.32111024839514,{"$f":"IF(Q261<>0,G261*COS(O261)+H261*SIN(O261)+F261*$I261,0)","v":0},0,{"$f":"R260+mazalazo*($I261^2*($E261*$P261+$F261*$U261))*DT","v":121.68091602656294},{"$f":"IF(Q261<>0,$J261*COS($O261)+$K261*SIN($Z261)+2*$U261*$I261+$E261*$I261^2+$F261*$N261,0)","v":0},{"$f":"IF(Q261<>0,-$J261*SIN($O261)+$K261*COS($O261)-2*$P261*$I261+$F261*$I261^2-$E261*$N261,0)","v":0},{"$f":"IF(Q261<>0,-$G261*SIN(O261)+$H261*COS(O261)-$E261*$I261,0)","v":0},{"$f":"$G261*COS($O261)+$H261*SIN($O261)+$F261*$I261","v":-4.0849337709062294E-2},{"$f":"-$G261*SIN($O261)+$H261*COS($O261)-$E261*$I261","v":-1.6916180503927958E-2},null,0.83166559293317666,0.87701869934372279,-6.3151969010429445,-6.3087961856382622,-7.2652445763058102,-6.916282248391517,-8.5555478161827597E-2,0.34863851100344156,6.7266623066160607,0.77827773542490619,-6.2969493020202219,-4.32111024839514,null,false,null,4.1657518586600659,null,null,null,13.757599791267326,-62.668059223445283,221,2.5446900494077322,-58.863953610995374,0,{"$f":"1/2*(INERTIA+mazalazo*($C261^2+$D261^2))*$I261^2","v":10.566586568084432},-62.668059223445283,13.363523611550153,-58.863931826461126,10.566586568084432,0.14892497665653082,10.715511544740963,null,4.1657518586600659,5.1012495255409629E-2,{"$f":"$H261-($I261*$C261)","v":-7.4236254839365468E-3},5.1549829170511735E-2,20.614925429276543,0.43202619310617119,{"$f":"BL260+mazalazo*($I261*(BM261^2+BN261^2)+BM261*BR261-BN261*BQ261)*$BS261*DT","v":-173.23861359535255},0.8090981799455087,-6.3183031162227152,-6.0863578362584239,1.7023628924115768,-2.4007015148019817,-0.32096524754250472,-2.7841373964483491,0,0]
[0,222,0.76343995214573368,-6.3242357451598039,-6.0863578362584239,1.7023628924115768,-2.4178854650980273,-0.30969471686250805,-0.38751987067834542,{"$f":"IF(($G262+$I262*$D262)^2+($H262-$I262*$D262)^2<>0,-mew*($G262+$I262*$D262)/SQRT(($G262+$I262*$D262)^2+($H262-$I262*$C262)^2),0)","v":-2.7648549714353892},{"$f":"-mew*($H262-$C262*$I262)/SQRT(($G262+$D262*$I262)^2+($H262-$I262*$C262)^2)","v":1.1642924834117134},-0.38803361677321757,null,{"$f":"IF(Q262<>0,mazalazo*(($D262*$J262-$C262*$K262)-2*$I262*($C262*$G262+$D262*$H262))/(INERTIA+mazalazo*($C262^2+$D262^2)),0)","v":0},-4.328424509753944,{"$f":"IF(Q262<>0,G262*COS(O262)+H262*SIN(O262)+F262*$I262,0)","v":0},0,{"$f":"R261+mazalazo*($I262^2*($E262*$P262+$F262*$U262))*DT","v":121.68091602656294},{"$f":"IF(Q262<>0,$J262*COS($O262)+$K262*SIN($Z262)+2*$U262*$I262+$E262*$I262^2+$F262*$N262,0)","v":0},{"$f":"IF(Q262<>0,-$J262*SIN($O262)+$K262*COS($O262)-2*$P262*$I262+$F262*$I262^2-$E262*$N262,0)","v":0},{"$f":"IF(Q262<>0,-$G262*SIN(O262)+$H262*COS(O262)-$E262*$I262,0)","v":0},{"$f":"$G262*COS($O262)+$H262*SIN($O262)+$F262*$I262","v":-4.1106331631265536E-2},{"$f":"-$G262*SIN($O262)+$H262*COS($O262)-$E262*$I262","v":-7.4162624543649969E-4},null,0.78626906604562119,0.83166559293317666,-6.3212694306912596,-6.3151969010429445,-7.6961206041955643,-7.2652445763058102,6.719082616998784E-3,-0.32175874122592862,6.0499452659039497,0.73248815647060184,-6.302565207870134,-4.328424509753944,null,false,null,4.1846014145816044,null,null,null,14.115243390970132,-62.668059223445283,222,2.5446900494077322,-58.863953610995374,0,{"$f":"1/2*(INERTIA+mazalazo*($C262^2+$D262^2))*$I262^2","v":10.567308335299865},-62.668059223445283,13.757599791267326,-58.863931826461126,10.567308335299865,0.14892497665653082,10.716233311956396,null,4.1846014145816044,3.6130604422796253E-2,{"$f":"$H262-($I262*$C262)","v":-1.3846565336311123E-2},3.8692996104841983E-2,7.8280649847614505,1.0735714519593678,{"$f":"BL261+mazalazo*($I262*(BM262^2+BN262^2)+BM262*BR262-BN262*BQ262)*$BS262*DT","v":-171.34269471686511},0.76343995214573368,-6.3242357451598039,-6.0863578362584239,1.7023628924115768,-2.4178854650980273,-0.30969471686250805,-1.0727744392625824,0,0]
[0,223,0.7182236805489014,-6.3297981747546039,-6.0863578362584239,1.7023628924115768,-2.4048965006188046,-0.28639514533577715,-0.38751987067834542,{"$f":"IF(($G263+$I263*$D263)^2+($H263-$I263*$D263)^2<>0,-mew*($G263+$I263*$D263)/SQRT(($G263+$I263*$D263)^2+($H263-$I263*$C263)^2),0)","v":-2.958531365935535},{"$f":"-mew*($H263-$C263*$I263)/SQRT(($G263+$D263*$I263)^2+($H263-$I263*$C263)^2)","v":0.49708365168814023},-0.38803361677321757,null,{"$f":"IF(Q263<>0,mazalazo*(($D263*$J263-$C263*$K263)-2*$I263*($C263*$G263+$D263*$H263))/(INERTIA+mazalazo*($C263^2+$D263^2)),0)","v":0},-4.335738771112748,{"$f":"IF(Q263<>0,G263*COS(O263)+H263*SIN(O263)+F263*$I263,0)","v":0},0,{"$f":"R262+mazalazo*($I263^2*($E263*$P263+$F263*$U263))*DT","v":121.68091602656294},{"$f":"IF(Q263<>0,$J263*COS($O263)+$K263*SIN($Z263)+2*$U263*$I263+$E263*$I263^2+$F263*$N263,0)","v":0},{"$f":"IF(Q263<>0,-$J263*SIN($O263)+$K263*COS($O263)-2*$P263*$I263+$F263*$I263^2-$E263*$N263,0)","v":0},{"$f":"IF(Q263<>0,-$G263*SIN(O263)+$H263*COS(O263)-$E263*$I263,0)","v":0},{"$f":"$G263*COS($O263)+$H263*SIN($O263)+$F263*$I263","v":-4.1479727281209633E-2},{"$f":"-$G263*SIN($O263)+$H263*COS($O263)-$E263*$I263","v":-1.6928406737510837E-2},null,0.74083181634731754,0.78626906604562119,-6.3270169599572039,-6.3212694306912596,-8.128870815569913,-7.6961206041955643,-8.0515172111036232E-2,0.34960660397814625,6.72695339551594,0.68690079015826355,-6.3078280058298217,-4.335738771112748,null,false,null,4.2034509705031429,null,null,null,14.509534597005292,-62.668059223445283,223,2.5446900494077322,-58.863953610995374,0,{"$f":"1/2*(INERTIA+mazalazo*($C263^2+$D263^2))*$I263^2","v":10.568072378818025},-62.668059223445283,14.115243390970132,-58.863931826461126,10.568072378818025,0.14892497665653082,10.716997355474556,null,4.2034509705031429,5.127797857573535E-2,{"$f":"$H263-($I263*$C263)","v":-8.0691975313416098E-3},5.1908988004134536E-2,19.064341296603398,0.46634684136197574,{"$f":"BL262+mazalazo*($I263*(BM263^2+BN263^2)+BM263*BR263-BN263*BQ263)*$BS263*DT","v":-166.79863991442068},0.7182236805489014,-6.3297981747546039,-6.0863578362584239,1.7023628924115768,-2.4048965006188046,-0.28639514533577715,-2.5792821864350706,0,0]
[0,224,0.6724880759644527,-6.3350733970963251,-6.0863578362584239,1.7023628924115768,-2.4219189107337384,-0.27488060896367983,-0.38751987067834542,{"$f":"IF(($G264+$I264*$D264)^2+($H264-$I264*$D264)^2<>0,-mew*($G264+$I264*$D264)/SQRT(($G264+$I264*$D264)^2+($H264-$I264*$C264)^2),0)","v":-2.7539617543008403},{"$f":"-mew*($H264-$C264*$I264)/SQRT(($G264+$D264*$I264)^2+($H264-$I264*$C264)^2)","v":1.1898296751418826},-0.38803361677321757,null,{"$f":"IF(Q264<>0,mazalazo*(($D264*$J264-$C264*$K264)-2*$I264*($C264*$G264+$D264*$H264))/(INERTIA+mazalazo*($C264^2+$D264^2)),0)","v":0},-4.3430530324715519,{"$f":"IF(Q264<>0,G264*COS(O264)+H264*SIN(O264)+F264*$I264,0)","v":0},0,{"$f":"R263+mazalazo*($I264^2*($E264*$P264+$F264*$U264))*DT","v":121.68091602656294},{"$f":"IF(Q264<>0,$J264*COS($O264)+$K264*SIN($Z264)+2*$U264*$I264+$E264*$I264^2+$F264*$N264,0)","v":0},{"$f":"IF(Q264<>0,-$J264*SIN($O264)+$K264*COS($O264)-2*$P264*$I264+$F264*$I264^2-$E264*$N264,0)","v":0},{"$f":"IF(Q264<>0,-$G264*SIN(O264)+$H264*COS(O264)-$E264*$I264,0)","v":0},{"$f":"$G264*COS($O264)+$H264*SIN($O264)+$F264*$I264","v":-4.174049101642896E-2},{"$f":"-$G264*SIN($O264)+$H264*COS($O264)-$E264*$I264","v":-7.5142537645733753E-4},null,0.69535587825667711,0.74083181634731754,-6.3324357859254645,-6.3270169599572039,-8.6698913565653228,-8.128870815569913,2.0608487670040533E-3,-0.32164320220324782,6.0506443055974977,0.64103622123963855,-6.312779059183705,-4.3430530324715519,null,false,null,4.2223005264246822,null,null,null,14.868212105913404,-62.668059223445283,224,2.5446900494077322,-58.863953610995374,0,{"$f":"1/2*(INERTIA+mazalazo*($C264^2+$D264^2))*$I264^2","v":10.568794322377524},-62.668059223445283,14.509534597005292,-58.863931826461126,10.568794322377524,0.14892497665653082,10.717719299034055,null,4.2223005264246822,3.6302532065342508E-2,{"$f":"$H264-($I264*$C264)","v":-1.4278116733205781E-2},3.900946618197014E-2,7.6275883039075802,1.0980501501816253,{"$f":"BL263+mazalazo*($I264*(BM264^2+BN264^2)+BM264*BR264-BN264*BQ264)*$BS264*DT","v":-164.95052710162716},0.6724880759644527,-6.3350733970963251,-6.0863578362584239,1.7023628924115768,-2.4219189107337384,-0.27488060896367983,-1.045632713363166,0,0]
[0,225,0.627199729136248,-6.3399848671351702,-6.0863578362584239,1.7023628924115768,-2.4085931918565899,-0.25177602809696087,-0.38751987067834542,{"$f":"IF(($G265+$I265*$D265)^2+($H265-$I265*$D265)^2<>0,-mew*($G265+$I265*$D265)/SQRT(($G265+$I265*$D265)^2+($H265-$I265*$C265)^2),0)","v":-2.9521886702147602},{"$f":"-mew*($H265-$C265*$I265)/SQRT(($G265+$D265*$I265)^2+($H265-$I265*$C265)^2)","v":0.53346232805663596},-0.38803361677321757,null,{"$f":"IF(Q265<>0,mazalazo*(($D265*$J265-$C265*$K265)-2*$I265*($C265*$G265+$D265*$H265))/(INERTIA+mazalazo*($C265^2+$D265^2)),0)","v":0},-4.3503672938303559,{"$f":"IF(Q265<>0,G265*COS(O265)+H265*SIN(O265)+F265*$I265,0)","v":0},0,{"$f":"R264+mazalazo*($I265^2*($E265*$P265+$F265*$U265))*DT","v":121.68091602656294},{"$f":"IF(Q265<>0,$J265*COS($O265)+$K265*SIN($Z265)+2*$U265*$I265+$E265*$I265^2+$F265*$N265,0)","v":0},{"$f":"IF(Q265<>0,-$J265*SIN($O265)+$K265*COS($O265)-2*$P265*$I265+$F265*$I265^2-$E265*$N265,0)","v":0},{"$f":"IF(Q265<>0,-$G265*SIN(O265)+$H265*COS(O265)-$E265*$I265,0)","v":0},{"$f":"$G265*COS($O265)+$H265*SIN($O265)+$F265*$I265","v":-4.2115181567491389E-2},{"$f":"-$G265*SIN($O265)+$H265*COS($O265)-$E265*$I265","v":-1.6939452116388143E-2},null,0.64984390255035041,0.69535587825667711,-6.3375291321157476,-6.3324357859254645,-9.220935172161667,-8.6698913565653228,-7.5465446134095227E-2,0.35050135186632758,6.7272441833050998,0.59537897537183415,-6.3173799716419365,-4.3503672938303559,null,false,null,4.2411500823462207,null,null,null,15.262713057845943,-62.668059223445283,225,2.5446900494077322,-58.863953610995374,0,{"$f":"1/2*(INERTIA+mazalazo*($C265^2+$D265^2))*$I265^2","v":10.569558498635624},-62.668059223445283,14.868212105913404,-58.863931826461126,10.569558498635624,0.14892497665653082,10.718483475292155,null,4.2411500823462207,5.1534066425337421E-2,{"$f":"$H265-($I265*$C265)","v":-8.7236701725887655E-3},5.2267221311364971E-2,17.72215090866208,0.50071555099248555,{"$f":"BL264+mazalazo*($I265*(BM265^2+BN265^2)+BM265*BR265-BN265*BQ265)*$BS265*DT","v":-160.71973506532163},0.627199729136248,-6.3399848671351702,-6.0863578362584239,1.7023628924115768,-2.4085931918565899,-0.25177602809696087,-2.4012601083030463,0,0]
[0,226,0.58139622230502475,-6.3446017843486207,-6.0863578362584239,1.7023628924115768,-2.4254506207823336,-0.240019836533927,-0.38751987067834542,{"$f":"IF(($G266+$I266*$D266)^2+($H266-$I266*$D266)^2<>0,-mew*($G266+$I266*$D266)/SQRT(($G266+$I266*$D266)^2+($H266-$I266*$C266)^2),0)","v":-2.7427250613065159},{"$f":"-mew*($H266-$C266*$I266)/SQRT(($G266+$D266*$I266)^2+($H266-$I266*$C266)^2)","v":1.215507810785752},-0.38803361677321757,null,{"$f":"IF(Q266<>0,mazalazo*(($D266*$J266-$C266*$K266)-2*$I266*($C266*$G266+$D266*$H266))/(INERTIA+mazalazo*($C266^2+$D266^2)),0)","v":0},-4.3576815551891599,{"$f":"IF(Q266<>0,G266*COS(O266)+H266*SIN(O266)+F266*$I266,0)","v":0},0,{"$f":"R265+mazalazo*($I266^2*($E266*$P266+$F266*$U266))*DT","v":121.68091602656294},{"$f":"IF(Q266<>0,$J266*COS($O266)+$K266*SIN($Z266)+2*$U266*$I266+$E266*$I266^2+$F266*$N266,0)","v":0},{"$f":"IF(Q266<>0,-$J266*SIN($O266)+$K266*COS($O266)-2*$P266*$I266+$F266*$I266^2-$E266*$N266,0)","v":0},{"$f":"IF(Q266<>0,-$G266*SIN(O266)+$H266*COS(O266)-$E266*$I266,0)","v":0},{"$f":"$G266*COS($O266)+$H266*SIN($O266)+$F266*$I266","v":-4.2379751375657082E-2},{"$f":"-$G266*SIN($O266)+$H266*COS($O266)-$E266*$I266","v":-7.600474812283764E-4},null,0.60429797572063637,0.64984390255035041,-6.3422933257418954,-6.3375291321157476,-9.920798817397845,-9.220935172161667,-2.5920023059059719E-3,-0.3214599494455701,6.0513437367761069,0.54944907483272787,-6.3216652281801684,-4.3576815551891599,null,false,null,4.2599996382677592,null,null,null,15.622396413176745,-62.668059223445283,226,2.5446900494077322,-58.863953610995374,0,{"$f":"1/2*(INERTIA+mazalazo*($C266^2+$D266^2))*$I266^2","v":10.570280618584045},-62.668059223445283,15.262713057845943,-58.863931826461126,10.570280618584045,0.14892497665653082,10.719205595240576,null,4.2599996382677592,3.6468156584271494E-2,{"$f":"$H266-($I266*$C266)","v":-1.4717247653405235E-2},3.9325867099742458E-2,7.4337588338061824,1.1227150528743168,{"$f":"BL265+mazalazo*($I266*(BM266^2+BN266^2)+BM266*BR266-BN266*BQ266)*$BS266*DT","v":-158.91853415648652},0.58139622230502475,-6.3446017843486207,-6.0863578362584239,1.7023628924115768,-2.4254506207823336,-0.240019836533927,-1.0190015757353712,0,0]
[0,227,0.53604517994092626,-6.3488614711986786,-6.0863578362584239,1.7023628924115768,-2.4117911222051518,-0.21711508194741408,-0.38751987067834542,{"$f":"IF(($G267+$I267*$D267)^2+($H267-$I267*$D267)^2<>0,-mew*($G267+$I267*$D267)/SQRT(($G267+$I267*$D267)^2+($H267-$I267*$C267)^2),0)","v":-2.9453828376733608},{"$f":"-mew*($H267-$C267*$I267)/SQRT(($G267+$D267*$I267)^2+($H267-$I267*$C267)^2)","v":0.56984203033754921},-0.38803361677321757,null,{"$f":"IF(Q267<>0,mazalazo*(($D267*$J267-$C267*$K267)-2*$I267*($C267*$G267+$D267*$H267))/(INERTIA+mazalazo*($C267^2+$D267^2)),0)","v":0},-4.3649958165479639,{"$f":"IF(Q267<>0,G267*COS(O267)+H267*SIN(O267)+F267*$I267,0)","v":0},0,{"$f":"R266+mazalazo*($I267^2*($E267*$P267+$F267*$U267))*DT","v":121.68091602656294},{"$f":"IF(Q267<>0,$J267*COS($O267)+$K267*SIN($Z267)+2*$U267*$I267+$E267*$I267^2+$F267*$N267,0)","v":0},{"$f":"IF(Q267<>0,-$J267*SIN($O267)+$K267*COS($O267)-2*$P267*$I267+$F267*$I267^2-$E267*$N267,0)","v":0},{"$f":"IF(Q267<>0,-$G267*SIN(O267)+$H267*COS(O267)-$E267*$I267,0)","v":0},{"$f":"$G267*COS($O267)+$H267*SIN($O267)+$F267*$I267","v":-4.275569996788664E-2},{"$f":"-$G267*SIN($O267)+$H267*COS($O267)-$E267*$I267","v":-1.6949320907571952E-2},null,0.55872070112297556,0.60429797572063637,-6.3467316277736501,-6.3422933257418954,-10.646567215024616,-9.920798817397845,-7.0407372589671252E-2,0.35132269586700549,6.7275346711687716,0.50373156382136786,-6.3256033842743076,-4.3649958165479639,null,false,null,4.2788491941892985,null,null,null,16.017101979351139,-62.668059223445283,227,2.5446900494077322,-58.863953610995374,0,{"$f":"1/2*(INERTIA+mazalazo*($C267^2+$D267^2))*$I267^2","v":10.571044927590677},-62.668059223445283,15.622396413176745,-58.863931826461126,10.571044927590677,0.14892497665653082,10.719969904247208,null,4.2788491941892985,5.178055685620242E-2,{"$f":"$H267-($I267*$C267)","v":-9.3869231389559216E-3},5.2624522747052802E-2,16.548731492637472,0.53512636213779041,{"$f":"BL266+mazalazo*($I267*(BM267^2+BN267^2)+BM267*BR267-BN267*BQ267)*$BS267*DT","v":-154.96280814398742},0.53604517994092626,-6.3488614711986786,-6.0863578362584239,1.7023628924115768,-2.4117911222051518,-0.21711508194741408,-2.2449462981722403,0,0]
[0,228,0.49018325379953637,-6.3528193213639801,-6.0863578362584239,1.7023628924115768,-2.4284801636183002,-0.20511963386174578,-0.38751987067834542,{"$f":"IF(($G268+$I268*$D268)^2+($H268-$I268*$D268)^2<>0,-mew*($G268+$I268*$D268)/SQRT(($G268+$I268*$D268)^2+($H268-$I268*$C268)^2),0)","v":-2.7311417094058532},{"$f":"-mew*($H268-$C268*$I268)/SQRT(($G268+$D268*$I268)^2+($H268-$I268*$C268)^2)","v":1.2413158192594167},-0.38803361677321757,null,{"$f":"IF(Q268<>0,mazalazo*(($D268*$J268-$C268*$K268)-2*$I268*($C268*$G268+$D268*$H268))/(INERTIA+mazalazo*($C268^2+$D268^2)),0)","v":0},-4.3723100779067678,{"$f":"IF(Q268<>0,G268*COS(O268)+H268*SIN(O268)+F268*$I268,0)","v":0},0,{"$f":"R267+mazalazo*($I268^2*($E268*$P268+$F268*$U268))*DT","v":121.68091602656294},{"$f":"IF(Q268<>0,$J268*COS($O268)+$K268*SIN($Z268)+2*$U268*$I268+$E268*$I268^2+$F268*$N268,0)","v":0},{"$f":"IF(Q268<>0,-$J268*SIN($O268)+$K268*COS($O268)-2*$P268*$I268+$F268*$I268^2-$E268*$N268,0)","v":0},{"$f":"IF(Q268<>0,-$G268*SIN(O268)+$H268*COS(O268)-$E268*$I268,0)","v":0},{"$f":"$G268*COS($O268)+$H268*SIN($O268)+$F268*$I268","v":-4.3024112111412549E-2},{"$f":"-$G268*SIN($O268)+$H268*COS($O268)-$E268*$I268","v":-7.6749684986587852E-4},null,0.51311421687023129,0.55872070112297556,-6.3508403962813293,-6.3467316277736501,-11.587585235909625,-10.646567215024616,-7.2384837985248569E-3,-0.32120912454634976,6.0520435586581494,0.45774600092008233,-6.3292220400222341,-4.3723100779067678,null,false,null,4.297698750110837,null,null,null,16.377764022612851,-62.668059223445283,228,2.5446900494077322,-58.863953610995374,0,{"$f":"1/2*(INERTIA+mazalazo*($C268^2+$D268^2))*$I268^2","v":10.571767223972769},-62.668059223445283,16.017101979351139,-58.863931826461126,10.571767223972769,0.14892497665653082,10.7206922006293,null,4.297698750110837,3.6627294357342688E-2,{"$f":"$H268-($I268*$C268)","v":-1.5163882740658885E-2},3.9642174911473767E-2,7.246289420149763,1.1475568210766824,{"$f":"BL267+mazalazo*($I268*(BM268^2+BN268^2)+BM268*BR268-BN268*BQ268)*$BS268*DT","v":-153.20766009556488},0.49018325379953637,-6.3528193213639801,-6.0863578362584239,1.7023628924115768,-2.4284801636183002,-0.20511963386174578,-0.99286102789606612,0,0]
[0,229,0.44477890295131073,-6.3564265365995256,-6.0863578362584239,1.7023628924115768,-2.4144899289598123,-0.18241949518764339,-0.38751987067834542,{"$f":"IF(($G269+$I269*$D269)^2+($H269-$I269*$D269)^2<>0,-mew*($G269+$I269*$D269)/SQRT(($G269+$I269*$D269)^2+($H269-$I269*$C269)^2),0)","v":-2.938112253274813},{"$f":"-mew*($H269-$C269*$I269)/SQRT(($G269+$D269*$I269)^2+($H269-$I269*$C269)^2)","v":0.60621480281860685},-0.38803361677321757,null,{"$f":"IF(Q269<>0,mazalazo*(($D269*$J269-$C269*$K269)-2*$I269*($C269*$G269+$D269*$H269))/(INERTIA+mazalazo*($C269^2+$D269^2)),0)","v":0},-4.3796243392655718,{"$f":"IF(Q269<>0,G269*COS(O269)+H269*SIN(O269)+F269*$I269,0)","v":0},0,{"$f":"R268+mazalazo*($I269^2*($E269*$P269+$F269*$U269))*DT","v":121.68091602656294},{"$f":"IF(Q269<>0,$J269*COS($O269)+$K269*SIN($Z269)+2*$U269*$I269+$E269*$I269^2+$F269*$N269,0)","v":0},{"$f":"IF(Q269<>0,-$J269*SIN($O269)+$K269*COS($O269)-2*$P269*$I269+$F269*$I269^2-$E269*$N269,0)","v":0},{"$f":"IF(Q269<>0,-$G269*SIN(O269)+$H269*COS(O269)-$E269*$I269,0)","v":0},{"$f":"$G269*COS($O269)+$H269*SIN($O269)+$F269*$I269","v":-4.3401281888875709E-2},{"$f":"-$G269*SIN($O269)+$H269*COS($O269)-$E269*$I269","v":-1.6958017410362292E-2},null,0.46748107837542352,0.51311421687023129,-6.3546229289817528,-6.3508403962813293,-12.587092225828624,-11.587585235909625,-6.5342023376207703E-2,0.35207059281809716,6.7278248602107569,0.41197784904324652,-6.33249670857884,-4.3796243392655718,null,false,null,4.3165483060323755,null,null,null,16.772669215033613,-62.668059223445283,229,2.5446900494077322,-58.863953610995374,0,{"$f":"1/2*(INERTIA+mazalazo*($C269^2+$D269^2))*$I269^2","v":10.572531665736582},-62.668059223445283,16.377764022612851,-58.863931826461126,10.572531665736582,0.14892497665653082,10.721456642393113,null,4.3165483060323755,5.2017249790158537E-2,{"$f":"$H269-($I269*$C269)","v":-1.0058832235495113E-2},5.2980886946837571E-2,15.513903176534535,0.56957326397282171,{"$f":"BL268+mazalazo*($I269*(BM269^2+BN269^2)+BM269*BR269-BN269*BQ269)*$BS269*DT","v":-149.49567168324236},0.44477890295131073,-6.3564265365995256,-6.0863578362584239,1.7023628924115768,-2.4144899289598123,-0.18241949518764339,-2.1064375437390064,0,0]
[0,230,0.39886804686585087,-6.3597246944447345,-6.0863578362584239,1.7023628924115768,-2.4310072118901651,-0.17018723689670262,-0.38751987067834542,{"$f":"IF(($G270+$I270*$D270)^2+($H270-$I270*$D270)^2<>0,-mew*($G270+$I270*$D270)/SQRT(($G270+$I270*$D270)^2+($H270-$I270*$C270)^2),0)","v":-2.7192086786008489},{"$f":"-mew*($H270-$C270*$I270)/SQRT(($G270+$D270*$I270)^2+($H270-$I270*$C270)^2)","v":1.2672427400548891},-0.38803361677321757,null,{"$f":"IF(Q270<>0,mazalazo*(($D270*$J270-$C270*$K270)-2*$I270*($C270*$G270+$D270*$H270))/(INERTIA+mazalazo*($C270^2+$D270^2)),0)","v":0},-4.3869386006243758,{"$f":"IF(Q270<>0,G270*COS(O270)+H270*SIN(O270)+F270*$I270,0)","v":0},0,{"$f":"R269+mazalazo*($I270^2*($E270*$P270+$F270*$U270))*DT","v":121.68091602656294},{"$f":"IF(Q270<>0,$J270*COS($O270)+$K270*SIN($Z270)+2*$U270*$I270+$E270*$I270^2+$F270*$N270,0)","v":0},{"$f":"IF(Q270<>0,-$J270*SIN($O270)+$K270*COS($O270)-2*$P270*$I270+$F270*$I270^2-$E270*$N270,0)","v":0},{"$f":"IF(Q270<>0,-$G270*SIN(O270)+$H270*COS(O270)-$E270*$I270,0)","v":0},{"$f":"$G270*COS($O270)+$H270*SIN($O270)+$F270*$I270","v":-4.3673572632649149E-2},{"$f":"-$G270*SIN($O270)+$H270*COS($O270)-$E270*$I270","v":-7.7377780501830529E-4},null,0.4218234749085808,0.46748107837542352,-6.3580756155221305,-6.3546229289817528,-13.920151260241328,-12.587092225828624,-1.1877612037318104E-2,-0.32089088350414219,6.052743770448048,0.36594630191343874,-6.3354481000147524,-4.3869386006243758,null,false,null,4.3353978619539149,null,null,null,17.134283659379964,-62.668059223445283,230,2.5446900494077322,-58.863953610995374,0,{"$f":"1/2*(INERTIA+mazalazo*($C270^2+$D270^2))*$I270^2","v":10.573254138596978},-62.668059223445283,16.772669215033613,-58.863931826461126,10.573254138596978,0.14892497665653082,10.722179115253509,null,4.3353978619539149,3.6779762977171337E-2,{"$f":"$H270-($I270*$C270)","v":-1.5617942957523862E-2},3.9958367169860343E-2,7.0649053611992256,1.1725661530011748,{"$f":"BL269+mazalazo*($I270*(BM270^2+BN270^2)+BM270*BR270-BN270*BQ270)*$BS270*DT","v":-147.78575153469973},0.39886804686585087,-6.3597246944447345,-6.0863578362584239,1.7023628924115768,-2.4310072118901651,-0.17018723689670262,-0.96719166384245536,0,0]
[0,231,0.35341977999330632,-6.3626788848678082,-6.0863578362584239,1.7023628924115768,-2.4166893529718063,-0.14769645680568916,-0.38751987067834542,{"$f":"IF(($G271+$I271*$D271)^2+($H271-$I271*$D271)^2<>0,-mew*($G271+$I271*$D271)/SQRT(($G271+$I271*$D271)^2+($H271-$I271*$C271)^2),0)","v":-2.9303754588636939},{"$f":"-mew*($H271-$C271*$I271)/SQRT(($G271+$D271*$I271)^2+($H271-$I271*$C271)^2)","v":0.64257269634602043},-0.38803361677321757,null,{"$f":"IF(Q271<>0,mazalazo*(($D271*$J271-$C271*$K271)-2*$I271*($C271*$G271+$D271*$H271))/(INERTIA+mazalazo*($C271^2+$D271^2)),0)","v":0},-4.3942528619831798,{"$f":"IF(Q271<>0,G271*COS(O271)+H271*SIN(O271)+F271*$I271,0)","v":0},0,{"$f":"R270+mazalazo*($I271^2*($E271*$P271+$F271*$U271))*DT","v":121.68091602656294},{"$f":"IF(Q271<>0,$J271*COS($O271)+$K271*SIN($Z271)+2*$U271*$I271+$E271*$I271^2+$F271*$N271,0)","v":0},{"$f":"IF(Q271<>0,-$J271*SIN($O271)+$K271*COS($O271)-2*$P271*$I271+$F271*$I271^2-$E271*$N271,0)","v":0},{"$f":"IF(Q271<>0,-$G271*SIN(O271)+$H271*COS(O271)-$E271*$I271,0)","v":0},{"$f":"$G271*COS($O271)+$H271*SIN($O271)+$F271*$I271","v":-4.4051926743432723E-2},{"$f":"-$G271*SIN($O271)+$H271*COS($O271)-$E271*$I271","v":-1.6965545956348027E-2},null,0.37614391342957859,0.4218234749085808,-6.3612017896562714,-6.3580756155221305,-15.384338977464562,-13.920151260241328,-6.027046971738869E-2,0.35274501531777069,6.728114751604009,0.32013714128612258,-6.3380586896427218,-4.3942528619831798,null,false,null,4.3542474178754533,null,null,null,17.529383628810951,-62.668059223445283,231,2.5446900494077322,-58.863953610995374,0,{"$f":"1/2*(INERTIA+mazalazo*($C271^2+$D271^2))*$I271^2","v":10.574018713126694},-62.668059223445283,17.134283659379964,-58.863931826461126,10.574018713126694,0.14892497665653082,10.722943689783225,null,4.3542474178754533,5.2243947090031995E-2,{"$f":"$H271-($I271*$C271)","v":-1.0739269367513793E-2},5.3336309528257415E-2,14.594274145335119,0.60405019371414292,{"$f":"BL270+mazalazo*($I271*(BM271^2+BN271^2)+BM271*BR271-BN271*BQ271)*$BS271*DT","v":-144.29149526428495},0.35341977999330632,-6.3626788848678082,-6.0863578362584239,1.7023628924115768,-2.4166893529718063,-0.14769645680568916,-1.9827088522174208,0,0]
[0,232,0.30746948779117494,-6.3653168617754821,-6.0863578362584239,1.7023628924115768,-2.4330315424630991,-0.1352298817486195,-0.38751987067834542,{"$f":"IF(($G272+$I272*$D272)^2+($H272-$I272*$D272)^2<>0,-mew*($G272+$I272*$D272)/SQRT(($G272+$I272*$D272)^2+($H272-$I272*$C272)^2),0)","v":-2.706923112129703},{"$f":"-mew*($H272-$C272*$I272)/SQRT(($G272+$D272*$I272)^2+($H272-$I272*$C272)^2)","v":1.2932777215347224},-0.38803361677321757,null,{"$f":"IF(Q272<>0,mazalazo*(($D272*$J272-$C272*$K272)-2*$I272*($C272*$G272+$D272*$H272))/(INERTIA+mazalazo*($C272^2+$D272^2)),0)","v":0},-4.4015671233419837,{"$f":"IF(Q272<>0,G272*COS(O272)+H272*SIN(O272)+F272*$I272,0)","v":0},0,{"$f":"R271+mazalazo*($I272^2*($E272*$P272+$F272*$U272))*DT","v":121.68091602656294},{"$f":"IF(Q272<>0,$J272*COS($O272)+$K272*SIN($Z272)+2*$U272*$I272+$E272*$I272^2+$F272*$N272,0)","v":0},{"$f":"IF(Q272<>0,-$J272*SIN($O272)+$K272*COS($O272)-2*$P272*$I272+$F272*$I272^2-$E272*$N272,0)","v":0},{"$f":"IF(Q272<>0,-$G272*SIN(O272)+$H272*COS(O272)-$E272*$I272,0)","v":0},{"$f":"$G272*COS($O272)+$H272*SIN($O272)+$F272*$I272","v":-4.4328132354786054E-2},{"$f":"-$G272*SIN($O272)+$H272*COS($O272)-$E272*$I272","v":-7.7889470186098819E-4},null,0.33044463389224066,0.37614391342957859,-6.3639978733216456,-6.3612017896562714,-17.41876210836498,-15.384338977464562,-1.6508406688500465E-2,-0.32050539667181521,6.0534443713236126,0.27406929489700349,-6.3403422937762262,-4.4015671233419837,null,false,null,4.3730969737969918,null,null,null,17.891925027603875,-62.668059223445283,232,2.5446900494077322,-58.863953610995374,0,{"$f":"1/2*(INERTIA+mazalazo*($C272^2+$D272^2))*$I272^2","v":10.574741362509915},-62.668059223445283,17.529383628810951,-58.863931826461126,10.574741362509915,0.14892497665653082,10.723666339166446,null,4.3730969737969918,3.6925381319188322E-2,{"$f":"$H272-($I272*$C272)","v":-1.6079345602246276E-2},4.0274422907894514E-2,6.8893440503007533,1.1977337804952954,{"$f":"BL271+mazalazo*($I272*(BM272^2+BN272^2)+BM272*BR272-BN272*BQ272)*$BS272*DT","v":-142.62601104580509},0.30746948779117494,-6.3653168617754821,-6.0863578362584239,1.7023628924115768,-2.4330315424630991,-0.1352298817486195,-0.94197470210316681,0,0]
[0,233,0.26198670081513931,-6.3676176094085157,-6.0863578362584239,1.7023628924115768,-2.4183892385773103,-0.11295315498756683,-0.38751987067834542,{"$f":"IF(($G273+$I273*$D273)^2+($H273-$I273*$D273)^2<>0,-mew*($G273+$I273*$D273)/SQRT(($G273+$I273*$D273)^2+($H273-$I273*$C273)^2),0)","v":-2.9221711517743838},{"$f":"-mew*($H273-$C273*$I273)/SQRT(($G273+$D273*$I273)^2+($H273-$I273*$C273)^2)","v":0.67890776968419797},-0.38803361677321757,null,{"$f":"IF(Q273<>0,mazalazo*(($D273*$J273-$C273*$K273)-2*$I273*($C273*$G273+$D273*$H273))/(INERTIA+mazalazo*($C273^2+$D273^2)),0)","v":0},-4.4088813847007877,{"$f":"IF(Q273<>0,G273*COS(O273)+H273*SIN(O273)+F273*$I273,0)","v":0},0,{"$f":"R272+mazalazo*($I273^2*($E273*$P273+$F273*$U273))*DT","v":121.68091602656294},{"$f":"IF(Q273<>0,$J273*COS($O273)+$K273*SIN($Z273)+2*$U273*$I273+$E273*$I273^2+$F273*$N273,0)","v":0},{"$f":"IF(Q273<>0,-$J273*SIN($O273)+$K273*COS($O273)-2*$P273*$I273+$F273*$I273^2-$E273*$N273,0)","v":0},{"$f":"IF(Q273<>0,-$G273*SIN(O273)+$H273*COS(O273)-$E273*$I273,0)","v":0},{"$f":"$G273*COS($O273)+$H273*SIN($O273)+$F273*$I273","v":-4.4707633950961889E-2},{"$f":"-$G273*SIN($O273)+$H273*COS($O273)-$E273*$I273","v":-1.6971910909387322E-2},null,0.28472809430315715,0.33044463389224066,-6.3664672355919993,-6.3639978733216456,-19.768698801642955,-17.41876210836498,-5.5193781922365119E-2,0.3533459515997075,6.7284043464970971,0.22822876344137621,-6.3422883529304617,-4.4088813847007877,null,false,null,4.3919465297185312,null,null,null,18.287215058862799,-62.668059223445283,233,2.5446900494077322,-58.863953610995374,0,{"$f":"1/2*(INERTIA+mazalazo*($C273^2+$D273^2))*$I273^2","v":10.57550606981431},-62.668059223445283,17.891925027603875,-58.863931826461126,10.57550606981431,0.14892497665653082,10.724431046470841,null,4.3919465297185312,5.2460452630305632E-2,{"$f":"$H273-($I273*$C273)","v":-1.1428102568237675E-2},5.369078709133162E-2,13.771433792371592,0.63855103569990734,{"$f":"BL272+mazalazo*($I273*(BM273^2+BN273^2)+BM273*BR273-BN273*BQ273)*$BS273*DT","v":-139.32767036087512},0.26198670081513931,-6.3676176094085157,-6.0863578362584239,1.7023628924115768,-2.4183892385773103,-0.11295315498756683,-1.8713797154287617,0,0]
[0,234,0.21600646881828964,-6.3695950533939776,-6.0863578362584239,1.7023628924115768,-2.4345530363399992,-0.10025480318895288,-0.38751987067834542,{"$f":"IF(($G274+$I274*$D274)^2+($H274-$I274*$D274)^2<>0,-mew*($G274+$I274*$D274)/SQRT(($G274+$I274*$D274)^2+($H274-$I274*$C274)^2),0)","v":-2.6942823165042644},{"$f":"-mew*($H274-$C274*$I274)/SQRT(($G274+$D274*$I274)^2+($H274-$I274*$C274)^2)","v":1.3194100192784708},-0.38803361677321757,null,{"$f":"IF(Q274<>0,mazalazo*(($D274*$J274-$C274*$K274)-2*$I274*($C274*$G274+$D274*$H274))/(INERTIA+mazalazo*($C274^2+$D274^2)),0)","v":0},-4.4161956460595917,{"$f":"IF(Q274<>0,G274*COS(O274)+H274*SIN(O274)+F274*$I274,0)","v":0},0,{"$f":"R273+mazalazo*($I274^2*($E274*$P274+$F274*$U274))*DT","v":121.68091602656294},{"$f":"IF(Q274<>0,$J274*COS($O274)+$K274*SIN($Z274)+2*$U274*$I274+$E274*$I274^2+$F274*$N274,0)","v":0},{"$f":"IF(Q274<>0,-$J274*SIN($O274)+$K274*COS($O274)-2*$P274*$I274+$F274*$I274^2-$E274*$N274,0)","v":0},{"$f":"IF(Q274<>0,-$G274*SIN(O274)+$H274*COS(O274)-$E274*$I274,0)","v":0},{"$f":"$G274*COS($O274)+$H274*SIN($O274)+$F274*$I274","v":-4.4987790699646646E-2},{"$f":"-$G274*SIN($O274)+$H274*COS($O274)-$E274*$I274","v":-7.828519280836943E-4},null,0.23899658481671449,0.28472809430315715,-6.3686063314012467,-6.3664672355919993,-23.252356241135523,-19.768698801642955,-2.1129890972250161E-2,-0.32005284860512617,6.0541453605210513,0.18213430755764293,-6.3439037873512447,-4.4161956460595917,null,false,null,4.4107960856400696,null,null,null,18.6506587754048,-62.668059223445283,234,2.5446900494077322,-58.863953610995374,0,{"$f":"1/2*(INERTIA+mazalazo*($C274^2+$D274^2))*$I274^2","v":10.576228895764768},-62.668059223445283,18.287215058862799,-58.863931826461126,10.576228895764768,0.14892497665653082,10.725153872421298,null,4.4107960856400696,3.7063969609261616E-2,{"$f":"$H274-($I274*$C274)","v":-1.6548004326803228E-2},4.0590322620005954E-2,6.7193545899480123,1.2230504656285091,{"$f":"BL273+mazalazo*($I274*(BM274^2+BN274^2)+BM274*BR274-BN274*BQ274)*$BS274*DT","v":-137.7058619592793},0.21600646881828964,-6.3695950533939776,-6.0863578362584239,1.7023628924115768,-2.4345530363399992,-0.10025480318895288,-0.91719200909598864,0,0]
[0,235,0.17049855917521364,-6.3712420754444334,-6.0863578362584239,1.7023628924115768,-2.4195895335050941,-7.819677563012882E-2,-0.38751987067834542,{"$f":"IF(($G275+$I275*$D275)^2+($H275-$I275*$D275)^2<>0,-mew*($G275+$I275*$D275)/SQRT(($G275+$I275*$D275)^2+($H275-$I275*$C275)^2),0)","v":-2.913498183462782},{"$f":"-mew*($H275-$C275*$I275)/SQRT(($G275+$D275*$I275)^2+($H275-$I275*$C275)^2)","v":0.71521209089267301},-0.38803361677321757,null,{"$f":"IF(Q275<>0,mazalazo*(($D275*$J275-$C275*$K275)-2*$I275*($C275*$G275+$D275*$H275))/(INERTIA+mazalazo*($C275^2+$D275^2)),0)","v":0},-4.4235099074183957,{"$f":"IF(Q275<>0,G275*COS(O275)+H275*SIN(O275)+F275*$I275,0)","v":0},0,{"$f":"R274+mazalazo*($I275^2*($E275*$P275+$F275*$U275))*DT","v":121.68091602656294},{"$f":"IF(Q275<>0,$J275*COS($O275)+$K275*SIN($Z275)+2*$U275*$I275+$E275*$I275^2+$F275*$N275,0)","v":0},{"$f":"IF(Q275<>0,-$J275*SIN($O275)+$K275*COS($O275)-2*$P275*$I275+$F275*$I275^2-$E275*$N275,0)","v":0},{"$f":"IF(Q275<>0,-$G275*SIN(O275)+$H275*COS(O275)-$E275*$I275,0)","v":0},{"$f":"$G275*COS($O275)+$H275*SIN($O275)+$F275*$I275","v":-4.5368402937245866E-2},{"$f":"-$G275*SIN($O275)+$H275*COS($O275)-$E275*$I275","v":-1.6977116665599201E-2},null,0.19325251399675164,0.23899658481671449,-6.3704185644192055,-6.3686063314012467,-27.630419174096911,-23.252356241135523,-5.0113029157459625E-2,0.35387340546342294,6.7286936459797584,0.13627204697324852,-6.3451850043668818,-4.4235099074183957,null,false,null,4.4296456415616081,null,null,null,19.04613428284409,-62.668059223445283,235,2.5446900494077322,-58.863953610995374,0,{"$f":"1/2*(INERTIA+mazalazo*($C275^2+$D275^2))*$I275^2","v":10.576993735852666},-62.668059223445283,18.6506587754048,-58.863931826461126,10.576993735852666,0.14892497665653082,10.725918712509197,null,4.4296456415616081,5.266657236731076E-2,{"$f":"$H275-($I275*$C275)","v":-1.2125196027705801E-2},5.4044317218662999E-2,13.030693832982697,0.67306962054755881,{"$f":"BL274+mazalazo*($I275*(BM275^2+BN275^2)+BM275*BR275-BN275*BQ275)*$BS275*DT","v":-134.58496169982834},0.17049855917521364,-6.3712420754444334,-6.0863578362584239,1.7023628924115768,-2.4195895335050941,-7.819677563012882E-2,-1.7705512595918613,0,0]
[0,236,0.12449788423525207,-6.3725587711057754,-6.0863578362584239,1.7023628924115768,-2.4355716785610846,-6.5269233154715486E-2,-0.38751987067834542,{"$f":"IF(($G276+$I276*$D276)^2+($H276-$I276*$D276)^2<>0,-mew*($G276+$I276*$D276)/SQRT(($G276+$I276*$D276)^2+($H276-$I276*$C276)^2),0)","v":-2.6812837614083422},{"$f":"-mew*($H276-$C276*$I276)/SQRT(($G276+$D276*$I276)^2+($H276-$I276*$C276)^2)","v":1.3456289944884248},-0.38803361677321757,null,{"$f":"IF(Q276<>0,mazalazo*(($D276*$J276-$C276*$K276)-2*$I276*($C276*$G276+$D276*$H276))/(INERTIA+mazalazo*($C276^2+$D276^2)),0)","v":0},-4.4308241687771996,{"$f":"IF(Q276<>0,G276*COS(O276)+H276*SIN(O276)+F276*$I276,0)","v":0},0,{"$f":"R275+mazalazo*($I276^2*($E276*$P276+$F276*$U276))*DT","v":121.68091602656294},{"$f":"IF(Q276<>0,$J276*COS($O276)+$K276*SIN($Z276)+2*$U276*$I276+$E276*$I276^2+$F276*$N276,0)","v":0},{"$f":"IF(Q276<>0,-$J276*SIN($O276)+$K276*COS($O276)-2*$P276*$I276+$F276*$I276^2-$E276*$N276,0)","v":0},{"$f":"IF(Q276<>0,-$G276*SIN(O276)+$H276*COS(O276)-$E276*$I276,0)","v":0},{"$f":"$G276*COS($O276)+$H276*SIN($O276)+$F276*$I276","v":-4.5652547095413665E-2},{"$f":"-$G276*SIN($O276)+$H276*COS($O276)-$E276*$I276","v":-7.8565390387463907E-4},null,0.14749822170523286,0.19325251399675164,-6.371900423275104,-6.3704185644192055,-34.936452128260413,-27.630419174096911,-2.5741091862800224E-2,-0.31953343807282231,6.0548467372549784,9.0160674115180958E-2,-6.3461320272638826,-4.4308241687771996,null,false,null,4.4484951974831475,null,null,null,19.410456461241896,-62.668059223445283,236,2.5446900494077322,-58.863953610995374,0,{"$f":"1/2*(INERTIA+mazalazo*($C276^2+$D276^2))*$I276^2","v":10.577716738414654},-62.668059223445283,19.04613428284409,-58.863931826461126,10.577716738414654,0.14892497665653082,10.726641715071185,null,4.4484951974831475,3.7195349490980245E-2,{"$f":"$H276-($I276*$C276)","v":-1.7023829156142985E-2},4.0906048243428604E-2,6.5546973862032285,1.2485069974128675,{"$f":"BL275+mazalazo*($I276*(BM276^2+BN276^2)+BM276*BR276-BN276*BQ276)*$BS276*DT","v":-133.00609969570232},0.12449788423525207,-6.3725587711057754,-6.0863578362584239,1.7023628924115768,-2.4355716785610846,-6.5269233154715486E-2,-0.89282611513167565,0,0]
[0,237,7.8974248933839669E-2,-6.3735519199028507,-6.0863578362584239,1.7023628924115768,-2.4202902887628754,-4.3434500856645263E-2,-0.38751987067834542,{"$f":"IF(($G277+$I277*$D277)^2+($H277-$I277*$D277)^2<>0,-mew*($G277+$I277*$D277)/SQRT(($G277+$I277*$D277)^2+($H277-$I277*$C277)^2),0)","v":-2.9043555581591836},{"$f":"-mew*($H277-$C277*$I277)/SQRT(($G277+$D277*$I277)^2+($H277-$I277*$C277)^2)","v":0.75147773871875745},-0.38803361677321757,null,{"$f":"IF(Q277<>0,mazalazo*(($D277*$J277-$C277*$K277)-2*$I277*($C277*$G277+$D277*$H277))/(INERTIA+mazalazo*($C277^2+$D277^2)),0)","v":0},-4.4381384301360036,{"$f":"IF(Q277<>0,G277*COS(O277)+H277*SIN(O277)+F277*$I277,0)","v":0},0,{"$f":"R276+mazalazo*($I277^2*($E277*$P277+$F277*$U277))*DT","v":121.68091602656294},{"$f":"IF(Q277<>0,$J277*COS($O277)+$K277*SIN($Z277)+2*$U277*$I277+$E277*$I277^2+$F277*$N277,0)","v":0},{"$f":"IF(Q277<>0,-$J277*SIN($O277)+$K277*COS($O277)-2*$P277*$I277+$F277*$I277^2-$E277*$N277,0)","v":0},{"$f":"IF(Q277<>0,-$G277*SIN(O277)+$H277*COS(O277)-$E277*$I277,0)","v":0},{"$f":"$G277*COS($O277)+$H277*SIN($O277)+$F277*$I277","v":-4.6034233134400693E-2},{"$f":"-$G277*SIN($O277)+$H277*COS($O277)-$E277*$I277","v":-1.6981167653348006E-2},null,0.10173606658454587,0.14749822170523286,-6.3730553455043131,-6.371900423275104,-45.837678538675767,-34.936452128260413,-4.5029279226500109E-2,0.354327396399996,6.728982651247235,4.4286327849505494E-2,-6.3467482303610812,-4.4381384301360036,null,false,null,4.467344753404686,null,null,null,19.806112984407566,-62.668059223445283,237,2.5446900494077322,-58.863953610995374,0,{"$f":"1/2*(INERTIA+mazalazo*($C277^2+$D277^2))*$I277^2","v":10.578481711294948},-62.668059223445283,19.410456461241896,-58.863931826461126,10.578481711294948,0.14892497665653082,10.727406687951479,null,4.467344753404686,5.2862114408912309E-2,{"$f":"$H277-($I277*$C277)","v":-1.2830410122884255E-2},5.4396898475026545E-2,12.360192831551277,0.7075997243909774,{"$f":"BL276+mazalazo*($I277*(BM277^2+BN277^2)+BM277*BR277-BN277*BQ277)*$BS277*DT","v":-130.0468624276424},7.8974248933839669E-2,-6.3735519199028507,-6.0863578362584239,1.7023628924115768,-2.4202902887628754,-4.3434500856645263E-2,-1.6786904064531938,0,0]
[0,238,3.2962626469374826E-2,-6.3742077883427362,-6.0863578362584239,1.7023628924115768,-2.4360875580820602,-3.0280399255226714E-2,-0.38751987067834542,{"$f":"IF(($G278+$I278*$D278)^2+($H278-$I278*$D278)^2<>0,-mew*($G278+$I278*$D278)/SQRT(($G278+$I278*$D278)^2+($H278-$I278*$C278)^2),0)","v":-2.6679250794691378},{"$f":"-mew*($H278-$C278*$I278)/SQRT(($G278+$D278*$I278)^2+($H278-$I278*$C278)^2)","v":1.3719241124565145},-0.38803361677321757,null,{"$f":"IF(Q278<>0,mazalazo*(($D278*$J278-$C278*$K278)-2*$I278*($C278*$G278+$D278*$H278))/(INERTIA+mazalazo*($C278^2+$D278^2)),0)","v":0},-4.4454526914948076,{"$f":"IF(Q278<>0,G278*COS(O278)+H278*SIN(O278)+F278*$I278,0)","v":0},0,{"$f":"R277+mazalazo*($I278^2*($E278*$P278+$F278*$U278))*DT","v":121.68091602656294},{"$f":"IF(Q278<>0,$J278*COS($O278)+$K278*SIN($Z278)+2*$U278*$I278+$E278*$I278^2+$F278*$N278,0)","v":0},{"$f":"IF(Q278<>0,-$J278*SIN($O278)+$K278*COS($O278)-2*$P278*$I278+$F278*$I278^2-$E278*$N278,0)","v":0},{"$f":"IF(Q278<>0,-$G278*SIN(O278)+$H278*COS(O278)-$E278*$I278,0)","v":0},{"$f":"$G278*COS($O278)+$H278*SIN($O278)+$F278*$I278","v":-4.6322400976577582E-2},{"$f":"-$G278*SIN($O278)+$H278*COS($O278)-$E278*$I278","v":-7.8730508191249271E-4},null,5.5968437701607247E-2,0.10173606658454587,-6.3738798541227935,-6.3730553455043131,-70.153737649739298,-45.837678538675767,-3.0341040295883949E-2,-0.31894737800084982,6.0555485007017174,-1.8322687463461981E-3,-6.3470267405120957,-4.4454526914948076,null,false,null,4.4861943093262244,null,null,null,20.171290521529318,-62.668059223445283,238,2.5446900494077322,-58.863953610995374,0,{"$f":"1/2*(INERTIA+mazalazo*($C278^2+$D278^2))*$I278^2","v":10.579204890512656},-62.668059223445283,19.806112984407566,-58.863931826461126,10.579204890512656,0.14892497665653082,10.728129867169187,null,4.4861943093262244,3.7319344092583862E-2,{"$f":"$H278-($I278*$C278)","v":-1.7506726508595978E-2},4.1221583139751571E-2,6.395143730769945,1.2740941886615871,{"$f":"BL277+mazalazo*($I278*(BM278^2+BN278^2)+BM278*BR278-BN278*BQ278)*$BS278*DT","v":-128.51024691460293},3.2962626469374826E-2,-6.3742077883427362,-6.0863578362584239,1.7023628924115768,-2.4360875580820602,-3.0280399255226714E-2,-0.86886022422492037,0,0]
[0,239,-1.2567339850359464E-2,-6.3745470512461795,-6.0863578362584239,1.7023628924115768,-2.4204916585024194,-8.673507535410312E-3,-0.38751987067834542,{"$f":"IF(($G279+$I279*$D279)^2+($H279-$I279*$D279)^2<>0,-mew*($G279+$I279*$D279)/SQRT(($G279+$I279*$D279)^2+($H279-$I279*$C279)^2),0)","v":-2.8947424315405668},{"$f":"-mew*($H279-$C279*$I279)/SQRT(($G279+$D279*$I279)^2+($H279-$I279*$C279)^2)","v":0.7876968040043113},-0.38803361677321757,null,{"$f":"IF(Q279<>0,mazalazo*(($D279*$J279-$C279*$K279)-2*$I279*($C279*$G279+$D279*$H279))/(INERTIA+mazalazo*($C279^2+$D279^2)),0)","v":0},-4.4527669528536116,{"$f":"IF(Q279<>0,G279*COS(O279)+H279*SIN(O279)+F279*$I279,0)","v":0},0,{"$f":"R278+mazalazo*($I279^2*($E279*$P279+$F279*$U279))*DT","v":121.68091602656294},{"$f":"IF(Q279<>0,$J279*COS($O279)+$K279*SIN($Z279)+2*$U279*$I279+$E279*$I279^2+$F279*$N279,0)","v":0},{"$f":"IF(Q279<>0,-$J279*SIN($O279)+$K279*COS($O279)-2*$P279*$I279+$F279*$I279^2-$E279*$N279,0)","v":0},{"$f":"IF(Q279<>0,-$G279*SIN(O279)+$H279*COS(O279)-$E279*$I279,0)","v":0},{"$f":"$G279*COS($O279)+$H279*SIN($O279)+$F279*$I279","v":-4.6705123980839147E-2},{"$f":"-$G279*SIN($O279)+$H279*COS($O279)-$E279*$I279","v":-1.6984068333238511E-2},null,1.0197643309507681E-2,5.5968437701607247E-2,-6.3743774197944578,-6.3738798541227935,-134.20260764625553,-70.153737649739298,-3.9943598333785274E-2,0.35470795935647548,6.7292713634061592,-4.7709057526514248E-2,-6.3469778977713984,-4.4527669528536116,null,false,null,4.5050438652477638,null,null,null,20.567123720989866,-62.668059223445283,239,2.5446900494077322,-58.863953610995374,0,{"$f":"1/2*(INERTIA+mazalazo*($C279^2+$D279^2))*$I279^2","v":10.579969996194297},-62.668059223445283,20.171290521529318,-58.863931826461126,10.579969996194297,0.14892497665653082,10.728894972850828,null,4.5050438652477638,5.3046889083684601E-2,{"$f":"$H279-($I279*$C279)","v":-1.3543601448992429E-2},5.4748530406449142E-2,11.750247365917064,0.74213506819885622,{"$f":"BL278+mazalazo*($I279*(BM279^2+BN279^2)+BM279*BR279-BN279*BQ279)*$BS279*DT","v":-125.69909695258283},-1.2567339850359464E-2,-6.3745470512461795,-6.0863578362584239,1.7023628924115768,-2.4204916585024194,-8.673507535410312E-3,-1.5945459395385069,0,0]
[0,240,-5.858041781371378E-2,-6.3745421499654995,-6.0863578362584239,1.7023628924115768,-2.4361008676309241,4.704476717982878E-3,-0.38751987067834542,{"$f":"IF(($G280+$I280*$D280)^2+($H280-$I280*$D280)^2<>0,-mew*($G280+$I280*$D280)/SQRT(($G280+$I280*$D280)^2+($H280-$I280*$C280)^2),0)","v":-2.6542040659114052},{"$f":"-mew*($H280-$C280*$I280)/SQRT(($G280+$D280*$I280)^2+($H280-$I280*$C280)^2)","v":1.3982849410972591},-0.38803361677321757,null,{"$f":"IF(Q280<>0,mazalazo*(($D280*$J280-$C280*$K280)-2*$I280*($C280*$G280+$D280*$H280))/(INERTIA+mazalazo*($C280^2+$D280^2)),0)","v":0},-4.4600812142124155,{"$f":"IF(Q280<>0,G280*COS(O280)+H280*SIN(O280)+F280*$I280,0)","v":0},0,{"$f":"R279+mazalazo*($I280^2*($E280*$P280+$F280*$U280))*DT","v":121.68091602656294},{"$f":"IF(Q280<>0,$J280*COS($O280)+$K280*SIN($Z280)+2*$U280*$I280+$E280*$I280^2+$F280*$N280,0)","v":0},{"$f":"IF(Q280<>0,-$J280*SIN($O280)+$K280*COS($O280)-2*$P280*$I280+$F280*$I280^2-$E280*$N280,0)","v":0},{"$f":"IF(Q280<>0,-$G280*SIN(O280)+$H280*COS(O280)-$E280*$I280,0)","v":0},{"$f":"$G280*COS($O280)+$H280*SIN($O280)+$F280*$I280","v":-4.6997351783895192E-2},{"$f":"-$G280*SIN($O280)+$H280*COS($O280)-$E280*$I280","v":-7.8780994735394572E-4},null,-3.5573878832036623E-2,1.0197643309507681E-2,-6.3745446006058391,-6.3743774197944578,9387.9704035913364,-134.20260764625553,-3.4928771375902869E-2,-0.31829489528605404,6.0562506501100533,-9.3825185945619879E-2,-6.3465879345031215,-4.4600812142124155,null,false,null,4.5238934211693023,null,null,null,20.93313423947842,-62.668059223445283,240,2.5446900494077322,-58.863953610995374,0,{"$f":"1/2*(INERTIA+mazalazo*($C280^2+$D280^2))*$I280^2","v":10.580693352111794},-62.668059223445283,20.567123720989866,-58.863931826461126,10.580693352111794,0.14892497665653082,10.729618328768325,null,4.5238934211693023,3.7435778093510841E-2,{"$f":"$H280-($I280*$C280)","v":-1.7996599217470929E-2},4.1536912076620011E-2,6.2404753766759233,1.2998028729921443,{"$f":"BL279+mazalazo*($I280*(BM280^2+BN280^2)+BM280*BR280-BN280*BQ280)*$BS280*DT","v":-124.20405634786131},-5.858041781371378E-2,-6.3745421499654995,-6.0863578362584239,1.7023628924115768,-2.4361008676309241,4.704476717982878E-3,-0.84527821871163156,0,0]
[0,241,-0.10410732481856237,-6.3742276492466097,-6.0863578362584239,1.7023628924115768,-2.4201938998634884,2.6079034198368052E-2,-0.38751987067834542,{"$f":"IF(($G281+$I281*$D281)^2+($H281-$I281*$D281)^2<>0,-mew*($G281+$I281*$D281)/SQRT(($G281+$I281*$D281)^2+($H281-$I281*$C281)^2),0)","v":-2.8846581094211672},{"$f":"-mew*($H281-$C281*$I281)/SQRT(($G281+$D281*$I281)^2+($H281-$I281*$C281)^2)","v":0.82386139110331913},-0.38803361677321757,null,{"$f":"IF(Q281<>0,mazalazo*(($D281*$J281-$C281*$K281)-2*$I281*($C281*$G281+$D281*$H281))/(INERTIA+mazalazo*($C281^2+$D281^2)),0)","v":0},-4.4673954755712195,{"$f":"IF(Q281<>0,G281*COS(O281)+H281*SIN(O281)+F281*$I281,0)","v":0},0,{"$f":"R280+mazalazo*($I281^2*($E281*$P281+$F281*$U281))*DT","v":121.68091602656294},{"$f":"IF(Q281<>0,$J281*COS($O281)+$K281*SIN($Z281)+2*$U281*$I281+$E281*$I281^2+$F281*$N281,0)","v":0},{"$f":"IF(Q281<>0,-$J281*SIN($O281)+$K281*COS($O281)-2*$P281*$I281+$F281*$I281^2-$E281*$N281,0)","v":0},{"$f":"IF(Q281<>0,-$G281*SIN(O281)+$H281*COS(O281)-$E281*$I281,0)","v":0},{"$f":"$G281*COS($O281)+$H281*SIN($O281)+$F281*$I281","v":-4.7381074921191813E-2},{"$f":"-$G281*SIN($O281)+$H281*COS($O281)-$E281*$I281","v":-1.6985823198094163E-2},null,-8.1343871316138072E-2,-3.5573878832036623E-2,-6.3743848996060546,-6.3745446006058391,144.75930982147119,9387.9704035913364,-3.4857050864318978E-2,0.35501514479392871,6.7295597835777734,-0.13969477638160852,-6.345874153811442,-4.4673954755712195,null,false,null,4.5427429770908407,null,null,null,21.329139892816276,-62.668059223445283,241,2.5446900494077322,-58.863953610995374,0,{"$f":"1/2*(INERTIA+mazalazo*($C281^2+$D281^2))*$I281^2","v":10.581458590603781},-62.668059223445283,20.93313423947842,-58.863931826461126,10.581458590603781,0.14892497665653082,10.730383567260311,null,4.5427429770908407,5.3220709009517808E-2,{"$f":"$H281-($I281*$C281)","v":-1.426462285198974E-2},5.50992135387183E-2,11.192874055291446,0.77666931717451659,{"$f":"BL280+mazalazo*($I281*(BM281^2+BN281^2)+BM281*BR281-BN281*BQ281)*$BS281*DT","v":-121.52923257808473},-0.10410732481856237,-6.3742276492466097,-6.0863578362584239,1.7023628924115768,-2.4201938998634884,2.6079034198368052E-2,-1.5170866733691586,0,0]
[0,242,-0.15011237160512839,-6.3735621720100557,-6.0863578362584239,1.7023628924115768,-2.4356119035434913,3.9678180277844748E-2,-0.38751987067834542,{"$f":"IF(($G282+$I282*$D282)^2+($H282-$I282*$D282)^2<>0,-mew*($G282+$I282*$D282)/SQRT(($G282+$I282*$D282)^2+($H282-$I282*$C282)^2),0)","v":-2.6401186781049604},{"$f":"-mew*($H282-$C282*$I282)/SQRT(($G282+$D282*$I282)^2+($H282-$I282*$C282)^2)","v":1.4247011495472717},-0.38803361677321757,null,{"$f":"IF(Q282<>0,mazalazo*(($D282*$J282-$C282*$K282)-2*$I282*($C282*$G282+$D282*$H282))/(INERTIA+mazalazo*($C282^2+$D282^2)),0)","v":0},-4.4747097369300235,{"$f":"IF(Q282<>0,G282*COS(O282)+H282*SIN(O282)+F282*$I282,0)","v":0},0,{"$f":"R281+mazalazo*($I282^2*($E282*$P282+$F282*$U282))*DT","v":121.68091602656294},{"$f":"IF(Q282<>0,$J282*COS($O282)+$K282*SIN($Z282)+2*$U282*$I282+$E282*$I282^2+$F282*$N282,0)","v":0},{"$f":"IF(Q282<>0,-$J282*SIN($O282)+$K282*COS($O282)-2*$P282*$I282+$F282*$I282^2-$E282*$N282,0)","v":0},{"$f":"IF(Q282<>0,-$G282*SIN(O282)+$H282*COS(O282)-$E282*$I282,0)","v":0},{"$f":"$G282*COS($O282)+$H282*SIN($O282)+$F282*$I282","v":-4.7677398964324214E-2},{"$f":"-$G282*SIN($O282)+$H282*COS($O282)-$E282*$I282","v":-7.8717301781683346E-4},null,-0.12710984821184537,-8.1343871316138072E-2,-6.3738949106283327,-6.3743848996060546,69.130909758526542,144.75930982147119,-3.9503324575336521E-2,-0.31757623085461706,6.0569531846642271,-0.18579874806830216,-6.3448158969299921,-4.4747097369300235,null,false,null,4.5615925330123801,null,null,null,21.695961715121943,-62.668059223445283,242,2.5446900494077322,-58.863953610995374,0,{"$f":"1/2*(INERTIA+mazalazo*($C282^2+$D282^2))*$I282^2","v":10.582182123265023},-62.668059223445283,21.329139892816276,-58.863931826461126,10.582182123265023,0.14892497665653082,10.731107099921553,null,4.5615925330123801,3.7544477790534714E-2,{"$f":"$H282-($I282*$C282)","v":-1.8493346553794338E-2},4.185202120952692E-2,6.0904841124331162,1.32562390197666,{"$f":"BL281+mazalazo*($I282*(BM282^2+BN282^2)+BM282*BR282-BN282*BQ282)*$BS282*DT","v":-120.07512243208357},-0.15011237160512839,-6.3735621720100557,-6.0863578362584239,1.7023628924115768,-2.4356119035434913,3.9678180277844748E-2,-0.82206465953545593,0,0]
[0,243,-0.19562683520358512,-6.3725941647049238,-6.0863578362584239,1.7023628924115768,-2.4193973727966602,6.0815962417006257E-2,-0.38751987067834542,{"$f":"IF(($G283+$I283*$D283)^2+($H283-$I283*$D283)^2<>0,-mew*($G283+$I283*$D283)/SQRT(($G283+$I283*$D283)^2+($H283-$I283*$C283)^2),0)","v":-2.8741020464586575},{"$f":"-mew*($H283-$C283*$I283)/SQRT(($G283+$D283*$I283)^2+($H283-$I283*$C283)^2)","v":0.85996361931314047},-0.38803361677321757,null,{"$f":"IF(Q283<>0,mazalazo*(($D283*$J283-$C283*$K283)-2*$I283*($C283*$G283+$D283*$H283))/(INERTIA+mazalazo*($C283^2+$D283^2)),0)","v":0},-4.4820239982888275,{"$f":"IF(Q283<>0,G283*COS(O283)+H283*SIN(O283)+F283*$I283,0)","v":0},0,{"$f":"R282+mazalazo*($I283^2*($E283*$P283+$F283*$U283))*DT","v":121.68091602656294},{"$f":"IF(Q283<>0,$J283*COS($O283)+$K283*SIN($Z283)+2*$U283*$I283+$E283*$I283^2+$F283*$N283,0)","v":0},{"$f":"IF(Q283<>0,-$J283*SIN($O283)+$K283*COS($O283)-2*$P283*$I283+$F283*$I283^2-$E283*$N283,0)","v":0},{"$f":"IF(Q283<>0,-$G283*SIN(O283)+$H283*COS(O283)-$E283*$I283,0)","v":0},{"$f":"$G283*COS($O283)+$H283*SIN($O283)+$F283*$I283","v":-4.806208540628476E-2},{"$f":"-$G283*SIN($O283)+$H283*COS($O283)-$E283*$I283","v":-1.6986436772953528E-2},null,-0.17286960340435675,-0.12710984821184537,-6.3730781683574893,-6.3738949106283327,47.018719132759401,69.130909758526542,-2.9770699156970084E-2,0.35524901865601599,6.7298479129147584,-0.23165150363533177,-6.343437425897223,-4.4820239982888275,null,false,null,4.5804420889339186,null,null,null,22.092135713080189,-62.668059223445283,243,2.5446900494077322,-58.863953610995374,0,{"$f":"1/2*(INERTIA+mazalazo*($C283^2+$D283^2))*$I283^2","v":10.582947494576416},-62.668059223445283,21.695961715121943,-58.863931826461126,10.582947494576416,0.14892497665653082,10.731872471232947,null,4.5804420889339186,5.3383389161692829E-2,{"$f":"$H283-($I283*$C283)","v":-1.4993323462301041E-2},5.5448949375384297E-2,10.681432164640306,0.81119608024297907,{"$f":"BL282+mazalazo*($I283*(BM283^2+BN283^2)+BM283*BR283-BN283*BQ283)*$BS283*DT","v":-117.5263724885729},-0.19562683520358512,-6.3725941647049238,-6.0863578362584239,1.7023628924115768,-2.4193973727966602,6.0815962417006257E-2,-1.4454552204788085,0,0]
[0,244,-0.24161437144110515,-6.3712684413785547,-6.0863578362584239,1.7023628924115768,-2.4346210655776805,7.4633505724652757E-2,-0.38751987067834542,{"$f":"IF(($G284+$I284*$D284)^2+($H284-$I284*$D284)^2<>0,-mew*($G284+$I284*$D284)/SQRT(($G284+$I284*$D284)^2+($H284-$I284*$C284)^2),0)","v":-2.6256670350136577},{"$f":"-mew*($H284-$C284*$I284)/SQRT(($G284+$D284*$I284)^2+($H284-$I284*$C284)^2)","v":1.4511625068346374},-0.38803361677321757,null,{"$f":"IF(Q284<>0,mazalazo*(($D284*$J284-$C284*$K284)-2*$I284*($C284*$G284+$D284*$H284))/(INERTIA+mazalazo*($C284^2+$D284^2)),0)","v":0},-4.4893382596476314,{"$f":"IF(Q284<>0,G284*COS(O284)+H284*SIN(O284)+F284*$I284,0)","v":0},0,{"$f":"R283+mazalazo*($I284^2*($E284*$P284+$F284*$U284))*DT","v":121.68091602656294},{"$f":"IF(Q284<>0,$J284*COS($O284)+$K284*SIN($Z284)+2*$U284*$I284+$E284*$I284^2+$F284*$N284,0)","v":0},{"$f":"IF(Q284<>0,-$J284*SIN($O284)+$K284*COS($O284)-2*$P284*$I284+$F284*$I284^2-$E284*$N284,0)","v":0},{"$f":"IF(Q284<>0,-$G284*SIN(O284)+$H284*COS(O284)-$E284*$I284,0)","v":0},{"$f":"$G284*COS($O284)+$H284*SIN($O284)+$F284*$I284","v":-4.836254197098655E-2},{"$f":"-$G284*SIN($O284)+$H284*COS($O284)-$E284*$I284","v":-7.8539884337347488E-4},null,-0.21862060332234512,-0.17286960340435675,-6.3719313030417393,-6.3730781683574893,34.68863775933773,47.018719132759401,-4.4063743937623315E-2,-0.31679163943747124,6.0576561036271324,-0.27773363542777962,-6.3417111955891841,-4.4893382596476314,null,false,null,4.5992916448554571,null,null,null,22.459747836476843,-62.668059223445283,244,2.5446900494077322,-58.863953610995374,0,{"$f":"1/2*(INERTIA+mazalazo*($C284^2+$D284^2))*$I284^2","v":10.58367120402526},-62.668059223445283,22.092135713080189,-58.863931826461126,10.58367120402526,0.14892497665653082,10.73259618068179,null,4.5992916448554571,3.7645271163500915E-2,{"$f":"$H284-($I284*$C284)","v":-1.899686425023403E-2},4.2166898063710274E-2,5.944971338578231,1.3515481424456357,{"$f":"BL283+mazalazo*($I284*(BM284^2+BN284^2)+BM284*BR284-BN284*BQ284)*$BS284*DT","v":-116.11257429974911},-0.24161437144110515,-6.3712684413785547,-6.0863578362584239,1.7023628924115768,-2.4346210655776805,7.4633505724652757E-2,-0.79920478294207675,0,0]
[0,245,-0.28710701571464087,-6.3696473191136258,-6.0863578362584239,1.7023628924115768,-2.4181025398651288,9.5530124870894517E-2,-0.38751987067834542,{"$f":"IF(($G285+$I285*$D285)^2+($H285-$I285*$D285)^2<>0,-mew*($G285+$I285*$D285)/SQRT(($G285+$I285*$D285)^2+($H285-$I285*$C285)^2),0)","v":-2.8630738448754647},{"$f":"-mew*($H285-$C285*$I285)/SQRT(($G285+$D285*$I285)^2+($H285-$I285*$C285)^2)","v":0.89599562431410595},-0.38803361677321757,null,{"$f":"IF(Q285<>0,mazalazo*(($D285*$J285-$C285*$K285)-2*$I285*($C285*$G285+$D285*$H285))/(INERTIA+mazalazo*($C285^2+$D285^2)),0)","v":0},-4.4966525210064354,{"$f":"IF(Q285<>0,G285*COS(O285)+H285*SIN(O285)+F285*$I285,0)","v":0},0,{"$f":"R284+mazalazo*($I285^2*($E285*$P285+$F285*$U285))*DT","v":121.68091602656294},{"$f":"IF(Q285<>0,$J285*COS($O285)+$K285*SIN($Z285)+2*$U285*$I285+$E285*$I285^2+$F285*$N285,0)","v":0},{"$f":"IF(Q285<>0,-$J285*SIN($O285)+$K285*COS($O285)-2*$P285*$I285+$F285*$I285^2-$E285*$N285,0)","v":0},{"$f":"IF(Q285<>0,-$G285*SIN(O285)+$H285*COS(O285)-$E285*$I285,0)","v":0},{"$f":"$G285*COS($O285)+$H285*SIN($O285)+$F285*$I285","v":-4.8748154893083262E-2},{"$f":"-$G285*SIN($O285)+$H285*COS($O285)-$E285*$I285","v":-1.6985913615057857E-2},null,-0.26436069357787301,-0.21862060332234512,-6.3704578802460903,-6.3719313030417393,28.062438754753497,34.68863775933773,-2.4685603280955766E-2,0.35540966225116399,6.7301357525349443,-0.323559925958669,-6.3396684214354977,-4.4966525210064354,null,false,null,4.6181412007769955,null,null,null,22.856086179254433,-62.668059223445283,245,2.5446900494077322,-58.863953610995374,0,{"$f":"1/2*(INERTIA+mazalazo*($C285^2+$D285^2))*$I285^2","v":10.584436708165175},-62.668059223445283,22.459747836476843,-58.863931826461126,10.584436708165175,0.14892497665653082,10.733361684821705,null,4.6181412007769955,5.3534746940360645E-2,{"$f":"$H285-($I285*$C285)","v":-1.5729548729688805E-2},5.5797740395181844E-2,10.210352730460015,0.84570890962353684,{"$f":"BL284+mazalazo*($I285*(BM285^2+BN285^2)+BM285*BR285-BN285*BQ285)*$BS285*DT","v":-113.68091039940749},-0.28710701571464087,-6.3696473191136258,-6.0863578362584239,1.7023628924115768,-2.4181025398651288,9.5530124870894517E-2,-1.3789329508432222,0,0]
[0,246,-0.33306757128390502,-6.3676618154744924,-6.0863578362584239,1.7023628924115768,-2.4331288567066673,0.10956325762492733,-0.38751987067834542,{"$f":"IF(($G286+$I286*$D286)^2+($H286-$I286*$D286)^2<>0,-mew*($G286+$I286*$D286)/SQRT(($G286+$I286*$D286)^2+($H286-$I286*$C286)^2),0)","v":-2.6108474165545776},{"$f":"-mew*($H286-$C286*$I286)/SQRT(($G286+$D286*$I286)^2+($H286-$I286*$C286)^2)","v":1.4776588806183544},-0.38803361677321757,null,{"$f":"IF(Q286<>0,mazalazo*(($D286*$J286-$C286*$K286)-2*$I286*($C286*$G286+$D286*$H286))/(INERTIA+mazalazo*($C286^2+$D286^2)),0)","v":0},-4.5039667823652394,{"$f":"IF(Q286<>0,G286*COS(O286)+H286*SIN(O286)+F286*$I286,0)","v":0},0,{"$f":"R285+mazalazo*($I286^2*($E286*$P286+$F286*$U286))*DT","v":121.68091602656294},{"$f":"IF(Q286<>0,$J286*COS($O286)+$K286*SIN($Z286)+2*$U286*$I286+$E286*$I286^2+$F286*$N286,0)","v":0},{"$f":"IF(Q286<>0,-$J286*SIN($O286)+$K286*COS($O286)-2*$P286*$I286+$F286*$I286^2-$E286*$N286,0)","v":0},{"$f":"IF(Q286<>0,-$G286*SIN(O286)+$H286*COS(O286)-$E286*$I286,0)","v":0},{"$f":"$G286*COS($O286)+$H286*SIN($O286)+$F286*$I286","v":-4.9052780263115547E-2},{"$f":"-$G286*SIN($O286)+$H286*COS($O286)-$E286*$I286","v":-7.8249200654223472E-4},null,-0.31008729349927294,-0.26436069357787301,-6.3686545672940591,-6.3704578802460903,23.148059093623203,28.062438754753497,-4.8609078278537207E-2,-0.3159413896693426,6.0583594061569217,-0.36961054212153677,-6.3372746781395008,-4.5039667823652394,null,false,null,4.6369907566985349,null,null,null,23.224468251803767,-62.668059223445283,246,2.5446900494077322,-58.863953610995374,0,{"$f":"1/2*(INERTIA+mazalazo*($C286^2+$D286^2))*$I286^2","v":10.585160594445352},-62.668059223445283,22.856086179254433,-58.863931826461126,10.585160594445352,0.14892497665653082,10.734085571101883,null,4.6369907566985349,3.7737987940612783E-2,{"$f":"$H286-($I286*$C286)","v":-1.9507044526162143E-2},4.248153151607776E-2,5.8037476497272493,1.3775664739473492,{"$f":"BL285+mazalazo*($I286*(BM286^2+BN286^2)+BM286*BR286-BN286*BQ286)*$BS286*DT","v":-112.30683043971617},-0.33306757128390502,-6.3676618154744924,-6.0863578362584239,1.7023628924115768,-2.4331288567066673,0.10956325762492733,-0.77668449421719332,0,0]
[0,247,-0.37852903041423003,-6.3653881042645164,-6.0863578362584239,1.7023628924115768,-2.4163099660255636,0.13021438045483241,-0.38751987067834542,{"$f":"IF(($G287+$I287*$D287)^2+($H287-$I287*$D287)^2<>0,-mew*($G287+$I287*$D287)/SQRT(($G287+$I287*$D287)^2+($H287-$I287*$C287)^2),0)","v":-2.8515732531934188},{"$f":"-mew*($H287-$C287*$I287)/SQRT(($G287+$D287*$I287)^2+($H287-$I287*$C287)^2)","v":0.93194955961784942},-0.38803361677321757,null,{"$f":"IF(Q287<>0,mazalazo*(($D287*$J287-$C287*$K287)-2*$I287*($C287*$G287+$D287*$H287))/(INERTIA+mazalazo*($C287^2+$D287^2)),0)","v":0},-4.5112810437240434,{"$f":"IF(Q287<>0,G287*COS(O287)+H287*SIN(O287)+F287*$I287,0)","v":0},0,{"$f":"R286+mazalazo*($I287^2*($E287*$P287+$F287*$U287))*DT","v":121.68091602656294},{"$f":"IF(Q287<>0,$J287*COS($O287)+$K287*SIN($Z287)+2*$U287*$I287+$E287*$I287^2+$F287*$N287,0)","v":0},{"$f":"IF(Q287<>0,-$J287*SIN($O287)+$K287*COS($O287)-2*$P287*$I287+$F287*$I287^2-$E287*$N287,0)","v":0},{"$f":"IF(Q287<>0,-$G287*SIN(O287)+$H287*COS(O287)-$E287*$I287,0)","v":0},{"$f":"$G287*COS($O287)+$H287*SIN($O287)+$F287*$I287","v":-4.9439282844625732E-2},{"$f":"-$G287*SIN($O287)+$H287*COS($O287)-$E287*$I287","v":-1.6984258313832878E-2},null,-0.35579830084906749,-0.31008729349927294,-6.3665249598695048,-6.3686545672940591,19.994385800123236,23.148059093623203,-1.9602820812525755E-2,0.35549717223874033,6.7304233035622705,-0.41540074582791703,-6.3345681275533678,-4.5112810437240434,null,false,null,4.6558403126200734,null,null,null,23.620967045492755,-62.668059223445283,247,2.5446900494077322,-58.863953610995374,0,{"$f":"1/2*(INERTIA+mazalazo*($C287^2+$D287^2))*$I287^2","v":10.58592623142296},-62.668059223445283,23.224468251803767,-58.863931826461126,10.58592623142296,0.14892497665653082,10.73485120807949,null,4.6558403126200734,5.3674602237411495E-2,{"$f":"$H287-($I287*$C287)","v":-1.6473140459289493E-2},5.6145590048870445E-2,9.7749307188982506,0.8802013004913235,{"$f":"BL286+mazalazo*($I287*(BM287^2+BN287^2)+BM287*BR287-BN287*BQ287)*$BS287*DT","v":-109.98433252832122},-0.37852903041423003,-6.3653881042645164,-6.0863578362584239,1.7023628924115768,-2.4163099660255636,0.13021438045483241,-1.316913105162997,0,0]
[0,248,-0.42445314639444975,-6.3627434217824375,-6.0863578362584239,1.7023628924115768,-2.4311358828909833,0.1444602522859362,-0.38751987067834542,{"$f":"IF(($G288+$I288*$D288)^2+($H288-$I288*$D288)^2<>0,-mew*($G288+$I288*$D288)/SQRT(($G288+$I288*$D288)^2+($H288-$I288*$C288)^2),0)","v":-2.5956582628749643},{"$f":"-mew*($H288-$C288*$I288)/SQRT(($G288+$D288*$I288)^2+($H288-$I288*$C288)^2)","v":1.5041802359986398},-0.38803361677321757,null,{"$f":"IF(Q288<>0,mazalazo*(($D288*$J288-$C288*$K288)-2*$I288*($C288*$G288+$D288*$H288))/(INERTIA+mazalazo*($C288^2+$D288^2)),0)","v":0},-4.5185953050828473,{"$f":"IF(Q288<>0,G288*COS(O288)+H288*SIN(O288)+F288*$I288,0)","v":0},0,{"$f":"R287+mazalazo*($I288^2*($E288*$P288+$F288*$U288))*DT","v":121.68091602656294},{"$f":"IF(Q288<>0,$J288*COS($O288)+$K288*SIN($Z288)+2*$U288*$I288+$E288*$I288^2+$F288*$N288,0)","v":0},{"$f":"IF(Q288<>0,-$J288*SIN($O288)+$K288*COS($O288)-2*$P288*$I288+$F288*$I288^2-$E288*$N288,0)","v":0},{"$f":"IF(Q288<>0,-$G288*SIN(O288)+$H288*COS(O288)-$E288*$I288,0)","v":0},{"$f":"$G288*COS($O288)+$H288*SIN($O288)+$F288*$I288","v":-4.9748113305996156E-2},{"$f":"-$G288*SIN($O288)+$H288*COS($O288)-$E288*$I288","v":-7.7845712226531916E-4},null,-0.40149108840433989,-0.35579830084906749,-6.3640657630234774,-6.3665249598695048,17.364699275400174,19.994385800123236,-5.3138381381328641E-2,-0.31502576379730485,6.0590630915113186,-0.46141018008231166,-6.3315074718022935,-4.5185953050828473,null,false,null,4.6746898685416118,null,null,null,23.990099342922196,-62.668059223445283,248,2.5446900494077322,-58.863953610995374,0,{"$f":"1/2*(INERTIA+mazalazo*($C288^2+$D288^2))*$I288^2","v":10.586650294578098},-62.668059223445283,23.620967045492755,-58.863931826461126,10.586650294578098,0.14892497665653082,10.735575271234628,null,4.6746898685416118,3.7822459663253927E-2,{"$f":"$H288-($I288*$C288)","v":-2.0023776113857777E-2},4.2795911777135577E-2,5.6666324246022128,1.4036697863665433,{"$f":"BL287+mazalazo*($I288*(BM288^2+BN288^2)+BM288*BR288-BN288*BQ288)*$BS288*DT","v":-108.64940068349482},-0.42445314639444975,-6.3627434217824375,-6.0863578362584239,1.7023628924115768,-2.4311358828909833,0.1444602522859362,-0.7544903590110239,0,0]
[0,249,-0.46987406658636977,-6.3598177818009036,-6.0863578362584239,1.7023628924115768,-2.4140203183880806,0.16486160066981778,-0.38751987067834542,{"$f":"IF(($G289+$I289*$D289)^2+($H289-$I289*$D289)^2<>0,-mew*($G289+$I289*$D289)/SQRT(($G289+$I289*$D289)^2+($H289-$I289*$C289)^2),0)","v":-2.8396001649799203},{"$f":"-mew*($H289-$C289*$I289)/SQRT(($G289+$D289*$I289)^2+($H289-$I289*$C289)^2)","v":0.96781759802455003},-0.38803361677321757,null,{"$f":"IF(Q289<>0,mazalazo*(($D289*$J289-$C289*$K289)-2*$I289*($C289*$G289+$D289*$H289))/(INERTIA+mazalazo*($C289^2+$D289^2)),0)","v":0},-4.5259095664416513,{"$f":"IF(Q289<>0,G289*COS(O289)+H289*SIN(O289)+F289*$I289,0)","v":0},0,{"$f":"R288+mazalazo*($I289^2*($E289*$P289+$F289*$U289))*DT","v":121.68091602656294},{"$f":"IF(Q289<>0,$J289*COS($O289)+$K289*SIN($Z289)+2*$U289*$I289+$E289*$I289^2+$F289*$N289,0)","v":0},{"$f":"IF(Q289<>0,-$J289*SIN($O289)+$K289*COS($O289)-2*$P289*$I289+$F289*$I289^2-$E289*$N289,0)","v":0},{"$f":"IF(Q289<>0,-$G289*SIN(O289)+$H289*COS(O289)-$E289*$I289,0)","v":0},{"$f":"$G289*COS($O289)+$H289*SIN($O289)+$F289*$I289","v":-5.0135468729995081E-2},{"$f":"-$G289*SIN($O289)+$H289*COS($O289)-$E289*$I289","v":-1.6981475490887465E-2},null,-0.44716360649040976,-0.40149108840433989,-6.3612806017916705,-6.3640657630234774,15.52512287178515,17.364699275400174,-1.4523406614676881E-2,0.35551166055276884,6.7307105671084422,-0.5071546855729232,-6.3281378107692667,-4.5259095664416513,null,false,null,4.6935394244631512,null,null,null,24.386754796080737,-62.668059223445283,249,2.5446900494077322,-58.863953610995374,0,{"$f":"1/2*(INERTIA+mazalazo*($C289^2+$D289^2))*$I289^2","v":10.587416064402621},-62.668059223445283,23.990099342922196,-58.863931826461126,10.587416064402621,0.14892497665653082,10.736341041059152,null,4.6935394244631512,5.3802777502745869E-2,{"$f":"$H289-($I289*$C289)","v":-1.7223936848840493E-2},5.6492502755523429E-2,9.3711637429223114,0.91466669073126494,{"$f":"BL288+mazalazo*($I289*(BM289^2+BN289^2)+BM289*BR289-BN289*BQ289)*$BS289*DT","v":-106.42905629455231},-0.46987406658636977,-6.3598177818009036,-6.0863578362584239,1.7023628924115768,-2.4140203183880806,0.16486160066981778,-1.2588799310009691,0,0]
[null,250,-0.51575229719590088,-6.3565146573924736,-6.0863578362584239,1.7023628924115768,-2.4286428528296202,0.17931731922555047,null,{"$f":"IF(($G290+$I290*$D290)^2+($H290-$I290*$D290)^2<>0,-mew*($G290+$I290*$D290)/SQRT(($G290+$I290*$D290)^2+($H290-$I290*$C290)^2),0)","v":2.9918560110433381},{"$f":"-mew*($H290-$C290*$I290)/SQRT(($G290+$D290*$I290)^2+($H290-$I290*$C290)^2)","v":-0.2209018089193609},-0.38803361677321757,null,null,-4.5332238278004553,{"$f":"IF(Q290<>0,G290*COS(O290)+H290*SIN(O290)+F290*$I290,0)","v":0},0,{"$f":"R289+mazalazo*($I290^2*($E290*$P290+$F290*$U290))*DT","v":121.68091602656294},{"$f":"IF(Q290<>0,$J290*COS($O290)+$K290*SIN($Z290)+2*$U290*$I290+$E290*$I290^2+$F290*$N290,0)","v":0},{"$f":"IF(Q290<>0,-$J290*SIN($O290)+$K290*COS($O290)-2*$P290*$I290+$F290*$I290^2-$E290*$N290,0)","v":0},{"$f":"IF(Q290<>0,-$G290*SIN(O290)+$H290*COS(O290)-$E290*$I290,0)","v":0},{"$f":"$G290*COS($O290)+$H290*SIN($O290)+$F290*$I290","v":0.6092509073440221},{"$f":"-$G290*SIN($O290)+$H290*COS($O290)-$E290*$I290","v":2.3578113027710934},null,-0.49281318189113532,-0.44716360649040976,-6.3581662195966882,-6.3612806017916705,13.889343826240131,15.52512287178515,-5.7650712195299714E-2,-0.31404505771542546,6.0597671589229627,null,null,null,null,false,null,null,null,null,null,null,null,null,null,null,null,null,null,null,null,null,null,null,null,null,3.7898519750351412E-2,{"$f":"$H290-($I290*$C290)","v":0.17931731922555047},0.18327847329543573,-0.63404672645169702,-2.9351617132334997,{"$f":"BL289+mazalazo*($I290*(BM290^2+BN290^2)+BM290*BR290-BN290*BQ290)*$BS290*DT","v":-106.47607356486536},-0.51575229719590088,-6.3565146573924736,-6.0863578362584239,1.7023628924115768,-2.4286428528296202,0.17931731922555047,5.3537531485468845E-2,0,0]

{"sheet":"TIME EVOLUTION","index":1,"n_rows":290,"n_cols":6,"rows_kept":290,"cut":false,"hidden":false,"merged":[]}
[]
[]
[]
[]
[]
[]
[]
[]
[]
[]
[]
[]
[]
[]
[]
[]
[]
[]
[]
[]
[]
[]
[]
[]
[]
[]
[]
[]
[]
[]
[]
[]
[]
[]
[]
[]
[]
[]
[null,{"$f":"A40+1","v":1},{"$f":"B39+1","v":2},{"$f":"C39+1","v":3},{"$f":"D39+1","v":4},{"$f":"E39+1","v":5}]
[null,0,{"$f":"IF(B40<XRON,'constant L'!C40,X)","v":0},{"$f":"IF(B40<XRON,'constant L'!D40,Y)","v":1},{"$f":"IF(B40<XRON,'constant L'!E40,XOM)","v":0},{"$f":"IF(B40<XRON,'constant L'!F40,YOM)","v":1}]
[null,1,{"$f":"IF(B41<XRON,'constant L'!C41,X)","v":7.5432495965562063E-2},{"$f":"IF(B41<XRON,'constant L'!D41,Y)","v":0.99900875849341886},{"$f":"IF(B41<XRON,'constant L'!E41,XOM)","v":-2.1532938293707139E-5},{"$f":"IF(B41<XRON,'constant L'!F41,YOM)","v":1.0018525642680609}]
[null,2,{"$f":"IF(B42<XRON,'constant L'!C42,X)","v":0.15061964297500846},{"$f":"IF(B42<XRON,'constant L'!D42,Y)","v":0.99741212237845078},{"$f":"IF(B42<XRON,'constant L'!E42,XOM)","v":-7.4467873257191288E-4},{"$f":"IF(B42<XRON,'constant L'!F42,YOM)","v":1.0087203101806714}]
[null,3,{"$f":"IF(B43<XRON,'constant L'!C43,X)","v":0.22579090880018676},{"$f":"IF(B43<XRON,'constant L'!D43,Y)","v":0.99474977715434931},{"$f":"IF(B43<XRON,'constant L'!E43,XOM)","v":-2.4363346573828687E-3},{"$f":"IF(B43<XRON,'constant L'!F43,YOM)","v":1.0200503506782785}]
[null,4,{"$f":"IF(B44<XRON,'constant L'!C44,X)","v":0.30091801087493292},{"$f":"IF(B44<XRON,'constant L'!D44,Y)","v":0.99102247697689094},{"$f":"IF(B44<XRON,'constant L'!E44,XOM)","v":-5.6026669589961031E-3},{"$f":"IF(B44<XRON,'constant L'!F44,YOM)","v":1.0356861538445348}]
[null,5,{"$f":"IF(B45<XRON,'constant L'!C45,X)","v":0.37597800067103154},{"$f":"IF(B45<XRON,'constant L'!D45,Y)","v":0.98623141163543959},{"$f":"IF(B45<XRON,'constant L'!E45,XOM)","v":-1.0715140885516842E-2},{"$f":"IF(B45<XRON,'constant L'!F45,YOM)","v":1.0554132081989602}]
[null,6,{"$f":"IF(B46<XRON,'constant L'!C46,X)","v":0.45094974748525996},{"$f":"IF(B46<XRON,'constant L'!D46,Y)","v":0.98037812149751802},{"$f":"IF(B46<XRON,'constant L'!E46,XOM)","v":-1.8206432993323553E-2},{"$f":"IF(B46<XRON,'constant L'!F46,YOM)","v":1.0789649955701444}]
[null,7,{"$f":"IF(B47<XRON,'constant L'!C47,X)","v":0.52581296150137136},{"$f":"IF(B47<XRON,'constant L'!D47,Y)","v":0.97346448575240985},{"$f":"IF(B47<XRON,'constant L'!E47,XOM)","v":-2.8464888717620918E-2},{"$f":"IF(B47<XRON,'constant L'!F47,YOM)","v":1.106029893635041}]
[null,8,{"$f":"IF(B48<XRON,'constant L'!C48,X)","v":0.60054781742761221},{"$f":"IF(B48<XRON,'constant L'!D48,Y)","v":0.96549272029783084},{"$f":"IF(B48<XRON,'constant L'!E48,XOM)","v":-4.1829711410065265E-2},{"$f":"IF(B48<XRON,'constant L'!F48,YOM)","v":1.1362588390012747}]
[null,9,{"$f":"IF(B49<XRON,'constant L'!C49,X)","v":0.67513478115925818},{"$f":"IF(B49<XRON,'constant L'!D49,Y)","v":0.95646537754363603},{"$f":"IF(B49<XRON,'constant L'!E49,XOM)","v":-5.8587395546185118E-2},{"$f":"IF(B49<XRON,'constant L'!F49,YOM)","v":1.1692734959169153}]
[null,10,{"$f":"IF(B50<XRON,'constant L'!C50,X)","v":0.74955452055124028},{"$f":"IF(B50<XRON,'constant L'!D50,Y)","v":0.94638534663855767},{"$f":"IF(B50<XRON,'constant L'!E50,XOM)","v":-7.8969556642647376E-2},{"$f":"IF(B50<XRON,'constant L'!F50,YOM)","v":1.204674650158559}]
[null,11,{"$f":"IF(B51<XRON,'constant L'!C51,X)","v":0.82378785608458927},{"$f":"IF(B51<XRON,'constant L'!D51,Y)","v":0.93525585376224651},{"$f":"IF(B51<XRON,'constant L'!E51,XOM)","v":-0.10315216882350001},{"$f":"IF(B51<XRON,'constant L'!F51,YOM)","v":1.24205055206944}]
[null,12,{"$f":"IF(B52<XRON,'constant L'!C52,X)","v":0.89781573240158596},{"$f":"IF(B52<XRON,'constant L'!D52,Y)","v":0.92308046239052244},{"$f":"IF(B52<XRON,'constant L'!E52,XOM)","v":-0.13125613926470758},{"$f":"IF(B52<XRON,'constant L'!F52,YOM)","v":1.2809849551420269}]
[null,13,{"$f":"IF(B53<XRON,'constant L'!C53,X)","v":0.97161920160707071},{"$f":"IF(B53<XRON,'constant L'!D53,Y)","v":0.90986307351225937},{"$f":"IF(B53<XRON,'constant L'!E53,XOM)","v":-0.1633490932719828},{"$f":"IF(B53<XRON,'constant L'!F53,YOM)","v":1.3210646309700209}]
[null,14,{"$f":"IF(B54<XRON,'constant L'!C54,X)","v":1.0451794136126189},{"$f":"IF(B54<XRON,'constant L'!D54,Y)","v":0.89560792579545556},{"$f":"IF(B54<XRON,'constant L'!E54,XOM)","v":-0.19944820570132937},{"$f":"IF(B54<XRON,'constant L'!F54,YOM)","v":1.3618861834344955}]
[null,15,{"$f":"IF(B55<XRON,'constant L'!C55,X)","v":1.1184776109099743},{"$f":"IF(B55<XRON,'constant L'!D55,Y)","v":0.8803195957043547},{"$f":"IF(B55<XRON,'constant L'!E55,XOM)","v":-0.23952389083900119},{"$f":"IF(B55<XRON,'constant L'!F55,YOM)","v":1.4030620308472854}]
[null,16,{"$f":"IF(B56<XRON,'constant L'!C56,X)","v":1.1914951262499818},{"$f":"IF(B56<XRON,'constant L'!D56,Y)","v":0.8640029975694451},{"$f":"IF(B56<XRON,'constant L'!E56,XOM)","v":-0.28350415199087226},{"$f":"IF(B56<XRON,'constant L'!F56,YOM)","v":1.4442254711402867}]
[null,17,{"$f":"IF(B57<XRON,'constant L'!C57,X)","v":1.2642133822993744},{"$f":"IF(B57<XRON,'constant L'!D57,Y)","v":0.8466633836109706},{"$f":"IF(B57<XRON,'constant L'!E57,XOM)","v":-0.33127939220502234},{"$f":"IF(B57<XRON,'constant L'!F57,YOM)","v":1.4850347893004638}]
[null,18,{"$f":"IF(B58<XRON,'constant L'!C58,X)","v":1.3366138926897542},{"$f":"IF(B58<XRON,'constant L'!D58,Y)","v":0.82830634391522451},{"$f":"IF(B58<XRON,'constant L'!E58,XOM)","v":-0.38270749686705896},{"$f":"IF(B58<XRON,'constant L'!F58,YOM)","v":1.5251764059751298}]
[null,19,{"$f":"IF(B59<XRON,'constant L'!C59,X)","v":1.4086782640773687},{"$f":"IF(B59<XRON,'constant L'!D59,Y)","v":0.80893780636165324},{"$f":"IF(B59<XRON,'constant L'!E59,XOM)","v":-0.4376190152984375},{"$f":"IF(B59<XRON,'constant L'!F59,YOM)","v":1.564367100042205}]
[null,20,{"$f":"IF(B60<XRON,'constant L'!C60,X)","v":1.4803881989586061},{"$f":"IF(B60<XRON,'constant L'!D60,Y)","v":0.78856403649772566},{"$f":"IF(B60<XRON,'constant L'!E60,XOM)","v":-0.49582228985051457},{"$f":"IF(B60<XRON,'constant L'!F60,YOM)","v":1.6023553651299964}]
[null,21,{"$f":"IF(B61<XRON,'constant L'!C61,X)","v":1.5517254990666063},{"$f":"IF(B61<XRON,'constant L'!D61,Y)","v":0.7671916373576132},{"$f":"IF(B61<XRON,'constant L'!E61,XOM)","v":-0.55710840532051831},{"$f":"IF(B61<XRON,'constant L'!F61,YOM)","v":1.6389219803292019}]
[null,22,{"$f":"IF(B62<XRON,'constant L'!C62,X)","v":1.6226720692270129},{"$f":"IF(B62<XRON,'constant L'!D62,Y)","v":0.7448275492199482},{"$f":"IF(B62<XRON,'constant L'!E62,XOM)","v":-0.62125585703475017},{"$f":"IF(B62<XRON,'constant L'!F62,YOM)","v":1.6738798888888318}]
[null,23,{"$f":"IF(B63<XRON,'constant L'!C63,X)","v":1.6932099215860907},{"$f":"IF(B63<XRON,'constant L'!D63,Y)","v":0.72147904929925144},{"$f":"IF(B63<XRON,'constant L'!E63,XOM)","v":-0.68803486115518353},{"$f":"IF(B63<XRON,'constant L'!F63,YOM)","v":1.7070734861072896}]
[null,24,{"$f":"IF(B64<XRON,'constant L'!C64,X)","v":1.7633211801484387},{"$f":"IF(B64<XRON,'constant L'!D64,Y)","v":0.69715375136502655},{"$f":"IF(B64<XRON,'constant L'!E64,XOM)","v":-0.7572112545025721},{"$f":"IF(B64<XRON,'constant L'!F64,YOM)","v":1.7383774197386057}]
[null,25,{"$f":"IF(B65<XRON,'constant L'!C65,X)","v":1.8329880855781802},{"$f":"IF(B65<XRON,'constant L'!D65,Y)","v":0.67185960528198418},{"$f":"IF(B65<XRON,'constant L'!E65,XOM)","v":-0.82854995261886055},{"$f":"IF(B65<XRON,'constant L'!F65,YOM)","v":1.7676950039801858}]
[null,26,{"$f":"IF(B66<XRON,'constant L'!C66,X)","v":1.9021930002292193},{"$f":"IF(B66<XRON,'constant L'!D66,Y)","v":0.6456048964643788},{"$f":"IF(B66<XRON,'constant L'!E66,XOM)","v":-0.90181795339059556},{"$f":"IF(B66<XRON,'constant L'!F66,YOM)","v":1.7949563424780608}]
[null,27,{"$f":"IF(B67<XRON,'constant L'!C67,X)","v":1.9709184133784774},{"$f":"IF(B67<XRON,'constant L'!D67,Y)","v":0.61839824523699694},{"$f":"IF(B67<XRON,'constant L'!E67,XOM)","v":-0.97678688906986777},{"$f":"IF(B67<XRON,'constant L'!F67,YOM)","v":1.8201162477291777}]
[null,28,{"$f":"IF(B68<XRON,'constant L'!C68,X)","v":2.0391469466419863},{"$f":"IF(B68<XRON,'constant L'!D68,Y)","v":0.59024860609493124},{"$f":"IF(B68<XRON,'constant L'!E68,XOM)","v":-1.0532351419276154},{"$f":"IF(B68<XRON,'constant L'!F68,YOM)","v":1.8431520346420316}]
[null,29,{"$f":"IF(B69<XRON,'constant L'!C69,X)","v":2.1068613595580055},{"$f":"IF(B69<XRON,'constant L'!D69,Y)","v":0.56116526685389789},{"$f":"IF(B69<XRON,'constant L'!E69,XOM)","v":-1.1309495481920271},{"$f":"IF(B69<XRON,'constant L'!F69,YOM)","v":1.8640612555831053}]
[null,30,{"$f":"IF(B70<XRON,'constant L'!C70,X)","v":2.1740445553244103},{"$f":"IF(B70<XRON,'constant L'!D70,Y)","v":0.5311578476825094},{"$f":"IF(B70<XRON,'constant L'!E70,XOM)","v":-1.2097267216167513},{"$f":"IF(B70<XRON,'constant L'!F70,YOM)","v":1.8828594336000803}]
[null,31,{"$f":"IF(B71<XRON,'constant L'!C71,X)","v":2.2406795866797986},{"$f":"IF(B71<XRON,'constant L'!D71,Y)","v":0.50023630000759689},{"$f":"IF(B71<XRON,'constant L'!E71,XOM)","v":-1.2893740323176932},{"$f":"IF(B71<XRON,'constant L'!F71,YOM)","v":1.8995778401512415}]
[null,32,{"$f":"IF(B72<XRON,'constant L'!C72,X)","v":2.3067496619193015},{"$f":"IF(B72<XRON,'constant L'!D72,Y)","v":0.46841090528338664},{"$f":"IF(B72<XRON,'constant L'!E72,XOM)","v":-1.3697102787774253},{"$f":"IF(B72<XRON,'constant L'!F72,YOM)","v":1.9142613539338564}]
[null,33,{"$f":"IF(B73<XRON,'constant L'!C73,X)","v":2.3722381510371244},{"$f":"IF(B73<XRON,'constant L'!D73,Y)","v":0.43569227361507723},{"$f":"IF(B73<XRON,'constant L'!E73,XOM)","v":-1.450566091513271},{"$f":"IF(B73<XRON,'constant L'!F73,YOM)","v":1.9269664285284844}]
[null,34,{"$f":"IF(B74<XRON,'constant L'!C74,X)","v":2.4371285919885151},{"$f":"IF(B74<XRON,'constant L'!D74,Y)","v":0.40209134222713333},{"$f":"IF(B74<XRON,'constant L'!E74,XOM)","v":-1.5317841061943862},{"$f":"IF(B74<XRON,'constant L'!F74,YOM)","v":1.9377591887002379}]
[null,35,{"$f":"IF(B75<XRON,'constant L'!C75,X)","v":2.5014046970642143},{"$f":"IF(B75<XRON,'constant L'!D75,Y)","v":0.36761937376642012},{"$f":"IF(B75<XRON,'constant L'!E75,XOM)","v":-1.6132189423002616},{"$f":"IF(B75<XRON,'constant L'!F75,YOM)","v":1.946713668382424}]
[null,36,{"$f":"IF(B76<XRON,'constant L'!C76,X)","v":2.5650503593705896},{"$f":"IF(B76<XRON,'constant L'!D76,Y)","v":0.33228795443014181},{"$f":"IF(B76<XRON,'constant L'!E76,XOM)","v":-1.6947370210249812},{"$f":"IF(B76<XRON,'constant L'!F76,YOM)","v":1.953910197612452}]
[null,37,{"$f":"IF(B77<XRON,'constant L'!C77,X)","v":2.6280496594085938},{"$f":"IF(B77<XRON,'constant L'!D77,Y)","v":0.29610899190842949},{"$f":"IF(B77<XRON,'constant L'!E77,XOM)","v":-1.7762162532927737},{"$f":"IF(B77<XRON,'constant L'!F77,YOM)","v":1.9594339409495878}]
[null,38,{"$f":"IF(B78<XRON,'constant L'!C78,X)","v":2.6280496594085938},{"$f":"IF(B78<XRON,'constant L'!D78,Y)","v":0.29610899190842949},{"$f":"IF(B78<XRON,'constant L'!E78,XOM)","v":-1.7762162532927737},{"$f":"IF(B78<XRON,'constant L'!F78,YOM)","v":1.9594339409495878}]
[null,39,{"$f":"IF(B79<XRON,'constant L'!C79,X)","v":2.6280496594085938},{"$f":"IF(B79<XRON,'constant L'!D79,Y)","v":0.29610899190842949},{"$f":"IF(B79<XRON,'constant L'!E79,XOM)","v":-1.7762162532927737},{"$f":"IF(B79<XRON,'constant L'!F79,YOM)","v":1.9594339409495878}]
[null,40,{"$f":"IF(B80<XRON,'constant L'!C80,X)","v":2.6280496594085938},{"$f":"IF(B80<XRON,'constant L'!D80,Y)","v":0.29610899190842949},{"$f":"IF(B80<XRON,'constant L'!E80,XOM)","v":-1.7762162532927737},{"$f":"IF(B80<XRON,'constant L'!F80,YOM)","v":1.9594339409495878}]
[null,41,{"$f":"IF(B81<XRON,'constant L'!C81,X)","v":2.6280496594085938},{"$f":"IF(B81<XRON,'constant L'!D81,Y)","v":0.29610899190842949},{"$f":"IF(B81<XRON,'constant L'!E81,XOM)","v":-1.7762162532927737},{"$f":"IF(B81<XRON,'constant L'!F81,YOM)","v":1.9594339409495878}]
[null,42,{"$f":"IF(B82<XRON,'constant L'!C82,X)","v":2.6280496594085938},{"$f":"IF(B82<XRON,'constant L'!D82,Y)","v":0.29610899190842949},{"$f":"IF(B82<XRON,'constant L'!E82,XOM)","v":-1.7762162532927737},{"$f":"IF(B82<XRON,'constant L'!F82,YOM)","v":1.9594339409495878}]
[null,43,{"$f":"IF(B83<XRON,'constant L'!C83,X)","v":2.6280496594085938},{"$f":"IF(B83<XRON,'constant L'!D83,Y)","v":0.29610899190842949},{"$f":"IF(B83<XRON,'constant L'!E83,XOM)","v":-1.7762162532927737},{"$f":"IF(B83<XRON,'constant L'!F83,YOM)","v":1.9594339409495878}]
[null,44,{"$f":"IF(B84<XRON,'constant L'!C84,X)","v":2.6280496594085938},{"$f":"IF(B84<XRON,'constant L'!D84,Y)","v":0.29610899190842949},{"$f":"IF(B84<XRON,'constant L'!E84,XOM)","v":-1.7762162532927737},{"$f":"IF(B84<XRON,'constant L'!F84,YOM)","v":1.9594339409495878}]
[null,45,{"$f":"IF(B85<XRON,'constant L'!C85,X)","v":2.6280496594085938},{"$f":"IF(B85<XRON,'constant L'!D85,Y)","v":0.29610899190842949},{"$f":"IF(B85<XRON,'constant L'!E85,XOM)","v":-1.7762162532927737},{"$f":"IF(B85<XRON,'constant L'!F85,YOM)","v":1.9594339409495878}]
[null,46,{"$f":"IF(B86<XRON,'constant L'!C86,X)","v":2.6280496594085938},{"$f":"IF(B86<XRON,'constant L'!D86,Y)","v":0.29610899190842949},{"$f":"IF(B86<XRON,'constant L'!E86,XOM)","v":-1.7762162532927737},{"$f":"IF(B86<XRON,'constant L'!F86,YOM)","v":1.9594339409495878}]
[null,47,{"$f":"IF(B87<XRON,'constant L'!C87,X)","v":2.6280496594085938},{"$f":"IF(B87<XRON,'constant L'!D87,Y)","v":0.29610899190842949},{"$f":"IF(B87<XRON,'constant L'!E87,XOM)","v":-1.7762162532927737},{"$f":"IF(B87<XRON,'constant L'!F87,YOM)","v":1.9594339409495878}]
[null,48,{"$f":"IF(B88<XRON,'constant L'!C88,X)","v":2.6280496594085938},{"$f":"IF(B88<XRON,'constant L'!D88,Y)","v":0.29610899190842949},{"$f":"IF(B88<XRON,'constant L'!E88,XOM)","v":-1.7762162532927737},{"$f":"IF(B88<XRON,'constant L'!F88,YOM)","v":1.9594339409495878}]
[null,49,{"$f":"IF(B89<XRON,'constant L'!C89,X)","v":2.6280496594085938},{"$f":"IF(B89<XRON,'constant L'!D89,Y)","v":0.29610899190842949},{"$f":"IF(B89<XRON,'constant L'!E89,XOM)","v":-1.7762162532927737},{"$f":"IF(B89<XRON,'constant L'!F89,YOM)","v":1.9594339409495878}]
[null,50,{"$f":"IF(B90<XRON,'constant L'!C90,X)","v":2.6280496594085938},{"$f":"IF(B90<XRON,'constant L'!D90,Y)","v":0.29610899190842949},{"$f":"IF(B90<XRON,'constant L'!E90,XOM)","v":-1.7762162532927737},{"$f":"IF(B90<XRON,'constant L'!F90,YOM)","v":1.9594339409495878}]
[null,51,{"$f":"IF(B91<XRON,'constant L'!C91,X)","v":2.6280496594085938},{"$f":"IF(B91<XRON,'constant L'!D91,Y)","v":0.29610899190842949},{"$f":"IF(B91<XRON,'constant L'!E91,XOM)","v":-1.7762162532927737},{"$f":"IF(B91<XRON,'constant L'!F91,YOM)","v":1.9594339409495878}]
[null,52,{"$f":"IF(B92<XRON,'constant L'!C92,X)","v":2.6280496594085938},{"$f":"IF(B92<XRON,'constant L'!D92,Y)","v":0.29610899190842949},{"$f":"IF(B92<XRON,'constant L'!E92,XOM)","v":-1.7762162532927737},{"$f":"IF(B92<XRON,'constant L'!F92,YOM)","v":1.9594339409495878}]
[null,53,{"$f":"IF(B93<XRON,'constant L'!C93,X)","v":2.6280496594085938},{"$f":"IF(B93<XRON,'constant L'!D93,Y)","v":0.29610899190842949},{"$f":"IF(B93<XRON,'constant L'!E93,XOM)","v":-1.7762162532927737},{"$f":"IF(B93<XRON,'constant L'!F93,YOM)","v":1.9594339409495878}]
[null,54,{"$f":"IF(B94<XRON,'constant L'!C94,X)","v":2.6280496594085938},{"$f":"IF(B94<XRON,'constant L'!D94,Y)","v":0.29610899190842949},{"$f":"IF(B94<XRON,'constant L'!E94,XOM)","v":-1.7762162532927737},{"$f":"IF(B94<XRON,'constant L'!F94,YOM)","v":1.9594339409495878}]
[null,55,{"$f":"IF(B95<XRON,'constant L'!C95,X)","v":2.6280496594085938},{"$f":"IF(B95<XRON,'constant L'!D95,Y)","v":0.29610899190842949},{"$f":"IF(B95<XRON,'constant L'!E95,XOM)","v":-1.7762162532927737},{"$f":"IF(B95<XRON,'constant L'!F95,YOM)","v":1.9594339409495878}]
[null,56,{"$f":"IF(B96<XRON,'constant L'!C96,X)","v":2.6280496594085938},{"$f":"IF(B96<XRON,'constant L'!D96,Y)","v":0.29610899190842949},{"$f":"IF(B96<XRON,'constant L'!E96,XOM)","v":-1.7762162532927737},{"$f":"IF(B96<XRON,'constant L'!F96,YOM)","v":1.9594339409495878}]
[null,57,{"$f":"IF(B97<XRON,'constant L'!C97,X)","v":2.6280496594085938},{"$f":"IF(B97<XRON,'constant L'!D97,Y)","v":0.29610899190842949},{"$f":"IF(B97<XRON,'constant L'!E97,XOM)","v":-1.7762162532927737},{"$f":"IF(B97<XRON,'constant L'!F97,YOM)","v":1.9594339409495878}]
[null,58,{"$f":"IF(B98<XRON,'constant L'!C98,X)","v":2.6280496594085938},{"$f":"IF(B98<XRON,'constant L'!D98,Y)","v":0.29610899190842949},{"$f":"IF(B98<XRON,'constant L'!E98,XOM)","v":-1.7762162532927737},{"$f":"IF(B98<XRON,'constant L'!F98,YOM)","v":1.9594339409495878}]
[null,59,{"$f":"IF(B99<XRON,'constant L'!C99,X)","v":2.6280496594085938},{"$f":"IF(B99<XRON,'constant L'!D99,Y)","v":0.29610899190842949},{"$f":"IF(B99<XRON,'constant L'!E99,XOM)","v":-1.7762162532927737},{"$f":"IF(B99<XRON,'constant L'!F99,YOM)","v":1.9594339409495878}]
[null,60,{"$f":"IF(B100<XRON,'constant L'!C100,X)","v":2.6280496594085938},{"$f":"IF(B100<XRON,'constant L'!D100,Y)","v":0.29610899190842949},{"$f":"IF(B100<XRON,'constant L'!E100,XOM)","v":-1.7762162532927737},{"$f":"IF(B100<XRON,'constant L'!F100,YOM)","v":1.9594339409495878}]
[null,61,{"$f":"IF(B101<XRON,'constant L'!C101,X)","v":2.6280496594085938},{"$f":"IF(B101<XRON,'constant L'!D101,Y)","v":0.29610899190842949},{"$f":"IF(B101<XRON,'constant L'!E101,XOM)","v":-1.7762162532927737},{"$f":"IF(B101<XRON,'constant L'!F101,YOM)","v":1.9594339409495878}]
[null,62,{"$f":"IF(B102<XRON,'constant L'!C102,X)","v":2.6280496594085938},{"$f":"IF(B102<XRON,'constant L'!D102,Y)","v":0.29610899190842949},{"$f":"IF(B102<XRON,'constant L'!E102,XOM)","v":-1.7762162532927737},{"$f":"IF(B102<XRON,'constant L'!F102,YOM)","v":1.9594339409495878}]
[null,63,{"$f":"IF(B103<XRON,'constant L'!C103,X)","v":2.6280496594085938},{"$f":"IF(B103<XRON,'constant L'!D103,Y)","v":0.29610899190842949},{"$f":"IF(B103<XRON,'constant L'!E103,XOM)","v":-1.7762162532927737},{"$f":"IF(B103<XRON,'constant L'!F103,YOM)","v":1.9594339409495878}]
[null,64,{"$f":"IF(B104<XRON,'constant L'!C104,X)","v":2.6280496594085938},{"$f":"IF(B104<XRON,'constant L'!D104,Y)","v":0.29610899190842949},{"$f":"IF(B104<XRON,'constant L'!E104,XOM)","v":-1.7762162532927737},{"$f":"IF(B104<XRON,'constant L'!F104,YOM)","v":1.9594339409495878}]
[null,65,{"$f":"IF(B105<XRON,'constant L'!C105,X)","v":2.6280496594085938},{"$f":"IF(B105<XRON,'constant L'!D105,Y)","v":0.29610899190842949},{"$f":"IF(B105<XRON,'constant L'!E105,XOM)","v":-1.7762162532927737},{"$f":"IF(B105<XRON,'constant L'!F105,YOM)","v":1.9594339409495878}]
[null,66,{"$f":"IF(B106<XRON,'constant L'!C106,X)","v":2.6280496594085938},{"$f":"IF(B106<XRON,'constant L'!D106,Y)","v":0.29610899190842949},{"$f":"IF(B106<XRON,'constant L'!E106,XOM)","v":-1.7762162532927737},{"$f":"IF(B106<XRON,'constant L'!F106,YOM)","v":1.9594339409495878}]
[null,67,{"$f":"IF(B107<XRON,'constant L'!C107,X)","v":2.6280496594085938},{"$f":"IF(B107<XRON,'constant L'!D107,Y)","v":0.29610899190842949},{"$f":"IF(B107<XRON,'constant L'!E107,XOM)","v":-1.7762162532927737},{"$f":"IF(B107<XRON,'constant L'!F107,YOM)","v":1.9594339409495878}]
[null,68,{"$f":"IF(B108<XRON,'constant L'!C108,X)","v":2.6280496594085938},{"$f":"IF(B108<XRON,'constant L'!D108,Y)","v":0.29610899190842949},{"$f":"IF(B108<XRON,'constant L'!E108,XOM)","v":-1.7762162532927737},{"$f":"IF(B108<XRON,'constant L'!F108,YOM)","v":1.9594339409495878}]
[null,69,{"$f":"IF(B109<XRON,'constant L'!C109,X)","v":2.6280496594085938},{"$f":"IF(B109<XRON,'constant L'!D109,Y)","v":0.29610899190842949},{"$f":"IF(B109<XRON,'constant L'!E109,XOM)","v":-1.7762162532927737},{"$f":"IF(B109<XRON,'constant L'!F109,YOM)","v":1.9594339409495878}]
[null,70,{"$f":"IF(B110<XRON,'constant L'!C110,X)","v":2.6280496594085938},{"$f":"IF(B110<XRON,'constant L'!D110,Y)","v":0.29610899190842949},{"$f":"IF(B110<XRON,'constant L'!E110,XOM)","v":-1.7762162532927737},{"$f":"IF(B110<XRON,'constant L'!F110,YOM)","v":1.9594339409495878}]
[null,71,{"$f":"IF(B111<XRON,'constant L'!C111,X)","v":2.6280496594085938},{"$f":"IF(B111<XRON,'constant L'!D111,Y)","v":0.29610899190842949},{"$f":"IF(B111<XRON,'constant L'!E111,XOM)","v":-1.7762162532927737},{"$f":"IF(B111<XRON,'constant L'!F111,YOM)","v":1.9594339409495878}]
[null,72,{"$f":"IF(B112<XRON,'constant L'!C112,X)","v":2.6280496594085938},{"$f":"IF(B112<XRON,'constant L'!D112,Y)","v":0.29610899190842949},{"$f":"IF(B112<XRON,'constant L'!E112,XOM)","v":-1.7762162532927737},{"$f":"IF(B112<XRON,'constant L'!F112,YOM)","v":1.9594339409495878}]
[null,73,{"$f":"IF(B113<XRON,'constant L'!C113,X)","v":2.6280496594085938},{"$f":"IF(B113<XRON,'constant L'!D113,Y)","v":0.29610899190842949},{"$f":"IF(B113<XRON,'constant L'!E113,XOM)","v":-1.7762162532927737},{"$f":"IF(B113<XRON,'constant L'!F113,YOM)","v":1.9594339409495878}]
[null,74,{"$f":"IF(B114<XRON,'constant L'!C114,X)","v":2.6280496594085938},{"$f":"IF(B114<XRON,'constant L'!D114,Y)","v":0.29610899190842949},{"$f":"IF(B114<XRON,'constant L'!E114,XOM)","v":-1.7762162532927737},{"$f":"IF(B114<XRON,'constant L'!F114,YOM)","v":1.9594339409495878}]
[null,75,{"$f":"IF(B115<XRON,'constant L'!C115,X)","v":2.6280496594085938},{"$f":"IF(B115<XRON,'constant L'!D115,Y)","v":0.29610899190842949},{"$f":"IF(B115<XRON,'constant L'!E115,XOM)","v":-1.7762162532927737},{"$f":"IF(B115<XRON,'constant L'!F115,YOM)","v":1.9594339409495878}]
[null,76,{"$f":"IF(B116<XRON,'constant L'!C116,X)","v":2.6280496594085938},{"$f":"IF(B116<XRON,'constant L'!D116,Y)","v":0.29610899190842949},{"$f":"IF(B116<XRON,'constant L'!E116,XOM)","v":-1.7762162532927737},{"$f":"IF(B116<XRON,'constant L'!F116,YOM)","v":1.9594339409495878}]
[null,77,{"$f":"IF(B117<XRON,'constant L'!C117,X)","v":2.6280496594085938},{"$f":"IF(B117<XRON,'constant L'!D117,Y)","v":0.29610899190842949},{"$f":"IF(B117<XRON,'constant L'!E117,XOM)","v":-1.7762162532927737},{"$f":"IF(B117<XRON,'constant L'!F117,YOM)","v":1.9594339409495878}]
[null,78,{"$f":"IF(B118<XRON,'constant L'!C118,X)","v":2.6280496594085938},{"$f":"IF(B118<XRON,'constant L'!D118,Y)","v":0.29610899190842949},{"$f":"IF(B118<XRON,'constant L'!E118,XOM)","v":-1.7762162532927737},{"$f":"IF(B118<XRON,'constant L'!F118,YOM)","v":1.9594339409495878}]
[null,79,{"$f":"IF(B119<XRON,'constant L'!C119,X)","v":2.6280496594085938},{"$f":"IF(B119<XRON,'constant L'!D119,Y)","v":0.29610899190842949},{"$f":"IF(B119<XRON,'constant L'!E119,XOM)","v":-1.7762162532927737},{"$f":"IF(B119<XRON,'constant L'!F119,YOM)","v":1.9594339409495878}]
[null,80,{"$f":"IF(B120<XRON,'constant L'!C120,X)","v":2.6280496594085938},{"$f":"IF(B120<XRON,'constant L'!D120,Y)","v":0.29610899190842949},{"$f":"IF(B120<XRON,'constant L'!E120,XOM)","v":-1.7762162532927737},{"$f":"IF(B120<XRON,'constant L'!F120,YOM)","v":1.9594339409495878}]
[null,81,{"$f":"IF(B121<XRON,'constant L'!C121,X)","v":2.6280496594085938},{"$f":"IF(B121<XRON,'constant L'!D121,Y)","v":0.29610899190842949},{"$f":"IF(B121<XRON,'constant L'!E121,XOM)","v":-1.7762162532927737},{"$f":"IF(B121<XRON,'constant L'!F121,YOM)","v":1.9594339409495878}]
[null,82,{"$f":"IF(B122<XRON,'constant L'!C122,X)","v":2.6280496594085938},{"$f":"IF(B122<XRON,'constant L'!D122,Y)","v":0.29610899190842949},{"$f":"IF(B122<XRON,'constant L'!E122,XOM)","v":-1.7762162532927737},{"$f":"IF(B122<XRON,'constant L'!F122,YOM)","v":1.9594339409495878}]
[null,83,{"$f":"IF(B123<XRON,'constant L'!C123,X)","v":2.6280496594085938},{"$f":"IF(B123<XRON,'constant L'!D123,Y)","v":0.29610899190842949},{"$f":"IF(B123<XRON,'constant L'!E123,XOM)","v":-1.7762162532927737},{"$f":"IF(B123<XRON,'constant L'!F123,YOM)","v":1.9594339409495878}]
[null,84,{"$f":"IF(B124<XRON,'constant L'!C124,X)","v":2.6280496594085938},{"$f":"IF(B124<XRON,'constant L'!D124,Y)","v":0.29610899190842949},{"$f":"IF(B124<XRON,'constant L'!E124,XOM)","v":-1.7762162532927737},{"$f":"IF(B124<XRON,'constant L'!F124,YOM)","v":1.9594339409495878}]
[null,85,{"$f":"IF(B125<XRON,'constant L'!C125,X)","v":2.6280496594085938},{"$f":"IF(B125<XRON,'constant L'!D125,Y)","v":0.29610899190842949},{"$f":"IF(B125<XRON,'constant L'!E125,XOM)","v":-1.7762162532927737},{"$f":"IF(B125<XRON,'constant L'!F125,YOM)","v":1.9594339409495878}]
[null,86,{"$f":"IF(B126<XRON,'constant L'!C126,X)","v":2.6280496594085938},{"$f":"IF(B126<XRON,'constant L'!D126,Y)","v":0.29610899190842949},{"$f":"IF(B126<XRON,'constant L'!E126,XOM)","v":-1.7762162532927737},{"$f":"IF(B126<XRON,'constant L'!F126,YOM)","v":1.9594339409495878}]
[null,87,{"$f":"IF(B127<XRON,'constant L'!C127,X)","v":2.6280496594085938},{"$f":"IF(B127<XRON,'constant L'!D127,Y)","v":0.29610899190842949},{"$f":"IF(B127<XRON,'constant L'!E127,XOM)","v":-1.7762162532927737},{"$f":"IF(B127<XRON,'constant L'!F127,YOM)","v":1.9594339409495878}]
[null,88,{"$f":"IF(B128<XRON,'constant L'!C128,X)","v":2.6280496594085938},{"$f":"IF(B128<XRON,'constant L'!D128,Y)","v":0.29610899190842949},{"$f":"IF(B128<XRON,'constant L'!E128,XOM)","v":-1.7762162532927737},{"$f":"IF(B128<XRON,'constant L'!F128,YOM)","v":1.9594339409495878}]
[null,89,{"$f":"IF(B129<XRON,'constant L'!C129,X)","v":2.6280496594085938},{"$f":"IF(B129<XRON,'constant L'!D129,Y)","v":0.29610899190842949},{"$f":"IF(B129<XRON,'constant L'!E129,XOM)","v":-1.7762162532927737},{"$f":"IF(B129<XRON,'constant L'!F129,YOM)","v":1.9594339409495878}]
[null,90,{"$f":"IF(B130<XRON,'constant L'!C130,X)","v":2.6280496594085938},{"$f":"IF(B130<XRON,'constant L'!D130,Y)","v":0.29610899190842949},{"$f":"IF(B130<XRON,'constant L'!E130,XOM)","v":-1.7762162532927737},{"$f":"IF(B130<XRON,'constant L'!F130,YOM)","v":1.9594339409495878}]
[null,91,{"$f":"IF(B131<XRON,'constant L'!C131,X)","v":2.6280496594085938},{"$f":"IF(B131<XRON,'constant L'!D131,Y)","v":0.29610899190842949},{"$f":"IF(B131<XRON,'constant L'!E131,XOM)","v":-1.7762162532927737},{"$f":"IF(B131<XRON,'constant L'!F131,YOM)","v":1.9594339409495878}]
[null,92,{"$f":"IF(B132<XRON,'constant L'!C132,X)","v":2.6280496594085938},{"$f":"IF(B132<XRON,'constant L'!D132,Y)","v":0.29610899190842949},{"$f":"IF(B132<XRON,'constant L'!E132,XOM)","v":-1.7762162532927737},{"$f":"IF(B132<XRON,'constant L'!F132,YOM)","v":1.9594339409495878}]
[null,93,{"$f":"IF(B133<XRON,'constant L'!C133,X)","v":2.6280496594085938},{"$f":"IF(B133<XRON,'constant L'!D133,Y)","v":0.29610899190842949},{"$f":"IF(B133<XRON,'constant L'!E133,XOM)","v":-1.7762162532927737},{"$f":"IF(B133<XRON,'constant L'!F133,YOM)","v":1.9594339409495878}]
[null,94,{"$f":"IF(B134<XRON,'constant L'!C134,X)","v":2.6280496594085938},{"$f":"IF(B134<XRON,'constant L'!D134,Y)","v":0.29610899190842949},{"$f":"IF(B134<XRON,'constant L'!E134,XOM)","v":-1.7762162532927737},{"$f":"IF(B134<XRON,'constant L'!F134,YOM)","v":1.9594339409495878}]
[null,95,{"$f":"IF(B135<XRON,'constant L'!C135,X)","v":2.6280496594085938},{"$f":"IF(B135<XRON,'constant L'!D135,Y)","v":0.29610899190842949},{"$f":"IF(B135<XRON,'constant L'!E135,XOM)","v":-1.7762162532927737},{"$f":"IF(B135<XRON,'constant L'!F135,YOM)","v":1.9594339409495878}]
[null,96,{"$f":"IF(B136<XRON,'constant L'!C136,X)","v":2.6280496594085938},{"$f":"IF(B136<XRON,'constant L'!D136,Y)","v":0.29610899190842949},{"$f":"IF(B136<XRON,'constant L'!E136,XOM)","v":-1.7762162532927737},{"$f":"IF(B136<XRON,'constant L'!F136,YOM)","v":1.9594339409495878}]
[null,97,{"$f":"IF(B137<XRON,'constant L'!C137,X)","v":2.6280496594085938},{"$f":"IF(B137<XRON,'constant L'!D137,Y)","v":0.29610899190842949},{"$f":"IF(B137<XRON,'constant L'!E137,XOM)","v":-1.7762162532927737},{"$f":"IF(B137<XRON,'constant L'!F137,YOM)","v":1.9594339409495878}]
[null,98,{"$f":"IF(B138<XRON,'constant L'!C138,X)","v":2.6280496594085938},{"$f":"IF(B138<XRON,'constant L'!D138,Y)","v":0.29610899190842949},{"$f":"IF(B138<XRON,'constant L'!E138,XOM)","v":-1.7762162532927737},{"$f":"IF(B138<XRON,'constant L'!F138,YOM)","v":1.9594339409495878}]
[null,99,{"$f":"IF(B139<XRON,'constant L'!C139,X)","v":2.6280496594085938},{"$f":"IF(B139<XRON,'constant L'!D139,Y)","v":0.29610899190842949},{"$f":"IF(B139<XRON,'constant L'!E139,XOM)","v":-1.7762162532927737},{"$f":"IF(B139<XRON,'constant L'!F139,YOM)","v":1.9594339409495878}]
[null,100,{"$f":"IF(B140<XRON,'constant L'!C140,X)","v":2.6280496594085938},{"$f":"IF(B140<XRON,'constant L'!D140,Y)","v":0.29610899190842949},{"$f":"IF(B140<XRON,'constant L'!E140,XOM)","v":-1.7762162532927737},{"$f":"IF(B140<XRON,'constant L'!F140,YOM)","v":1.9594339409495878}]
[null,101,{"$f":"IF(B141<XRON,'constant L'!C141,X)","v":2.6280496594085938},{"$f":"IF(B141<XRON,'constant L'!D141,Y)","v":0.29610899190842949},{"$f":"IF(B141<XRON,'constant L'!E141,XOM)","v":-1.7762162532927737},{"$f":"IF(B141<XRON,'constant L'!F141,YOM)","v":1.9594339409495878}]
[null,102,{"$f":"IF(B142<XRON,'constant L'!C142,X)","v":2.6280496594085938},{"$f":"IF(B142<XRON,'constant L'!D142,Y)","v":0.29610899190842949},{"$f":"IF(B142<XRON,'constant L'!E142,XOM)","v":-1.7762162532927737},{"$f":"IF(B142<XRON,'constant L'!F142,YOM)","v":1.9594339409495878}]
[null,103,{"$f":"IF(B143<XRON,'constant L'!C143,X)","v":2.6280496594085938},{"$f":"IF(B143<XRON,'constant L'!D143,Y)","v":0.29610899190842949},{"$f":"IF(B143<XRON,'constant L'!E143,XOM)","v":-1.7762162532927737},{"$f":"IF(B143<XRON,'constant L'!F143,YOM)","v":1.9594339409495878}]
[null,104,{"$f":"IF(B144<XRON,'constant L'!C144,X)","v":2.6280496594085938},{"$f":"IF(B144<XRON,'constant L'!D144,Y)","v":0.29610899190842949},{"$f":"IF(B144<XRON,'constant L'!E144,XOM)","v":-1.7762162532927737},{"$f":"IF(B144<XRON,'constant L'!F144,YOM)","v":1.9594339409495878}]
[null,105,{"$f":"IF(B145<XRON,'constant L'!C145,X)","v":2.6280496594085938},{"$f":"IF(B145<XRON,'constant L'!D145,Y)","v":0.29610899190842949},{"$f":"IF(B145<XRON,'constant L'!E145,XOM)","v":-1.7762162532927737},{"$f":"IF(B145<XRON,'constant L'!F145,YOM)","v":1.9594339409495878}]
[null,106,{"$f":"IF(B146<XRON,'constant L'!C146,X)","v":2.6280496594085938},{"$f":"IF(B146<XRON,'constant L'!D146,Y)","v":0.29610899190842949},{"$f":"IF(B146<XRON,'constant L'!E146,XOM)","v":-1.7762162532927737},{"$f":"IF(B146<XRON,'constant L'!F146,YOM)","v":1.9594339409495878}]
[null,107,{"$f":"IF(B147<XRON,'constant L'!C147,X)","v":2.6280496594085938},{"$f":"IF(B147<XRON,'constant L'!D147,Y)","v":0.29610899190842949},{"$f":"IF(B147<XRON,'constant L'!E147,XOM)","v":-1.7762162532927737},{"$f":"IF(B147<XRON,'constant L'!F147,YOM)","v":1.9594339409495878}]
[null,108,{"$f":"IF(B148<XRON,'constant L'!C148,X)","v":2.6280496594085938},{"$f":"IF(B148<XRON,'constant L'!D148,Y)","v":0.29610899190842949},{"$f":"IF(B148<XRON,'constant L'!E148,XOM)","v":-1.7762162532927737},{"$f":"IF(B148<XRON,'constant L'!F148,YOM)","v":1.9594339409495878}]
[null,109,{"$f":"IF(B149<XRON,'constant L'!C149,X)","v":2.6280496594085938},{"$f":"IF(B149<XRON,'constant L'!D149,Y)","v":0.29610899190842949},{"$f":"IF(B149<XRON,'constant L'!E149,XOM)","v":-1.7762162532927737},{"$f":"IF(B149<XRON,'constant L'!F149,YOM)","v":1.9594339409495878}]
[null,110,{"$f":"IF(B150<XRON,'constant L'!C150,X)","v":2.6280496594085938},{"$f":"IF(B150<XRON,'constant L'!D150,Y)","v":0.29610899190842949},{"$f":"IF(B150<XRON,'constant L'!E150,XOM)","v":-1.7762162532927737},{"$f":"IF(B150<XRON,'constant L'!F150,YOM)","v":1.9594339409495878}]
[null,111,{"$f":"IF(B151<XRON,'constant L'!C151,X)","v":2.6280496594085938},{"$f":"IF(B151<XRON,'constant L'!D151,Y)","v":0.29610899190842949},{"$f":"IF(B151<XRON,'constant L'!E151,XOM)","v":-1.7762162532927737},{"$f":"IF(B151<XRON,'constant L'!F151,YOM)","v":1.9594339409495878}]
[null,112,{"$f":"IF(B152<XRON,'constant L'!C152,X)","v":2.6280496594085938},{"$f":"IF(B152<XRON,'constant L'!D152,Y)","v":0.29610899190842949},{"$f":"IF(B152<XRON,'constant L'!E152,XOM)","v":-1.7762162532927737},{"$f":"IF(B152<XRON,'constant L'!F152,YOM)","v":1.9594339409495878}]
[null,113,{"$f":"IF(B153<XRON,'constant L'!C153,X)","v":2.6280496594085938},{"$f":"IF(B153<XRON,'constant L'!D153,Y)","v":0.29610899190842949},{"$f":"IF(B153<XRON,'constant L'!E153,XOM)","v":-1.7762162532927737},{"$f":"IF(B153<XRON,'constant L'!F153,YOM)","v":1.9594339409495878}]
[null,114,{"$f":"IF(B154<XRON,'constant L'!C154,X)","v":2.6280496594085938},{"$f":"IF(B154<XRON,'constant L'!D154,Y)","v":0.29610899190842949},{"$f":"IF(B154<XRON,'constant L'!E154,XOM)","v":-1.7762162532927737},{"$f":"IF(B154<XRON,'constant L'!F154,YOM)","v":1.9594339409495878}]
[null,115,{"$f":"IF(B155<XRON,'constant L'!C155,X)","v":2.6280496594085938},{"$f":"IF(B155<XRON,'constant L'!D155,Y)","v":0.29610899190842949},{"$f":"IF(B155<XRON,'constant L'!E155,XOM)","v":-1.7762162532927737},{"$f":"IF(B155<XRON,'constant L'!F155,YOM)","v":1.9594339409495878}]
[null,116,{"$f":"IF(B156<XRON,'constant L'!C156,X)","v":2.6280496594085938},{"$f":"IF(B156<XRON,'constant L'!D156,Y)","v":0.29610899190842949},{"$f":"IF(B156<XRON,'constant L'!E156,XOM)","v":-1.7762162532927737},{"$f":"IF(B156<XRON,'constant L'!F156,YOM)","v":1.9594339409495878}]
[null,117,{"$f":"IF(B157<XRON,'constant L'!C157,X)","v":2.6280496594085938},{"$f":"IF(B157<XRON,'constant L'!D157,Y)","v":0.29610899190842949},{"$f":"IF(B157<XRON,'constant L'!E157,XOM)","v":-1.7762162532927737},{"$f":"IF(B157<XRON,'constant L'!F157,YOM)","v":1.9594339409495878}]
[null,118,{"$f":"IF(B158<XRON,'constant L'!C158,X)","v":2.6280496594085938},{"$f":"IF(B158<XRON,'constant L'!D158,Y)","v":0.29610899190842949},{"$f":"IF(B158<XRON,'constant L'!E158,XOM)","v":-1.7762162532927737},{"$f":"IF(B158<XRON,'constant L'!F158,YOM)","v":1.9594339409495878}]
[null,119,{"$f":"IF(B159<XRON,'constant L'!C159,X)","v":2.6280496594085938},{"$f":"IF(B159<XRON,'constant L'!D159,Y)","v":0.29610899190842949},{"$f":"IF(B159<XRON,'constant L'!E159,XOM)","v":-1.7762162532927737},{"$f":"IF(B159<XRON,'constant L'!F159,YOM)","v":1.9594339409495878}]
[null,120,{"$f":"IF(B160<XRON,'constant L'!C160,X)","v":2.6280496594085938},{"$f":"IF(B160<XRON,'constant L'!D160,Y)","v":0.29610899190842949},{"$f":"IF(B160<XRON,'constant L'!E160,XOM)","v":-1.7762162532927737},{"$f":"IF(B160<XRON,'constant L'!F160,YOM)","v":1.9594339409495878}]
[null,121,{"$f":"IF(B161<XRON,'constant L'!C161,X)","v":2.6280496594085938},{"$f":"IF(B161<XRON,'constant L'!D161,Y)","v":0.29610899190842949},{"$f":"IF(B161<XRON,'constant L'!E161,XOM)","v":-1.7762162532927737},{"$f":"IF(B161<XRON,'constant L'!F161,YOM)","v":1.9594339409495878}]
[null,122,{"$f":"IF(B162<XRON,'constant L'!C162,X)","v":2.6280496594085938},{"$f":"IF(B162<XRON,'constant L'!D162,Y)","v":0.29610899190842949},{"$f":"IF(B162<XRON,'constant L'!E162,XOM)","v":-1.7762162532927737},{"$f":"IF(B162<XRON,'constant L'!F162,YOM)","v":1.9594339409495878}]
[null,123,{"$f":"IF(B163<XRON,'constant L'!C163,X)","v":2.6280496594085938},{"$f":"IF(B163<XRON,'constant L'!D163,Y)","v":0.29610899190842949},{"$f":"IF(B163<XRON,'constant L'!E163,XOM)","v":-1.7762162532927737},{"$f":"IF(B163<XRON,'constant L'!F163,YOM)","v":1.9594339409495878}]
[null,124,{"$f":"IF(B164<XRON,'constant L'!C164,X)","v":2.6280496594085938},{"$f":"IF(B164<XRON,'constant L'!D164,Y)","v":0.29610899190842949},{"$f":"IF(B164<XRON,'constant L'!E164,XOM)","v":-1.7762162532927737},{"$f":"IF(B164<XRON,'constant L'!F164,YOM)","v":1.9594339409495878}]
[null,125,{"$f":"IF(B165<XRON,'constant L'!C165,X)","v":2.6280496594085938},{"$f":"IF(B165<XRON,'constant L'!D165,Y)","v":0.29610899190842949},{"$f":"IF(B165<XRON,'constant L'!E165,XOM)","v":-1.7762162532927737},{"$f":"IF(B165<XRON,'constant L'!F165,YOM)","v":1.9594339409495878}]
[null,126,{"$f":"IF(B166<XRON,'constant L'!C166,X)","v":2.6280496594085938},{"$f":"IF(B166<XRON,'constant L'!D166,Y)","v":0.29610899190842949},{"$f":"IF(B166<XRON,'constant L'!E166,XOM)","v":-1.7762162532927737},{"$f":"IF(B166<XRON,'constant L'!F166,YOM)","v":1.9594339409495878}]
[null,127,{"$f":"IF(B167<XRON,'constant L'!C167,X)","v":2.6280496594085938},{"$f":"IF(B167<XRON,'constant L'!D167,Y)","v":0.29610899190842949},{"$f":"IF(B167<XRON,'constant L'!E167,XOM)","v":-1.7762162532927737},{"$f":"IF(B167<XRON,'constant L'!F167,YOM)","v":1.9594339409495878}]
[null,128,{"$f":"IF(B168<XRON,'constant L'!C168,X)","v":2.6280496594085938},{"$f":"IF(B168<XRON,'constant L'!D168,Y)","v":0.29610899190842949},{"$f":"IF(B168<XRON,'constant L'!E168,XOM)","v":-1.7762162532927737},{"$f":"IF(B168<XRON,'constant L'!F168,YOM)","v":1.9594339409495878}]
[null,129,{"$f":"IF(B169<XRON,'constant L'!C169,X)","v":2.6280496594085938},{"$f":"IF(B169<XRON,'constant L'!D169,Y)","v":0.29610899190842949},{"$f":"IF(B169<XRON,'constant L'!E169,XOM)","v":-1.7762162532927737},{"$f":"IF(B169<XRON,'constant L'!F169,YOM)","v":1.9594339409495878}]
[null,130,{"$f":"IF(B170<XRON,'constant L'!C170,X)","v":2.6280496594085938},{"$f":"IF(B170<XRON,'constant L'!D170,Y)","v":0.29610899190842949},{"$f":"IF(B170<XRON,'constant L'!E170,XOM)","v":-1.7762162532927737},{"$f":"IF(B170<XRON,'constant L'!F170,YOM)","v":1.9594339409495878}]
[null,131,{"$f":"IF(B171<XRON,'constant L'!C171,X)","v":2.6280496594085938},{"$f":"IF(B171<XRON,'constant L'!D171,Y)","v":0.29610899190842949},{"$f":"IF(B171<XRON,'constant L'!E171,XOM)","v":-1.7762162532927737},{"$f":"IF(B171<XRON,'constant L'!F171,YOM)","v":1.9594339409495878}]
[null,132,{"$f":"IF(B172<XRON,'constant L'!C172,X)","v":2.6280496594085938},{"$f":"IF(B172<XRON,'constant L'!D172,Y)","v":0.29610899190842949},{"$f":"IF(B172<XRON,'constant L'!E172,XOM)","v":-1.7762162532927737},{"$f":"IF(B172<XRON,'constant L'!F172,YOM)","v":1.9594339409495878}]
[null,133,{"$f":"IF(B173<XRON,'constant L'!C173,X)","v":2.6280496594085938},{"$f":"IF(B173<XRON,'constant L'!D173,Y)","v":0.29610899190842949},{"$f":"IF(B173<XRON,'constant L'!E173,XOM)","v":-1.7762162532927737},{"$f":"IF(B173<XRON,'constant L'!F173,YOM)","v":1.9594339409495878}]
[null,134,{"$f":"IF(B174<XRON,'constant L'!C174,X)","v":2.6280496594085938},{"$f":"IF(B174<XRON,'constant L'!D174,Y)","v":0.29610899190842949},{"$f":"IF(B174<XRON,'constant L'!E174,XOM)","v":-1.7762162532927737},{"$f":"IF(B174<XRON,'constant L'!F174,YOM)","v":1.9594339409495878}]
[null,135,{"$f":"IF(B175<XRON,'constant L'!C175,X)","v":2.6280496594085938},{"$f":"IF(B175<XRON,'constant L'!D175,Y)","v":0.29610899190842949},{"$f":"IF(B175<XRON,'constant L'!E175,XOM)","v":-1.7762162532927737},{"$f":"IF(B175<XRON,'constant L'!F175,YOM)","v":1.9594339409495878}]
[null,136,{"$f":"IF(B176<XRON,'constant L'!C176,X)","v":2.6280496594085938},{"$f":"IF(B176<XRON,'constant L'!D176,Y)","v":0.29610899190842949},{"$f":"IF(B176<XRON,'constant L'!E176,XOM)","v":-1.7762162532927737},{"$f":"IF(B176<XRON,'constant L'!F176,YOM)","v":1.9594339409495878}]
[null,137,{"$f":"IF(B177<XRON,'constant L'!C177,X)","v":2.6280496594085938},{"$f":"IF(B177<XRON,'constant L'!D177,Y)","v":0.29610899190842949},{"$f":"IF(B177<XRON,'constant L'!E177,XOM)","v":-1.7762162532927737},{"$f":"IF(B177<XRON,'constant L'!F177,YOM)","v":1.9594339409495878}]
[null,138,{"$f":"IF(B178<XRON,'constant L'!C178,X)","v":2.6280496594085938},{"$f":"IF(B178<XRON,'constant L'!D178,Y)","v":0.29610899190842949},{"$f":"IF(B178<XRON,'constant L'!E178,XOM)","v":-1.7762162532927737},{"$f":"IF(B178<XRON,'constant L'!F178,YOM)","v":1.9594339409495878}]
[null,139,{"$f":"IF(B179<XRON,'constant L'!C179,X)","v":2.6280496594085938},{"$f":"IF(B179<XRON,'constant L'!D179,Y)","v":0.29610899190842949},{"$f":"IF(B179<XRON,'constant L'!E179,XOM)","v":-1.7762162532927737},{"$f":"IF(B179<XRON,'constant L'!F179,YOM)","v":1.9594339409495878}]
[null,140,{"$f":"IF(B180<XRON,'constant L'!C180,X)","v":2.6280496594085938},{"$f":"IF(B180<XRON,'constant L'!D180,Y)","v":0.29610899190842949},{"$f":"IF(B180<XRON,'constant L'!E180,XOM)","v":-1.7762162532927737},{"$f":"IF(B180<XRON,'constant L'!F180,YOM)","v":1.9594339409495878}]
[null,141,{"$f":"IF(B181<XRON,'constant L'!C181,X)","v":2.6280496594085938},{"$f":"IF(B181<XRON,'constant L'!D181,Y)","v":0.29610899190842949},{"$f":"IF(B181<XRON,'constant L'!E181,XOM)","v":-1.7762162532927737},{"$f":"IF(B181<XRON,'constant L'!F181,YOM)","v":1.9594339409495878}]
[null,142,{"$f":"IF(B182<XRON,'constant L'!C182,X)","v":2.6280496594085938},{"$f":"IF(B182<XRON,'constant L'!D182,Y)","v":0.29610899190842949},{"$f":"IF(B182<XRON,'constant L'!E182,XOM)","v":-1.7762162532927737},{"$f":"IF(B182<XRON,'constant L'!F182,YOM)","v":1.9594339409495878}]
[null,143,{"$f":"IF(B183<XRON,'constant L'!C183,X)","v":2.6280496594085938},{"$f":"IF(B183<XRON,'constant L'!D183,Y)","v":0.29610899190842949},{"$f":"IF(B183<XRON,'constant L'!E183,XOM)","v":-1.7762162532927737},{"$f":"IF(B183<XRON,'constant L'!F183,YOM)","v":1.9594339409495878}]
[null,144,{"$f":"IF(B184<XRON,'constant L'!C184,X)","v":2.6280496594085938},{"$f":"IF(B184<XRON,'constant L'!D184,Y)","v":0.29610899190842949},{"$f":"IF(B184<XRON,'constant L'!E184,XOM)","v":-1.7762162532927737},{"$f":"IF(B184<XRON,'constant L'!F184,YOM)","v":1.9594339409495878}]
[null,145,{"$f":"IF(B185<XRON,'constant L'!C185,X)","v":2.6280496594085938},{"$f":"IF(B185<XRON,'constant L'!D185,Y)","v":0.29610899190842949},{"$f":"IF(B185<XRON,'constant L'!E185,XOM)","v":-1.7762162532927737},{"$f":"IF(B185<XRON,'constant L'!F185,YOM)","v":1.9594339409495878}]
[null,146,{"$f":"IF(B186<XRON,'constant L'!C186,X)","v":2.6280496594085938},{"$f":"IF(B186<XRON,'constant L'!D186,Y)","v":0.29610899190842949},{"$f":"IF(B186<XRON,'constant L'!E186,XOM)","v":-1.7762162532927737},{"$f":"IF(B186<XRON,'constant L'!F186,YOM)","v":1.9594339409495878}]
[null,147,{"$f":"IF(B187<XRON,'constant L'!C187,X)","v":2.6280496594085938},{"$f":"IF(B187<XRON,'constant L'!D187,Y)","v":0.29610899190842949},{"$f":"IF(B187<XRON,'constant L'!E187,XOM)","v":-1.7762162532927737},{"$f":"IF(B187<XRON,'constant L'!F187,YOM)","v":1.9594339409495878}]
[null,148,{"$f":"IF(B188<XRON,'constant L'!C188,X)","v":2.6280496594085938},{"$f":"IF(B188<XRON,'constant L'!D188,Y)","v":0.29610899190842949},{"$f":"IF(B188<XRON,'constant L'!E188,XOM)","v":-1.7762162532927737},{"$f":"IF(B188<XRON,'constant L'!F188,YOM)","v":1.9594339409495878}]
[null,149,{"$f":"IF(B189<XRON,'constant L'!C189,X)","v":2.6280496594085938},{"$f":"IF(B189<XRON,'constant L'!D189,Y)","v":0.29610899190842949},{"$f":"IF(B189<XRON,'constant L'!E189,XOM)","v":-1.7762162532927737},{"$f":"IF(B189<XRON,'constant L'!F189,YOM)","v":1.9594339409495878}]
[null,150,{"$f":"IF(B190<XRON,'constant L'!C190,X)","v":2.6280496594085938},{"$f":"IF(B190<XRON,'constant L'!D190,Y)","v":0.29610899190842949},{"$f":"IF(B190<XRON,'constant L'!E190,XOM)","v":-1.7762162532927737},{"$f":"IF(B190<XRON,'constant L'!F190,YOM)","v":1.9594339409495878}]
[null,151,{"$f":"IF(B191<XRON,'constant L'!C191,X)","v":2.6280496594085938},{"$f":"IF(B191<XRON,'constant L'!D191,Y)","v":0.29610899190842949},{"$f":"IF(B191<XRON,'constant L'!E191,XOM)","v":-1.7762162532927737},{"$f":"IF(B191<XRON,'constant L'!F191,YOM)","v":1.9594339409495878}]
[null,152,{"$f":"IF(B192<XRON,'constant L'!C192,X)","v":2.6280496594085938},{"$f":"IF(B192<XRON,'constant L'!D192,Y)","v":0.29610899190842949},{"$f":"IF(B192<XRON,'constant L'!E192,XOM)","v":-1.7762162532927737},{"$f":"IF(B192<XRON,'constant L'!F192,YOM)","v":1.9594339409495878}]
[null,153,{"$f":"IF(B193<XRON,'constant L'!C193,X)","v":2.6280496594085938},{"$f":"IF(B193<XRON,'constant L'!D193,Y)","v":0.29610899190842949},{"$f":"IF(B193<XRON,'constant L'!E193,XOM)","v":-1.7762162532927737},{"$f":"IF(B193<XRON,'constant L'!F193,YOM)","v":1.9594339409495878}]
[null,154,{"$f":"IF(B194<XRON,'constant L'!C194,X)","v":2.6280496594085938},{"$f":"IF(B194<XRON,'constant L'!D194,Y)","v":0.29610899190842949},{"$f":"IF(B194<XRON,'constant L'!E194,XOM)","v":-1.7762162532927737},{"$f":"IF(B194<XRON,'constant L'!F194,YOM)","v":1.9594339409495878}]
[null,155,{"$f":"IF(B195<XRON,'constant L'!C195,X)","v":2.6280496594085938},{"$f":"IF(B195<XRON,'constant L'!D195,Y)","v":0.29610899190842949},{"$f":"IF(B195<XRON,'constant L'!E195,XOM)","v":-1.7762162532927737},{"$f":"IF(B195<XRON,'constant L'!F195,YOM)","v":1.9594339409495878}]
[null,156,{"$f":"IF(B196<XRON,'constant L'!C196,X)","v":2.6280496594085938},{"$f":"IF(B196<XRON,'constant L'!D196,Y)","v":0.29610899190842949},{"$f":"IF(B196<XRON,'constant L'!E196,XOM)","v":-1.7762162532927737},{"$f":"IF(B196<XRON,'constant L'!F196,YOM)","v":1.9594339409495878}]
[null,157,{"$f":"IF(B197<XRON,'constant L'!C197,X)","v":2.6280496594085938},{"$f":"IF(B197<XRON,'constant L'!D197,Y)","v":0.29610899190842949},{"$f":"IF(B197<XRON,'constant L'!E197,XOM)","v":-1.7762162532927737},{"$f":"IF(B197<XRON,'constant L'!F197,YOM)","v":1.9594339409495878}]
[null,158,{"$f":"IF(B198<XRON,'constant L'!C198,X)","v":2.6280496594085938},{"$f":"IF(B198<XRON,'constant L'!D198,Y)","v":0.29610899190842949},{"$f":"IF(B198<XRON,'constant L'!E198,XOM)","v":-1.7762162532927737},{"$f":"IF(B198<XRON,'constant L'!F198,YOM)","v":1.9594339409495878}]
[null,159,{"$f":"IF(B199<XRON,'constant L'!C199,X)","v":2.6280496594085938},{"$f":"IF(B199<XRON,'constant L'!D199,Y)","v":0.29610899190842949},{"$f":"IF(B199<XRON,'constant L'!E199,XOM)","v":-1.7762162532927737},{"$f":"IF(B199<XRON,'constant L'!F199,YOM)","v":1.9594339409495878}]
[null,160,{"$f":"IF(B200<XRON,'constant L'!C200,X)","v":2.6280496594085938},{"$f":"IF(B200<XRON,'constant L'!D200,Y)","v":0.29610899190842949},{"$f":"IF(B200<XRON,'constant L'!E200,XOM)","v":-1.7762162532927737},{"$f":"IF(B200<XRON,'constant L'!F200,YOM)","v":1.9594339409495878}]
[null,161,{"$f":"IF(B201<XRON,'constant L'!C201,X)","v":2.6280496594085938},{"$f":"IF(B201<XRON,'constant L'!D201,Y)","v":0.29610899190842949},{"$f":"IF(B201<XRON,'constant L'!E201,XOM)","v":-1.7762162532927737},{"$f":"IF(B201<XRON,'constant L'!F201,YOM)","v":1.9594339409495878}]
[null,162,{"$f":"IF(B202<XRON,'constant L'!C202,X)","v":2.6280496594085938},{"$f":"IF(B202<XRON,'constant L'!D202,Y)","v":0.29610899190842949},{"$f":"IF(B202<XRON,'constant L'!E202,XOM)","v":-1.7762162532927737},{"$f":"IF(B202<XRON,'constant L'!F202,YOM)","v":1.9594339409495878}]
[null,163,{"$f":"IF(B203<XRON,'constant L'!C203,X)","v":2.6280496594085938},{"$f":"IF(B203<XRON,'constant L'!D203,Y)","v":0.29610899190842949},{"$f":"IF(B203<XRON,'constant L'!E203,XOM)","v":-1.7762162532927737},{"$f":"IF(B203<XRON,'constant L'!F203,YOM)","v":1.9594339409495878}]
[null,164,{"$f":"IF(B204<XRON,'constant L'!C204,X)","v":2.6280496594085938},{"$f":"IF(B204<XRON,'constant L'!D204,Y)","v":0.29610899190842949},{"$f":"IF(B204<XRON,'constant L'!E204,XOM)","v":-1.7762162532927737},{"$f":"IF(B204<XRON,'constant L'!F204,YOM)","v":1.9594339409495878}]
[null,165,{"$f":"IF(B205<XRON,'constant L'!C205,X)","v":2.6280496594085938},{"$f":"IF(B205<XRON,'constant L'!D205,Y)","v":0.29610899190842949},{"$f":"IF(B205<XRON,'constant L'!E205,XOM)","v":-1.7762162532927737},{"$f":"IF(B205<XRON,'constant L'!F205,YOM)","v":1.9594339409495878}]
[null,166,{"$f":"IF(B206<XRON,'constant L'!C206,X)","v":2.6280496594085938},{"$f":"IF(B206<XRON,'constant L'!D206,Y)","v":0.29610899190842949},{"$f":"IF(B206<XRON,'constant L'!E206,XOM)","v":-1.7762162532927737},{"$f":"IF(B206<XRON,'constant L'!F206,YOM)","v":1.9594339409495878}]
[null,167,{"$f":"IF(B207<XRON,'constant L'!C207,X)","v":2.6280496594085938},{"$f":"IF(B207<XRON,'constant L'!D207,Y)","v":0.29610899190842949},{"$f":"IF(B207<XRON,'constant L'!E207,XOM)","v":-1.7762162532927737},{"$f":"IF(B207<XRON,'constant L'!F207,YOM)","v":1.9594339409495878}]
[null,168,{"$f":"IF(B208<XRON,'constant L'!C208,X)","v":2.6280496594085938},{"$f":"IF(B208<XRON,'constant L'!D208,Y)","v":0.29610899190842949},{"$f":"IF(B208<XRON,'constant L'!E208,XOM)","v":-1.7762162532927737},{"$f":"IF(B208<XRON,'constant L'!F208,YOM)","v":1.9594339409495878}]
[null,169,{"$f":"IF(B209<XRON,'constant L'!C209,X)","v":2.6280496594085938},{"$f":"IF(B209<XRON,'constant L'!D209,Y)","v":0.29610899190842949},{"$f":"IF(B209<XRON,'constant L'!E209,XOM)","v":-1.7762162532927737},{"$f":"IF(B209<XRON,'constant L'!F209,YOM)","v":1.9594339409495878}]
[null,170,{"$f":"IF(B210<XRON,'constant L'!C210,X)","v":2.6280496594085938},{"$f":"IF(B210<XRON,'constant L'!D210,Y)","v":0.29610899190842949},{"$f":"IF(B210<XRON,'constant L'!E210,XOM)","v":-1.7762162532927737},{"$f":"IF(B210<XRON,'constant L'!F210,YOM)","v":1.9594339409495878}]
[null,171,{"$f":"IF(B211<XRON,'constant L'!C211,X)","v":2.6280496594085938},{"$f":"IF(B211<XRON,'constant L'!D211,Y)","v":0.29610899190842949},{"$f":"IF(B211<XRON,'constant L'!E211,XOM)","v":-1.7762162532927737},{"$f":"IF(B211<XRON,'constant L'!F211,YOM)","v":1.9594339409495878}]
[null,172,{"$f":"IF(B212<XRON,'constant L'!C212,X)","v":2.6280496594085938},{"$f":"IF(B212<XRON,'constant L'!D212,Y)","v":0.29610899190842949},{"$f":"IF(B212<XRON,'constant L'!E212,XOM)","v":-1.7762162532927737},{"$f":"IF(B212<XRON,'constant L'!F212,YOM)","v":1.9594339409495878}]
[null,173,{"$f":"IF(B213<XRON,'constant L'!C213,X)","v":2.6280496594085938},{"$f":"IF(B213<XRON,'constant L'!D213,Y)","v":0.29610899190842949},{"$f":"IF(B213<XRON,'constant L'!E213,XOM)","v":-1.7762162532927737},{"$f":"IF(B213<XRON,'constant L'!F213,YOM)","v":1.9594339409495878}]
[null,174,{"$f":"IF(B214<XRON,'constant L'!C214,X)","v":2.6280496594085938},{"$f":"IF(B214<XRON,'constant L'!D214,Y)","v":0.29610899190842949},{"$f":"IF(B214<XRON,'constant L'!E214,XOM)","v":-1.7762162532927737},{"$f":"IF(B214<XRON,'constant L'!F214,YOM)","v":1.9594339409495878}]
[null,175,{"$f":"IF(B215<XRON,'constant L'!C215,X)","v":2.6280496594085938},{"$f":"IF(B215<XRON,'constant L'!D215,Y)","v":0.29610899190842949},{"$f":"IF(B215<XRON,'constant L'!E215,XOM)","v":-1.7762162532927737},{"$f":"IF(B215<XRON,'constant L'!F215,YOM)","v":1.9594339409495878}]
[null,176,{"$f":"IF(B216<XRON,'constant L'!C216,X)","v":2.6280496594085938},{"$f":"IF(B216<XRON,'constant L'!D216,Y)","v":0.29610899190842949},{"$f":"IF(B216<XRON,'constant L'!E216,XOM)","v":-1.7762162532927737},{"$f":"IF(B216<XRON,'constant L'!F216,YOM)","v":1.9594339409495878}]
[null,177,{"$f":"IF(B217<XRON,'constant L'!C217,X)","v":2.6280496594085938},{"$f":"IF(B217<XRON,'constant L'!D217,Y)","v":0.29610899190842949},{"$f":"IF(B217<XRON,'constant L'!E217,XOM)","v":-1.7762162532927737},{"$f":"IF(B217<XRON,'constant L'!F217,YOM)","v":1.9594339409495878}]
[null,178,{"$f":"IF(B218<XRON,'constant L'!C218,X)","v":2.6280496594085938},{"$f":"IF(B218<XRON,'constant L'!D218,Y)","v":0.29610899190842949},{"$f":"IF(B218<XRON,'constant L'!E218,XOM)","v":-1.7762162532927737},{"$f":"IF(B218<XRON,'constant L'!F218,YOM)","v":1.9594339409495878}]
[null,179,{"$f":"IF(B219<XRON,'constant L'!C219,X)","v":2.6280496594085938},{"$f":"IF(B219<XRON,'constant L'!D219,Y)","v":0.29610899190842949},{"$f":"IF(B219<XRON,'constant L'!E219,XOM)","v":-1.7762162532927737},{"$f":"IF(B219<XRON,'constant L'!F219,YOM)","v":1.9594339409495878}]
[null,180,{"$f":"IF(B220<XRON,'constant L'!C220,X)","v":2.6280496594085938},{"$f":"IF(B220<XRON,'constant L'!D220,Y)","v":0.29610899190842949},{"$f":"IF(B220<XRON,'constant L'!E220,XOM)","v":-1.7762162532927737},{"$f":"IF(B220<XRON,'constant L'!F220,YOM)","v":1.9594339409495878}]
[null,181,{"$f":"IF(B221<XRON,'constant L'!C221,X)","v":2.6280496594085938},{"$f":"IF(B221<XRON,'constant L'!D221,Y)","v":0.29610899190842949},{"$f":"IF(B221<XRON,'constant L'!E221,XOM)","v":-1.7762162532927737},{"$f":"IF(B221<XRON,'constant L'!F221,YOM)","v":1.9594339409495878}]
[null,182,{"$f":"IF(B222<XRON,'constant L'!C222,X)","v":2.6280496594085938},{"$f":"IF(B222<XRON,'constant L'!D222,Y)","v":0.29610899190842949},{"$f":"IF(B222<XRON,'constant L'!E222,XOM)","v":-1.7762162532927737},{"$f":"IF(B222<XRON,'constant L'!F222,YOM)","v":1.9594339409495878}]
[null,183,{"$f":"IF(B223<XRON,'constant L'!C223,X)","v":2.6280496594085938},{"$f":"IF(B223<XRON,'constant L'!D223,Y)","v":0.29610899190842949},{"$f":"IF(B223<XRON,'constant L'!E223,XOM)","v":-1.7762162532927737},{"$f":"IF(B223<XRON,'constant L'!F223,YOM)","v":1.9594339409495878}]
[null,184,{"$f":"IF(B224<XRON,'constant L'!C224,X)","v":2.6280496594085938},{"$f":"IF(B224<XRON,'constant L'!D224,Y)","v":0.29610899190842949},{"$f":"IF(B224<XRON,'constant L'!E224,XOM)","v":-1.7762162532927737},{"$f":"IF(B224<XRON,'constant L'!F224,YOM)","v":1.9594339409495878}]
[null,185,{"$f":"IF(B225<XRON,'constant L'!C225,X)","v":2.6280496594085938},{"$f":"IF(B225<XRON,'constant L'!D225,Y)","v":0.29610899190842949},{"$f":"IF(B225<XRON,'constant L'!E225,XOM)","v":-1.7762162532927737},{"$f":"IF(B225<XRON,'constant L'!F225,YOM)","v":1.9594339409495878}]
[null,186,{"$f":"IF(B226<XRON,'constant L'!C226,X)","v":2.6280496594085938},{"$f":"IF(B226<XRON,'constant L'!D226,Y)","v":0.29610899190842949},{"$f":"IF(B226<XRON,'constant L'!E226,XOM)","v":-1.7762162532927737},{"$f":"IF(B226<XRON,'constant L'!F226,YOM)","v":1.9594339409495878}]
[null,187,{"$f":"IF(B227<XRON,'constant L'!C227,X)","v":2.6280496594085938},{"$f":"IF(B227<XRON,'constant L'!D227,Y)","v":0.29610899190842949},{"$f":"IF(B227<XRON,'constant L'!E227,XOM)","v":-1.7762162532927737},{"$f":"IF(B227<XRON,'constant L'!F227,YOM)","v":1.9594339409495878}]
[null,188,{"$f":"IF(B228<XRON,'constant L'!C228,X)","v":2.6280496594085938},{"$f":"IF(B228<XRON,'constant L'!D228,Y)","v":0.29610899190842949},{"$f":"IF(B228<XRON,'constant L'!E228,XOM)","v":-1.7762162532927737},{"$f":"IF(B228<XRON,'constant L'!F228,YOM)","v":1.9594339409495878}]
[null,189,{"$f":"IF(B229<XRON,'constant L'!C229,X)","v":2.6280496594085938},{"$f":"IF(B229<XRON,'constant L'!D229,Y)","v":0.29610899190842949},{"$f":"IF(B229<XRON,'constant L'!E229,XOM)","v":-1.7762162532927737},{"$f":"IF(B229<XRON,'constant L'!F229,YOM)","v":1.9594339409495878}]
[null,190,{"$f":"IF(B230<XRON,'constant L'!C230,X)","v":2.6280496594085938},{"$f":"IF(B230<XRON,'constant L'!D230,Y)","v":0.29610899190842949},{"$f":"IF(B230<XRON,'constant L'!E230,XOM)","v":-1.7762162532927737},{"$f":"IF(B230<XRON,'constant L'!F230,YOM)","v":1.9594339409495878}]
[null,191,{"$f":"IF(B231<XRON,'constant L'!C231,X)","v":2.6280496594085938},{"$f":"IF(B231<XRON,'constant L'!D231,Y)","v":0.29610899190842949},{"$f":"IF(B231<XRON,'constant L'!E231,XOM)","v":-1.7762162532927737},{"$f":"IF(B231<XRON,'constant L'!F231,YOM)","v":1.9594339409495878}]
[null,192,{"$f":"IF(B232<XRON,'constant L'!C232,X)","v":2.6280496594085938},{"$f":"IF(B232<XRON,'constant L'!D232,Y)","v":0.29610899190842949},{"$f":"IF(B232<XRON,'constant L'!E232,XOM)","v":-1.7762162532927737},{"$f":"IF(B232<XRON,'constant L'!F232,YOM)","v":1.9594339409495878}]
[null,193,{"$f":"IF(B233<XRON,'constant L'!C233,X)","v":2.6280496594085938},{"$f":"IF(B233<XRON,'constant L'!D233,Y)","v":0.29610899190842949},{"$f":"IF(B233<XRON,'constant L'!E233,XOM)","v":-1.7762162532927737},{"$f":"IF(B233<XRON,'constant L'!F233,YOM)","v":1.9594339409495878}]
[null,194,{"$f":"IF(B234<XRON,'constant L'!C234,X)","v":2.6280496594085938},{"$f":"IF(B234<XRON,'constant L'!D234,Y)","v":0.29610899190842949},{"$f":"IF(B234<XRON,'constant L'!E234,XOM)","v":-1.7762162532927737},{"$f":"IF(B234<XRON,'constant L'!F234,YOM)","v":1.9594339409495878}]
[null,195,{"$f":"IF(B235<XRON,'constant L'!C235,X)","v":2.6280496594085938},{"$f":"IF(B235<XRON,'constant L'!D235,Y)","v":0.29610899190842949},{"$f":"IF(B235<XRON,'constant L'!E235,XOM)","v":-1.7762162532927737},{"$f":"IF(B235<XRON,'constant L'!F235,YOM)","v":1.9594339409495878}]
[null,196,{"$f":"IF(B236<XRON,'constant L'!C236,X)","v":2.6280496594085938},{"$f":"IF(B236<XRON,'constant L'!D236,Y)","v":0.29610899190842949},{"$f":"IF(B236<XRON,'constant L'!E236,XOM)","v":-1.7762162532927737},{"$f":"IF(B236<XRON,'constant L'!F236,YOM)","v":1.9594339409495878}]
[null,197,{"$f":"IF(B237<XRON,'constant L'!C237,X)","v":2.6280496594085938},{"$f":"IF(B237<XRON,'constant L'!D237,Y)","v":0.29610899190842949},{"$f":"IF(B237<XRON,'constant L'!E237,XOM)","v":-1.7762162532927737},{"$f":"IF(B237<XRON,'constant L'!F237,YOM)","v":1.9594339409495878}]
[null,198,{"$f":"IF(B238<XRON,'constant L'!C238,X)","v":2.6280496594085938},{"$f":"IF(B238<XRON,'constant L'!D238,Y)","v":0.29610899190842949},{"$f":"IF(B238<XRON,'constant L'!E238,XOM)","v":-1.7762162532927737},{"$f":"IF(B238<XRON,'constant L'!F238,YOM)","v":1.9594339409495878}]
[null,199,{"$f":"IF(B239<XRON,'constant L'!C239,X)","v":2.6280496594085938},{"$f":"IF(B239<XRON,'constant L'!D239,Y)","v":0.29610899190842949},{"$f":"IF(B239<XRON,'constant L'!E239,XOM)","v":-1.7762162532927737},{"$f":"IF(B239<XRON,'constant L'!F239,YOM)","v":1.9594339409495878}]
[null,200,{"$f":"IF(B240<XRON,'constant L'!C240,X)","v":2.6280496594085938},{"$f":"IF(B240<XRON,'constant L'!D240,Y)","v":0.29610899190842949},{"$f":"IF(B240<XRON,'constant L'!E240,XOM)","v":-1.7762162532927737},{"$f":"IF(B240<XRON,'constant L'!F240,YOM)","v":1.9594339409495878}]
[null,201,{"$f":"IF(B241<XRON,'constant L'!C241,X)","v":2.6280496594085938},{"$f":"IF(B241<XRON,'constant L'!D241,Y)","v":0.29610899190842949},{"$f":"IF(B241<XRON,'constant L'!E241,XOM)","v":-1.7762162532927737},{"$f":"IF(B241<XRON,'constant L'!F241,YOM)","v":1.9594339409495878}]
[null,202,{"$f":"IF(B242<XRON,'constant L'!C242,X)","v":2.6280496594085938},{"$f":"IF(B242<XRON,'constant L'!D242,Y)","v":0.29610899190842949},{"$f":"IF(B242<XRON,'constant L'!E242,XOM)","v":-1.7762162532927737},{"$f":"IF(B242<XRON,'constant L'!F242,YOM)","v":1.9594339409495878}]
[null,203,{"$f":"IF(B243<XRON,'constant L'!C243,X)","v":2.6280496594085938},{"$f":"IF(B243<XRON,'constant L'!D243,Y)","v":0.29610899190842949},{"$f":"IF(B243<XRON,'constant L'!E243,XOM)","v":-1.7762162532927737},{"$f":"IF(B243<XRON,'constant L'!F243,YOM)","v":1.9594339409495878}]
[null,204,{"$f":"IF(B244<XRON,'constant L'!C244,X)","v":2.6280496594085938},{"$f":"IF(B244<XRON,'constant L'!D244,Y)","v":0.29610899190842949},{"$f":"IF(B244<XRON,'constant L'!E244,XOM)","v":-1.7762162532927737},{"$f":"IF(B244<XRON,'constant L'!F244,YOM)","v":1.9594339409495878}]
[null,205,{"$f":"IF(B245<XRON,'constant L'!C245,X)","v":2.6280496594085938},{"$f":"IF(B245<XRON,'constant L'!D245,Y)","v":0.29610899190842949},{"$f":"IF(B245<XRON,'constant L'!E245,XOM)","v":-1.7762162532927737},{"$f":"IF(B245<XRON,'constant L'!F245,YOM)","v":1.9594339409495878}]
[null,206,{"$f":"IF(B246<XRON,'constant L'!C246,X)","v":2.6280496594085938},{"$f":"IF(B246<XRON,'constant L'!D246,Y)","v":0.29610899190842949},{"$f":"IF(B246<XRON,'constant L'!E246,XOM)","v":-1.7762162532927737},{"$f":"IF(B246<XRON,'constant L'!F246,YOM)","v":1.9594339409495878}]
[null,207,{"$f":"IF(B247<XRON,'constant L'!C247,X)","v":2.6280496594085938},{"$f":"IF(B247<XRON,'constant L'!D247,Y)","v":0.29610899190842949},{"$f":"IF(B247<XRON,'constant L'!E247,XOM)","v":-1.7762162532927737},{"$f":"IF(B247<XRON,'constant L'!F247,YOM)","v":1.9594339409495878}]
[null,208,{"$f":"IF(B248<XRON,'constant L'!C248,X)","v":2.6280496594085938},{"$f":"IF(B248<XRON,'constant L'!D248,Y)","v":0.29610899190842949},{"$f":"IF(B248<XRON,'constant L'!E248,XOM)","v":-1.7762162532927737},{"$f":"IF(B248<XRON,'constant L'!F248,YOM)","v":1.9594339409495878}]
[null,209,{"$f":"IF(B249<XRON,'constant L'!C249,X)","v":2.6280496594085938},{"$f":"IF(B249<XRON,'constant L'!D249,Y)","v":0.29610899190842949},{"$f":"IF(B249<XRON,'constant L'!E249,XOM)","v":-1.7762162532927737},{"$f":"IF(B249<XRON,'constant L'!F249,YOM)","v":1.9594339409495878}]
[null,210,{"$f":"IF(B250<XRON,'constant L'!C250,X)","v":2.6280496594085938},{"$f":"IF(B250<XRON,'constant L'!D250,Y)","v":0.29610899190842949},{"$f":"IF(B250<XRON,'constant L'!E250,XOM)","v":-1.7762162532927737},{"$f":"IF(B250<XRON,'constant L'!F250,YOM)","v":1.9594339409495878}]
[null,211,{"$f":"IF(B251<XRON,'constant L'!C251,X)","v":2.6280496594085938},{"$f":"IF(B251<XRON,'constant L'!D251,Y)","v":0.29610899190842949},{"$f":"IF(B251<XRON,'constant L'!E251,XOM)","v":-1.7762162532927737},{"$f":"IF(B251<XRON,'constant L'!F251,YOM)","v":1.9594339409495878}]
[null,212,{"$f":"IF(B252<XRON,'constant L'!C252,X)","v":2.6280496594085938},{"$f":"IF(B252<XRON,'constant L'!D252,Y)","v":0.29610899190842949},{"$f":"IF(B252<XRON,'constant L'!E252,XOM)","v":-1.7762162532927737},{"$f":"IF(B252<XRON,'constant L'!F252,YOM)","v":1.9594339409495878}]
[null,213,{"$f":"IF(B253<XRON,'constant L'!C253,X)","v":2.6280496594085938},{"$f":"IF(B253<XRON,'constant L'!D253,Y)","v":0.29610899190842949},{"$f":"IF(B253<XRON,'constant L'!E253,XOM)","v":-1.7762162532927737},{"$f":"IF(B253<XRON,'constant L'!F253,YOM)","v":1.9594339409495878}]
[null,214,{"$f":"IF(B254<XRON,'constant L'!C254,X)","v":2.6280496594085938},{"$f":"IF(B254<XRON,'constant L'!D254,Y)","v":0.29610899190842949},{"$f":"IF(B254<XRON,'constant L'!E254,XOM)","v":-1.7762162532927737},{"$f":"IF(B254<XRON,'constant L'!F254,YOM)","v":1.9594339409495878}]
[null,215,{"$f":"IF(B255<XRON,'constant L'!C255,X)","v":2.6280496594085938},{"$f":"IF(B255<XRON,'constant L'!D255,Y)","v":0.29610899190842949},{"$f":"IF(B255<XRON,'constant L'!E255,XOM)","v":-1.7762162532927737},{"$f":"IF(B255<XRON,'constant L'!F255,YOM)","v":1.9594339409495878}]
[null,216,{"$f":"IF(B256<XRON,'constant L'!C256,X)","v":2.6280496594085938},{"$f":"IF(B256<XRON,'constant L'!D256,Y)","v":0.29610899190842949},{"$f":"IF(B256<XRON,'constant L'!E256,XOM)","v":-1.7762162532927737},{"$f":"IF(B256<XRON,'constant L'!F256,YOM)","v":1.9594339409495878}]
[null,217,{"$f":"IF(B257<XRON,'constant L'!C257,X)","v":2.6280496594085938},{"$f":"IF(B257<XRON,'constant L'!D257,Y)","v":0.29610899190842949},{"$f":"IF(B257<XRON,'constant L'!E257,XOM)","v":-1.7762162532927737},{"$f":"IF(B257<XRON,'constant L'!F257,YOM)","v":1.9594339409495878}]
[null,218,{"$f":"IF(B258<XRON,'constant L'!C258,X)","v":2.6280496594085938},{"$f":"IF(B258<XRON,'constant L'!D258,Y)","v":0.29610899190842949},{"$f":"IF(B258<XRON,'constant L'!E258,XOM)","v":-1.7762162532927737},{"$f":"IF(B258<XRON,'constant L'!F258,YOM)","v":1.9594339409495878}]
[null,219,{"$f":"IF(B259<XRON,'constant L'!C259,X)","v":2.6280496594085938},{"$f":"IF(B259<XRON,'constant L'!D259,Y)","v":0.29610899190842949},{"$f":"IF(B259<XRON,'constant L'!E259,XOM)","v":-1.7762162532927737},{"$f":"IF(B259<XRON,'constant L'!F259,YOM)","v":1.9594339409495878}]
[null,220,{"$f":"IF(B260<XRON,'constant L'!C260,X)","v":2.6280496594085938},{"$f":"IF(B260<XRON,'constant L'!D260,Y)","v":0.29610899190842949},{"$f":"IF(B260<XRON,'constant L'!E260,XOM)","v":-1.7762162532927737},{"$f":"IF(B260<XRON,'constant L'!F260,YOM)","v":1.9594339409495878}]
[null,221,{"$f":"IF(B261<XRON,'constant L'!C261,X)","v":2.6280496594085938},{"$f":"IF(B261<XRON,'constant L'!D261,Y)","v":0.29610899190842949},{"$f":"IF(B261<XRON,'constant L'!E261,XOM)","v":-1.7762162532927737},{"$f":"IF(B261<XRON,'constant L'!F261,YOM)","v":1.9594339409495878}]
[null,222,{"$f":"IF(B262<XRON,'constant L'!C262,X)","v":2.6280496594085938},{"$f":"IF(B262<XRON,'constant L'!D262,Y)","v":0.29610899190842949},{"$f":"IF(B262<XRON,'constant L'!E262,XOM)","v":-1.7762162532927737},{"$f":"IF(B262<XRON,'constant L'!F262,YOM)","v":1.9594339409495878}]
[null,223,{"$f":"IF(B263<XRON,'constant L'!C263,X)","v":2.6280496594085938},{"$f":"IF(B263<XRON,'constant L'!D263,Y)","v":0.29610899190842949},{"$f":"IF(B263<XRON,'constant L'!E263,XOM)","v":-1.7762162532927737},{"$f":"IF(B263<XRON,'constant L'!F263,YOM)","v":1.9594339409495878}]
[null,224,{"$f":"IF(B264<XRON,'constant L'!C264,X)","v":2.6280496594085938},{"$f":"IF(B264<XRON,'constant L'!D264,Y)","v":0.29610899190842949},{"$f":"IF(B264<XRON,'constant L'!E264,XOM)","v":-1.7762162532927737},{"$f":"IF(B264<XRON,'constant L'!F264,YOM)","v":1.9594339409495878}]
[null,225,{"$f":"IF(B265<XRON,'constant L'!C265,X)","v":2.6280496594085938},{"$f":"IF(B265<XRON,'constant L'!D265,Y)","v":0.29610899190842949},{"$f":"IF(B265<XRON,'constant L'!E265,XOM)","v":-1.7762162532927737},{"$f":"IF(B265<XRON,'constant L'!F265,YOM)","v":1.9594339409495878}]
[null,226,{"$f":"IF(B266<XRON,'constant L'!C266,X)","v":2.6280496594085938},{"$f":"IF(B266<XRON,'constant L'!D266,Y)","v":0.29610899190842949},{"$f":"IF(B266<XRON,'constant L'!E266,XOM)","v":-1.7762162532927737},{"$f":"IF(B266<XRON,'constant L'!F266,YOM)","v":1.9594339409495878}]
[null,227,{"$f":"IF(B267<XRON,'constant L'!C267,X)","v":2.6280496594085938},{"$f":"IF(B267<XRON,'constant L'!D267,Y)","v":0.29610899190842949},{"$f":"IF(B267<XRON,'constant L'!E267,XOM)","v":-1.7762162532927737},{"$f":"IF(B267<XRON,'constant L'!F267,YOM)","v":1.9594339409495878}]
[null,228,{"$f":"IF(B268<XRON,'constant L'!C268,X)","v":2.6280496594085938},{"$f":"IF(B268<XRON,'constant L'!D268,Y)","v":0.29610899190842949},{"$f":"IF(B268<XRON,'constant L'!E268,XOM)","v":-1.7762162532927737},{"$f":"IF(B268<XRON,'constant L'!F268,YOM)","v":1.9594339409495878}]
[null,229,{"$f":"IF(B269<XRON,'constant L'!C269,X)","v":2.6280496594085938},{"$f":"IF(B269<XRON,'constant L'!D269,Y)","v":0.29610899190842949},{"$f":"IF(B269<XRON,'constant L'!E269,XOM)","v":-1.7762162532927737},{"$f":"IF(B269<XRON,'constant L'!F269,YOM)","v":1.9594339409495878}]
[null,230,{"$f":"IF(B270<XRON,'constant L'!C270,X)","v":2.6280496594085938},{"$f":"IF(B270<XRON,'constant L'!D270,Y)","v":0.29610899190842949},{"$f":"IF(B270<XRON,'constant L'!E270,XOM)","v":-1.7762162532927737},{"$f":"IF(B270<XRON,'constant L'!F270,YOM)","v":1.9594339409495878}]
[null,231,{"$f":"IF(B271<XRON,'constant L'!C271,X)","v":2.6280496594085938},{"$f":"IF(B271<XRON,'constant L'!D271,Y)","v":0.29610899190842949},{"$f":"IF(B271<XRON,'constant L'!E271,XOM)","v":-1.7762162532927737},{"$f":"IF(B271<XRON,'constant L'!F271,YOM)","v":1.9594339409495878}]
[null,232,{"$f":"IF(B272<XRON,'constant L'!C272,X)","v":2.6280496594085938},{"$f":"IF(B272<XRON,'constant L'!D272,Y)","v":0.29610899190842949},{"$f":"IF(B272<XRON,'constant L'!E272,XOM)","v":-1.7762162532927737},{"$f":"IF(B272<XRON,'constant L'!F272,YOM)","v":1.9594339409495878}]
[null,233,{"$f":"IF(B273<XRON,'constant L'!C273,X)","v":2.6280496594085938},{"$f":"IF(B273<XRON,'constant L'!D273,Y)","v":0.29610899190842949},{"$f":"IF(B273<XRON,'constant L'!E273,XOM)","v":-1.7762162532927737},{"$f":"IF(B273<XRON,'constant L'!F273,YOM)","v":1.9594339409495878}]
[null,234,{"$f":"IF(B274<XRON,'constant L'!C274,X)","v":2.6280496594085938},{"$f":"IF(B274<XRON,'constant L'!D274,Y)","v":0.29610899190842949},{"$f":"IF(B274<XRON,'constant L'!E274,XOM)","v":-1.7762162532927737},{"$f":"IF(B274<XRON,'constant L'!F274,YOM)","v":1.9594339409495878}]
[null,235,{"$f":"IF(B275<XRON,'constant L'!C275,X)","v":2.6280496594085938},{"$f":"IF(B275<XRON,'constant L'!D275,Y)","v":0.29610899190842949},{"$f":"IF(B275<XRON,'constant L'!E275,XOM)","v":-1.7762162532927737},{"$f":"IF(B275<XRON,'constant L'!F275,YOM)","v":1.9594339409495878}]
[null,236,{"$f":"IF(B276<XRON,'constant L'!C276,X)","v":2.6280496594085938},{"$f":"IF(B276<XRON,'constant L'!D276,Y)","v":0.29610899190842949},{"$f":"IF(B276<XRON,'constant L'!E276,XOM)","v":-1.7762162532927737},{"$f":"IF(B276<XRON,'constant L'!F276,YOM)","v":1.9594339409495878}]
[null,237,{"$f":"IF(B277<XRON,'constant L'!C277,X)","v":2.6280496594085938},{"$f":"IF(B277<XRON,'constant L'!D277,Y)","v":0.29610899190842949},{"$f":"IF(B277<XRON,'constant L'!E277,XOM)","v":-1.7762162532927737},{"$f":"IF(B277<XRON,'constant L'!F277,YOM)","v":1.9594339409495878}]
[null,238,{"$f":"IF(B278<XRON,'constant L'!C278,X)","v":2.6280496594085938},{"$f":"IF(B278<XRON,'constant L'!D278,Y)","v":0.29610899190842949},{"$f":"IF(B278<XRON,'constant L'!E278,XOM)","v":-1.7762162532927737},{"$f":"IF(B278<XRON,'constant L'!F278,YOM)","v":1.9594339409495878}]
[null,239,{"$f":"IF(B279<XRON,'constant L'!C279,X)","v":2.6280496594085938},{"$f":"IF(B279<XRON,'constant L'!D279,Y)","v":0.29610899190842949},{"$f":"IF(B279<XRON,'constant L'!E279,XOM)","v":-1.7762162532927737},{"$f":"IF(B279<XRON,'constant L'!F279,YOM)","v":1.9594339409495878}]
[null,240,{"$f":"IF(B280<XRON,'constant L'!C280,X)","v":2.6280496594085938},{"$f":"IF(B280<XRON,'constant L'!D280,Y)","v":0.29610899190842949},{"$f":"IF(B280<XRON,'constant L'!E280,XOM)","v":-1.7762162532927737},{"$f":"IF(B280<XRON,'constant L'!F280,YOM)","v":1.9594339409495878}]
[null,241,{"$f":"IF(B281<XRON,'constant L'!C281,X)","v":2.6280496594085938},{"$f":"IF(B281<XRON,'constant L'!D281,Y)","v":0.29610899190842949},{"$f":"IF(B281<XRON,'constant L'!E281,XOM)","v":-1.7762162532927737},{"$f":"IF(B281<XRON,'constant L'!F281,YOM)","v":1.9594339409495878}]
[null,242,{"$f":"IF(B282<XRON,'constant L'!C282,X)","v":2.6280496594085938},{"$f":"IF(B282<XRON,'constant L'!D282,Y)","v":0.29610899190842949},{"$f":"IF(B282<XRON,'constant L'!E282,XOM)","v":-1.7762162532927737},{"$f":"IF(B282<XRON,'constant L'!F282,YOM)","v":1.9594339409495878}]
[null,243,{"$f":"IF(B283<XRON,'constant L'!C283,X)","v":2.6280496594085938},{"$f":"IF(B283<XRON,'constant L'!D283,Y)","v":0.29610899190842949},{"$f":"IF(B283<XRON,'constant L'!E283,XOM)","v":-1.7762162532927737},{"$f":"IF(B283<XRON,'constant L'!F283,YOM)","v":1.9594339409495878}]
[null,244,{"$f":"IF(B284<XRON,'constant L'!C284,X)","v":2.6280496594085938},{"$f":"IF(B284<XRON,'constant L'!D284,Y)","v":0.29610899190842949},{"$f":"IF(B284<XRON,'constant L'!E284,XOM)","v":-1.7762162532927737},{"$f":"IF(B284<XRON,'constant L'!F284,YOM)","v":1.9594339409495878}]
[null,245,{"$f":"IF(B285<XRON,'constant L'!C285,X)","v":2.6280496594085938},{"$f":"IF(B285<XRON,'constant L'!D285,Y)","v":0.29610899190842949},{"$f":"IF(B285<XRON,'constant L'!E285,XOM)","v":-1.7762162532927737},{"$f":"IF(B285<XRON,'constant L'!F285,YOM)","v":1.9594339409495878}]
[null,246,{"$f":"IF(B286<XRON,'constant L'!C286,X)","v":2.6280496594085938},{"$f":"IF(B286<XRON,'constant L'!D286,Y)","v":0.29610899190842949},{"$f":"IF(B286<XRON,'constant L'!E286,XOM)","v":-1.7762162532927737},{"$f":"IF(B286<XRON,'constant L'!F286,YOM)","v":1.9594339409495878}]
[null,247,{"$f":"IF(B287<XRON,'constant L'!C287,X)","v":2.6280496594085938},{"$f":"IF(B287<XRON,'constant L'!D287,Y)","v":0.29610899190842949},{"$f":"IF(B287<XRON,'constant L'!E287,XOM)","v":-1.7762162532927737},{"$f":"IF(B287<XRON,'constant L'!F287,YOM)","v":1.9594339409495878}]
[null,248,{"$f":"IF(B288<XRON,'constant L'!C288,X)","v":2.6280496594085938},{"$f":"IF(B288<XRON,'constant L'!D288,Y)","v":0.29610899190842949},{"$f":"IF(B288<XRON,'constant L'!E288,XOM)","v":-1.7762162532927737},{"$f":"IF(B288<XRON,'constant L'!F288,YOM)","v":1.9594339409495878}]
[null,249,{"$f":"IF(B289<XRON,'constant L'!C289,X)","v":2.6280496594085938},{"$f":"IF(B289<XRON,'constant L'!D289,Y)","v":0.29610899190842949},{"$f":"IF(B289<XRON,'constant L'!E289,XOM)","v":-1.7762162532927737},{"$f":"IF(B289<XRON,'constant L'!F289,YOM)","v":1.9594339409495878}]
[null,250,{"$f":"IF(B290<XRON,'constant L'!C290,X)","v":2.6280496594085938},{"$f":"IF(B290<XRON,'constant L'!D290,Y)","v":0.29610899190842949},{"$f":"IF(B290<XRON,'constant L'!E290,XOM)","v":-1.7762162532927737},{"$f":"IF(B290<XRON,'constant L'!F290,YOM)","v":1.9594339409495878}]